{"text_format":"1","workbook":"xlsx","n_sheets":33,"sheets":["DATA","INHOUD","KELD1","DAK1","DAK2","DAK3","VAK1","HEK1","HSB1","S1","RAV1","RAV2","B1","S3","WA","EC5 8.11.2.2 Tandverbinding+VEd","VOORBEELD","VOORBEELD_XML","XML-FILES","S3_XML","WA_XML","RAV1_XML","RAV2_XML","B1_XML","HSB1_XML","HEK1_XML","KELD1_XML","DAK1_XML","DAK2_XML","DAK3_XML","DAK6_XML","VAK1_XML","S1_XML"],"not_rendered":{"charts":0,"images":28,"macros":1,"external_links":2,"defined_names":3,"comments":0,"pivot_tables":0},"unopened":[],"bounds":{"document_bytes":16777216,"sheet_cells":100000,"rows_first":2000,"rows_last":500,"rows_between":2000,"halvings":0,"cell_chars":16384,"cell_head_chars":4096},"cells_cut":0,"cells_raw":0,"read":"whole","date_system":"1900"}

{"sheet":"DATA","index":0,"n_rows":98,"n_cols":38,"rows_kept":98,"cut":false,"hidden":false,"merged":[[69,1,69,8]]}
[null,2,3,4,5,6,7,8,9,10,15,20,25,30,35,40,45,50,55,60,65,70,75,80,85,90,95,100,110,120,130,140,150,160,170,180,190,200]
["1 kust",1.1100000000000001,1.22,1.3,1.37,1.42,1.47,1.51,1.55,1.58,1.71,1.8,1.88,1.94,2,2.04,2.09,2.12,2.16,2.19,2.2200000000000002,2.25,2.27,2.2999999999999998,2.3199999999999998,2.34,2.36,2.38,2.42,2.4500000000000002,2.48,2.5099999999999998,2.54,2.56,2.59,2.61,2.63,2.65]
["1 onbebouwd",0.71,0.71,0.71,0.78,0.84,0.89,0.94,0.98,1.02,1.1599999999999999,1.27,1.36,1.43,1.5,1.55,1.6,1.65,1.69,1.73,1.76,1.8,1.83,1.86,1.88,1.91,1.9300000000000002,1.96,2,2.04,2.08,2.12,2.15,2.1800000000000002,2.21,2.2400000000000002,2.27,2.29]
["1 bebouwd",0.69,0.69,0.69,0.69,0.69,0.69,0.73,0.77,0.81,0.96,1.07,1.1599999999999999,1.23,1.3,1.35,1.4,1.45,1.49,1.53,1.57,1.6,1.63,1.66,1.69,1.72,1.74,1.77,1.81,1.85,1.89,1.9300000000000002,1.96,2,2.0299999999999998,2.06,2.08,2.11]
["2 kust",0.93,1.02,1.0900000000000001,1.1400000000000001,1.19,1.23,1.26,1.29,1.32,1.43,1.51,1.57,1.63,1.67,1.71,1.75,1.78,1.81,1.83,1.86,1.88,1.9,1.92,1.94,1.96,1.98,1.99,2.0299999999999998,2.0499999999999998,2.08,2.1,2.13,2.15,2.17,2.19,2.2000000000000002,2.2200000000000002]
["2 onbebouwd",0.60000000000000009,0.60000000000000009,0.60000000000000009,0.66,0.71,0.75,0.79,0.82,0.85,0.98,1.07,1.1400000000000001,1.2,1.25,1.3,1.34,1.38,1.42,1.45,1.48,1.5,1.53,1.55,1.58,1.6,1.62,1.64,1.6800000000000002,1.71,1.74,1.77,1.8,1.83,1.85,1.88,1.9,1.92]
["2 bebouwd",0.57999999999999996,0.57999999999999996,0.57999999999999996,0.57999999999999996,0.57999999999999996,0.57999999999999996,0.62,0.65,0.68,0.8,0.9,0.97,1.03,1.0900000000000001,1.1299999999999999,1.17,1.21,1.25,1.28,1.31,1.34,1.37,1.39,1.42,1.44,1.46,1.48,1.52,1.55,1.59,1.62,1.65,1.67,1.7000000000000002,1.72,1.75,1.77]
["3 onbebouwd",0.49,0.49,0.49,0.54,0.57999999999999996,0.62,0.65,0.68,0.7,0.8,0.88,0.94,0.99,1.03,1.07,1.1100000000000001,1.1400000000000001,1.17,1.19,1.22,1.24,1.26,1.28,1.3,1.32,1.33,1.35,1.38,1.41,1.44,1.46,1.48,1.5,1.52,1.54,1.56,1.58]
["3 bebouwd",0.48,0.48,0.48,0.48,0.48,0.48,0.51,0.53,0.56000000000000005,0.66,0.74,0.8,0.85,0.89,0.93,0.97,1,1.03,1.05,1.08,1.1000000000000001,1.1299999999999999,1.1499999999999999,1.17,1.18,1.2,1.22,1.25,1.28,1.31,1.33,1.35,1.38,1.4,1.42,1.44,1.46]
[null,{"$f":"B1","v":2},3,4,5,6,7,8,9,10,15,20,25,30,35,40,45,50,55,60,65,70,75,80,85,90,95,100,110,120,130,140,150,160,170,180,190,200]
[{"$f":"INHOUD!C16","v":"2 bebouwd"},{"$f":"IF($A$11=$A$2,B2,0)+IF($A$11=$A$3,B3,0)+IF($A$11=$A$4,B4,0)+IF($A$11=$A$5,B5,0)+IF($A$11=$A$6,B6,0)+IF($A$11=$A$7,B7,0)+IF($A$11=$A$8,B8,0)+IF($A$11=$A$9,B9,0)","v":0.57999999999999996},{"$f":"IF($A$11=$A$2,C2,0)+IF($A$11=$A$3,C3,0)+IF($A$11=$A$4,C4,0)+IF($A$11=$A$5,C5,0)+IF($A$11=$A$6,C6,0)+IF($A$11=$A$7,C7,0)+IF($A$11=$A$8,C8,0)+IF($A$11=$A$9,C9,0)","v":0.57999999999999996},0.57999999999999996,0.57999999999999996,0.57999999999999996,0.57999999999999996,0.62,0.65,0.68,0.8,0.9,0.97,1.03,1.0900000000000001,1.1299999999999999,1.17,1.21,1.25,1.28,1.31,1.34,1.37,1.39,1.42,1.44,1.46,1.48,1.52,1.55,1.59,1.62,1.65,1.67,1.7000000000000002,1.72,1.75,1.77]
["interpoleren",{"$f":"(($B$13-B10)/(C10-B10))*(C11-B11)+B11","v":0.57999999999999996},0.57999999999999996,0.57999999999999996,0.57999999999999996,0.57999999999999996,0.78000000000000014,0.7400000000000001,0.7400000000000001,{"$f":"(($B$13-J10)/(K10-J10))*(K11-J11)+J11","v":0.72800000000000009},{"$f":"(($B$13-K10)/(L10-K10))*(L11-K11)+K11","v":0.7400000000000001},{"$f":"(($B$13-L10)/(M10-L10))*(M11-L11)+L11","v":0.78800000000000003},0.81399999999999983,0.81399999999999983,0.90600000000000092,0.90599999999999969,0.90599999999999969,0.90599999999999969,0.99199999999999977,0.99199999999999977,0.99199999999999977,0.99199999999999977,1.1180000000000028,0.98199999999999954,1.1279999999999997,1.1279999999999997,1.1279999999999997,1.1279999999999997,1.2259999999999998,1.1179999999999997,1.2359999999999998,1.2360000000000027,1.3739999999999997,1.2259999999999962,1.3840000000000034,1.2159999999999995,1.3939999999999997,0.10620000000000007]
["Hoogte",{"$f":"INHOUD!C17","v":12},"[m]"]
["qp",{"$f":"HLOOKUP(B13,A10:AL12,3)","v":0.72800000000000009},"[kN/m2]"]
[]
[]
[]
[null,null,null,"klimaatklasse"]
[null,null,"Type belasting","I","II","III"]
[null,"eigen gewicht","1 Blijvend",0.60000000000000009,0.60000000000000009,0.5,{"$f":"HLOOKUP('EC5 8.11.2.2 Tandverbinding+VEd'!B16,D19:F24,2)","v":0.60000000000000009}]
[null,"opslag","2 Lang",0.7,0.7,0.55000000000000004,{"$f":"HLOOKUP('EC5 8.11.2.2 Tandverbinding+VEd'!B16,D19:F24,3)","v":0.7}]
[null,"opgelegde vloerbelasting","3 Middellang",0.8,0.8,0.65,{"$f":"HLOOKUP('EC5 8.11.2.2 Tandverbinding+VEd'!B16,D19:F24,4)","v":0.8}]
[null,"wind, sneeuw","4 Kort",0.9,0.9,0.7,{"$f":"HLOOKUP('EC5 8.11.2.2 Tandverbinding+VEd'!B16,D19:F24,5)","v":0.9}]
[null,"bijzondere belasting","5 Zeer Kort",1.1000000000000001,1.1000000000000001,0.9,{"$f":"HLOOKUP('EC5 8.11.2.2 Tandverbinding+VEd'!B16,D19:F24,6)","v":1.1000000000000001}]
[]
[]
[]
[]
[null,null,"kdef "]
[null,null,"Klimaatklasse",null,"I","II","III"]
[null,null,"gezaagd hout",null,0.60000000000000009,0.8,2]
[null,null,null,null,0.60000000000000009,0.8,2]
[null,null,"Multiplex","deel 1",0.8,"-","-"]
[null,null,null,"deel 2",0.8,1,"-"]
[null,null,null,"deel 3",0.8,1,2.5]
[null,null,"OSB","EN300"]
[null,null,null,"OSB/2",2.25,"-","-"]
[null,null,null,"OSB/3,OSB/4",1.5,2.25,"-"]
[]
[null,null,"Sterkteklassen voor gezaagd populieren en naaldhout"]
[null,"Grootheid",null,"Symbool","C14","C16","C18","C20","C22","C24","C27","C30","C35"]
[null,"buigsterkte",null,"fm;0;k",14,16,18,20,22,24,27,30,35]
[null,"volumieke massa",null,"ρk",2.9,3.1,3,3.3,3.4,3.5,3.7,3.8,4]
[null,"treksterkte(evenw)",null,"ft;0;k",8,10,11,12,13,14,16,18,21]
[null,"treksterkte(loodr)",null,"ft;90;k",0.4,0.5,0.5,0.5,0.5,0.5,0.6,0.6,0.6]
[null,"druksterkte(evenw)",null,"fc;0;k",16,17,18,19,20,21,22,23,25]
[null,"druksterke(loodr)",null,"fc;90;k",2,2.2000000000000002,2.2000000000000002,2.2999999999999998,2.4,2.5,2.6,2.7,2.8]
[null,"schuifsterkte",null,"fv;0;k",1.7,1.8,2,2.2000000000000002,2.4,2.5,2.8,3,3.4]
[null,"E-modulus in UGT",null,"E0;u;k",4700,5400,6000,6400,6700,7400,7700,8000,8700]
[null,"E-modulus in BGT",null,"E0;mean",7000,8000,9000,9500,10000,11000,11500,12000,13000]
[null,"E-moludus (loodr)",null,"E90;mean",230,270,300,320,330,370,380,400,430]
[null,"afschuivingsmod",null,"Gmean",440,500,560,590,630,690,720,750,810]
[]
[null,"Constructiegevolgklasse"]
[null,"CC1"]
[null,"CC2"]
[null,"CC3"]
[]
[null,"Windgebied"]
[null,"1 kust"]
[null,"1 onbebouwd"]
[null,"1 bebouwd"]
[null,"2 kust"]
[null,"2 onbebouwd"]
[null,"2 bebouwd"]
[null,"3 onbebouwd"]
[null,"3 bebouwd"]
[]
[]
[null,"Moments of Inertia of SAB Roofsheets in mm4/mm1"]
[null,"Type","t = 0.63 mm","t = 0.75 mm","t = 0.88 mm","t = 1.00 mm","t = 1.13 mm","t = 1.25 mm","t = 1.50 mm"]
[null,"SAB18/988",25,30,36,41]
[null,"SAB27/1000",59,71,85,97]
[null,"SAB42/960",178,221,252]
[null,"SAB19/1050",37,46,55,63]
[null,"SAB30/1100",52,66,82,98]
[null,"SAB35/1035",94,120,149,176]
[null,"SAB40/915",139,176,219,260]
[null,"SAB45/900",228,288,355,420]
[null,"SAB50/1000",184,232,288,342]
[null,"SAB19KD/1050",38,46,55,63]
[null,"SAB30KD/1050",77,98,122,142]
[null,"SAB45KD/1000",130,162,192,219]
[null,"SAB58KD/945",197,285,360,429]
[null,"SAB35R/1035",null,158,192,224,null,282]
[null,"SAB40R/915",null,248,293,335,null,423]
[null,"SAB50R/1000",null,314,383,448,null,579]
[null,"SAB70R/800",null,796,972,1118,null,1410]
[null,"SAB85R/1120",null,849,1038,1217,1416,1572,1897]
[null,"SAB89R/915",null,1078,1289,1479,1679,1864]
[null,"SAB100R/825",null,1488,1760,2012,null,2536]
[null,"SAB106R+/750",null,1866,2198,2503,null,3144]
[null,"SAB110R/1000",null,1484,1796,2084]
[null,"SAB135R/930",null,3230,3540,3830,4350,4830,5830]
[null,"SAB153R/840",null,3750,4340,4890,5560,6170,7440]
[null,"SAB158R/750",null,4760,5360,5910,6710,7450,8990]
[null,"SAB200R/750",null,7723,9015,10189,12114,13891,16761]
[null,"SAB200R/840",null,6460,7728,8916,10221,11439,14014]

{"sheet":"INHOUD","index":1,"n_rows":29,"n_cols":4,"rows_kept":29,"cut":false,"hidden":false,"merged":[[20,0,22,5]]}
[]
[]
[]
[]
[]
[]
["XSpreadsheets BETA 1"]
["Versiedatum XSpreadsheets",null,null,"2024-06-20"]
["Map XML",null,null,"C:\\TEMP\\"]
[]
["Projectgegevens"]
["Projectnumber",null,0]
["Projectname",null,"Test project"]
["Constructiegevolgklasse",null,"CC2"]
["Ontwerplevensduur",null,50,"[jaar]"]
["Windgebied",null,"2 bebouwd"]
["Hoogte",null,12,"[m]"]
["qp",null,{"$f":"DATA!B14","v":0.72800000000000009},"[kN/m2]"]
[]
["Comments"]
["Dit excelbestand bevat een aantal voorbeelden van parametrische constructies in XFrame2D en XFEM4U"]
[]
[]
["Stappenplan"]
[1,"Open het desbetreffende tabblad."]
[2,"Vul de afmetingen van de constructie in."]
[3,"Klik op de knop 'Open in XFrame2D' of 'Open in XFEM4U'. "]
[4,"De constructie wordt in XFrame2D of XFEM4U geopend. "]
[5,"Sla deze op en werk hierin verder en sla dit bestand op."]

{"sheet":"KELD1","index":2,"n_rows":19,"n_cols":18,"rows_kept":19,"cut":false,"hidden":false,"merged":[[4,0,6,4]]}
[]
[]
[]
["Kelder"]
[null,null,null,null,null,null,null,"Geometrie",null,null,null,null,null,null,null,null,null,"Calculated values"]
[null,null,null,null,null,null,null,"Hoogte kelder",3500,"[mm]",null,null,null,null,null,null,null,{"$f":"Xval(I8)","v":"<X>8000</X>"}]
[null,null,null,null,null,null,null,"Breedte kelder",3500,"[mm]",null,null,null,null,null,null,null,{"$f":"Yval(I7)","v":"<Y>3500</Y>"}]
[null,null,null,null,null,null,null,"Lengte kelder",8000,"[mm]",null,null,null,null,null,null,null,{"$f":"Zval(I6)","v":"<Z>3500</Z>"}]
[null,null,null,null,null,null,null,null,null,null,null,null,null,null,null,null,null,{"$f":"S4U(\"Material\",I14)","v":"<Material>C30/37</Material>"}]
[null,null,null,null,null,null,null,null,null,null,null,null,null,null,null,null,null,{"$f":"S4U(\"h\",I12)","v":"<h>500</h>"}]
[null,null,null,null,null,null,null,"Doorsnede eigenschappen",null,null,null,null,null,null,null,null,null,{"$f":"S4U(\"h\",I13)","v":"<h>200</h>"}]
[null,null,null,null,null,null,null,"Vloerdikte",500,"[mm]",null,null,null,null,null,null,null,{"$f":"\"<X> 0 \" & I8 & \"</X>\"","v":"<X> 0 8000</X>"}]
[null,null,null,null,null,null,null,"Wanddikte",200,"[mm]",null,null,null,null,null,null,null,{"$f":"\"<Y> 0 \" & I7 & \"</Y>\"","v":"<Y> 0 3500</Y>"}]
[null,null,null,null,null,null,null,"Betonkwaliteit","C30/37",null,null,null,null,null,null,null,null,{"$f":"S4U(\"NodeX\",I8)","v":"<NodeX>8000</NodeX>"}]
[null,null,null,null,null,null,null,null,null,null,null,null,null,null,null,null,null,{"$f":"S4U(\"NodeY\",I7)","v":"<NodeY>3500</NodeY>"}]
[null,null,null,null,null,null,null,"Belastingen",null,null,null,null,null,null,null,null,null,{"$f":"S4U(\"q1\",-I18)","v":"<q1>-15</q1>"}]
[null,null,null,null,null,null,null,"Waterhoogte vanaf onderzijde",1500,"[mm]",null,null,null,null,null,null,null,{"$f":"S4U(\"q2\",0)","v":"<q2>0</q2>"}]
[null,null,null,null,null,null,null,"Waterdruk",{"$f":"I17/100","v":15},"[kN/m2]",null,null,null,null,null,null,null,{"$f":"S4U(\"q3\",0)","v":"<q3>0</q3>"}]
[null,null,null,null,null,null,null,null,null,null,null,null,null,null,null,null,null,{"$f":"S4U(\"NodeZ\",I17)","v":"<NodeZ>1500</NodeZ>"}]

{"sheet":"DAK1","index":3,"n_rows":22,"n_cols":18,"rows_kept":22,"cut":false,"hidden":false,"merged":[[4,0,6,4]]}
[]
[]
[]
["Sporenkap met borstwering",null,null,null,null,null,null,null,null,null,null,null,null,null,null,"Calculated values"]
[null,null,null,null,null,"Geometrie"]
[null,null,null,null,null,"Totale breedte",7000,"[mm]",null,null,null,null,null,null,null,"Roof height",{"$f":"G7-G9","v":4500},"[mm]"]
[null,null,null,null,null,"Totale hoogte",6000,"[mm]",null,null,null,null,null,null,null,"Roof half width",{"$f":"G6/2","v":3500},"[mm]"]
[null,null,null,null,null,"Hoogte vliering",2600,"[mm]",null,null,null,null,null,null,null,"Roof pitch",{"$f":"DEGREES(ATAN(Q6/Q7))","v":52.125016348901802},"[o]"]
[null,null,null,null,null,"Goothoogte",1500,"[mm]",null,null,null,null,null,null,null,"Length Roof Beam",{"$f":"_xlfn.FLOOR.MATH(SQRT(Q6*Q6+Q7*Q7))","v":5700},"[mm]"]
[null,null,null,null,null,"Hoh-afstand",610,"[mm]"]
[]
[null,null,null,null,null,"Doorsnede eigenschappen",null,null,null,null,null,null,null,null,null,"Relative Z floorbeam",{"$f":"G8-G9","v":1100},"[mm]"]
[null,null,null,null,null,"Breedte balk",38,"[mm]",null,null,null,null,null,null,null,"X start floorbeam",{"$f":"_xlfn.FLOOR.MATH(Q12/TAN(RADIANS(Q8)))","v":855},"[mm]"]
[null,null,null,null,null,"Hoogte balk",245,"[mm]",null,null,null,null,null,null,null,"Z start floorbeam",{"$f":"G8","v":2600},"[mm]"]
[null,null,null,null,null,"Houtkwaliteit","C24"]
[null,null,null,null,null,null,null,null,null,null,null,null,null,null,null,"X end floorbeam",{"$f":"G6-Q13","v":6145},"[mm]"]
[null,null,null,null,null,"Belastingen",null,null,null,null,null,null,null,null,null,"Z end floorbeam",{"$f":"G8","v":2600},"[mm]"]
[null,null,null,null,null,"Eigen gewicht dak",0.67,"[kN/m2]",null,null,null,null,null,null,null,"Length floorbeam",{"$f":"Q16-Q13","v":5290},"[mm]"]
[null,null,null,null,null,"Eigen gewicht vliering",0.45,"[kN/m2]",null,null,null,null,null,null,null,"String beam",{"$f":"G13 & \" x \" &G14","v":"38 x 245"}]
[]
[null,null,null,null,null,null,null,null,null,null,null,null,null,null,null,null,{"$f":"G18*(G10/1000)","v":0.40870000000000001},"[kN/m1]"]
[null,null,null,null,null,null,null,null,null,null,null,null,null,null,null,null,{"$f":"G19*(G10/1000)","v":0.27450000000000002},"[kN/m1]"]

{"sheet":"DAK2","index":4,"n_rows":22,"n_cols":17,"rows_kept":22,"cut":false,"hidden":false,"merged":[[4,0,6,4]]}
[]
[]
[]
["Sporenkap zonder borstwering",null,null,null,null,null,null,null,null,null,null,null,null,null,"Calculated values"]
[null,null,null,null,null,"Geometrie"]
[null,null,null,null,null,"Totale breedte",6000,"[mm]",null,null,null,null,null,null,"Roof height",{"$f":"G7","v":3500},"[mm]"]
[null,null,null,null,null,"Totale hoogte",3500,"[mm]",null,null,null,null,null,null,"Roof half width",{"$f":"G6/2","v":3000},"[mm]"]
[null,null,null,null,null,"Hoogte vliering",2600,"[mm]",null,null,null,null,null,null,"Roof pitch",{"$f":"DEGREES(ATAN(P6/P7))","v":49.398705354995535},"[o]"]
[null,null,null,null,null,"hoh-afstand",610,"[mm]",null,null,null,null,null,null,"Length Roof Beam",{"$f":"_xlfn.FLOOR.MATH(SQRT(P6*P6+P7*P7))","v":4609},"[mm]"]
[]
[null,null,null,null,null,"Doorsnede eigenschappen"]
[null,null,null,null,null,"Breedte spoor",38,"[mm]",null,null,null,null,null,null,"Relative Z floorbeam",{"$f":"G8","v":2600},"[mm]"]
[null,null,null,null,null,"Hoogte spoor",235,"[mm]",null,null,null,null,null,null,"X start floorbeam",{"$f":"_xlfn.FLOOR.MATH(P12/TAN(RADIANS(P8)))","v":2228},"[mm]"]
[null,null,null,null,null,"Breedte vlieringbalk",38,"[mm]",null,null,null,null,null,null,"Z start floorbeam",{"$f":"G8","v":2600},"[mm]"]
[null,null,null,null,null,"Hoogte vlieringbalk",184,"[mm]"]
[null,null,null,null,null,"Houtkwaliteit","C24",null,null,null,null,null,null,null,"X end floorbeam",{"$f":"G6-P13","v":3772},"[mm]"]
[null,null,null,null,null,null,null,null,null,null,null,null,null,null,"Z end floorbeam",{"$f":"G8","v":2600},"[mm]"]
[null,null,null,null,null,"Belastingen",null,null,null,null,null,null,null,null,"Length floorbeam",{"$f":"P16-P13","v":1544},"[mm]"]
[null,null,null,null,null,"Eigen gewicht dak",0.67,"[kN/m2]",null,null,null,null,null,null,"String beam 1",{"$f":"G12 & \" x \" &G13","v":"38 x 235"}]
[null,null,null,null,null,"Eigen gewicht vliering",0.45,"[kN/m2]",null,null,null,null,null,null,"String beam 2",{"$f":"G14 & \" x \" &G15","v":"38 x 184"}]
[null,null,null,null,null,null,null,null,null,null,null,null,null,null,null,{"$f":"G19*(G9/1000)","v":0.40870000000000001},"[kN/m1]"]
[null,null,null,null,null,null,null,null,null,null,null,null,null,null,null,{"$f":"G20*(G9/1000)","v":0.27450000000000002},"[kN/m1]"]

{"sheet":"DAK3","index":5,"n_rows":25,"n_cols":17,"rows_kept":25,"cut":false,"hidden":false,"merged":[[4,0,6,4]]}
[]
[]
[]
["Gording, gerberaansluiting op dubbele buiging belast"]
[null,null,null,null,null,null,null,"Geometrie",null,null,null,null,null,null,"Calculated values"]
[null,null,null,null,null,null,null,"Hoogte",5000,"[mm]"]
[null,null,null,null,null,null,null,"Breedte",5000,"[mm]",null,null,null,null,{"$f":"Xval(I9)","v":"<X>5000</X>"},{"$f":"Yval(I7*0.5)","v":"<Y>2500</Y>"},{"$f":"Zval(I6*0.5)","v":"<Z>2500</Z>"}]
[null,null,null,null,null,null,null,null,{"$f":"DEGREES(ATAN(I6/I7))","v":45},"[o]",null,null,null,null,{"$f":"Xval(I10+I9)","v":"<X>6000</X>"},{"$f":"Yval(I7)","v":"<Y>5000</Y>"},{"$f":"Zval(I6)","v":"<Z>5000</Z>"}]
[null,null,null,null,null,null,null,"Hoh-afstand",5000,"[mm]",null,null,null,null,{"$f":"Xval(I9*2)","v":"<X>10000</X>"}]
[null,null,null,null,null,null,null,"Afstand gerberknoop",1000,"[mm]",null,null,null,null,{"$f":"Xval(I9*2+I10)","v":"<X>11000</X>"}]
[null,null,null,null,null,null,null,null,null,null,null,null,null,null,{"$f":"Xval(I9*3)","v":"<X>15000</X>"}]
[null,null,null,null,null,null,null,"Doorsnede eigenschappen"]
[null,null,null,null,null,null,null,"Gording ",null,null,null,null,null,null,{"$f":"Xval(\"0 \" & I9 & \" \" & I10 & \" \" & I9-I10 & \" \" & I9)","v":"<X>0 5000 1000 4000 5000</X>"}]
[null,null,null,null,null,null,null,"Breedte",96,"[mm]",null,null,null,null,{"$f":"Yval(\"0 \" & I7)","v":"<Y>0 5000</Y>"}]
[null,null,null,null,null,null,null,"Hoogte",246,"[mm]",null,null,null,null,{"$f":"Zval(\"0 \" & I6)","v":"<Z>0 5000</Z>"}]
[null,null,null,null,null,null,null,"Houtkwaliteit","C24","[mm]"]
[null,null,null,null,null,null,null,"Spant","IPE200","[mm]",null,null,null,null,{"$f":"S4U(\"Profile_name\",I17)","v":"<Profile_name>IPE200</Profile_name>"}]
[null,null,null,null,null,null,null,"Houtkwaliteit","C24","(C18/C24 etc)",null,null,null,null,{"$f":"S4U(\"Profile_name\",I14 & \" x \" &I15)","v":"<Profile_name>96 x 246</Profile_name>"}]
[null,null,null,null,null,null,null,null,null,null,null,null,null,null,{"$f":"S4U(\"Material\",I16)","v":"<Material>C24</Material>"}]
[null,null,null,null,null,null,null,"Belastingen",null,null,null,null,null,null,{"$f":"S4U(\"h\",I15)","v":"<h>246</h>"}]
[null,null,null,null,null,null,null,"G dak",0.72,"[kN/m1]",null,null,null,null,{"$f":"S4U(\"b\",I14)","v":"<b>96</b>"}]
[null,null,null,null,null,null,null,null,null,null,null,null,null,null,{"$f":"S4U(\"NodeX\",I9*3)","v":"<NodeX>15000</NodeX>"}]
[null,null,null,null,null,null,null,null,null,null,null,null,null,null,{"$f":"S4U(\"NodeY\",I7)","v":"<NodeY>5000</NodeY>"}]
[null,null,null,null,null,null,null,null,null,null,null,null,null,null,{"$f":"S4U(\"NodeZ\",I6)","v":"<NodeZ>5000</NodeZ>"}]
[null,null,null,null,null,null,null,null,null,null,null,null,null,null,{"$f":"S4U(\"q1\",-I21)","v":"<q1>-0,72</q1>"}]

{"sheet":"VAK1","index":6,"n_rows":43,"n_cols":28,"rows_kept":43,"cut":false,"hidden":false,"merged":[[4,0,6,4]]}
[null,null,null,null,null,null,null,null,null,null,null,null,null,null,null,null,null,null,null,"Calculated values"]
[null,null,null,null,null,null,null,null,null,null,null,null,null,null,null,null,null,null,null,null,"X","Z","X","Z",null,null,"xloc kreup stijl"]
[null,null,null,null,null,null,null,null,null,null,null,null,null,null,null,null,null,null,null,"Node 1",380,0,{"$f":"I11","v":380},0,{"$f":"Xval(W3)","v":"<X>380</X>"},{"$f":"Zval(X3)","v":"<Z>0</Z>"},"x",{"$f":"I10/2","v":3610}]
["Verbeterd Hollands Spant",null,null,null,null,null,null,null,null,null,null,null,null,null,null,null,null,null,null,"Node 2",6840,0,{"$f":"I10-W3","v":6840},0,{"$f":"Xval(W4)","v":"<X>6840</X>"},{"$f":"Zval(X4)","v":"<Z>0</Z>"},"z",{"$f":"I6-I9","v":3700}]
[null,null,null,null,null,null,null,"Geometrie",null,null,null,null,null,null,null,null,null,null,null,"Node 3",0,700,0,{"$f":"I9","v":700},{"$f":"Xval(W5)","v":"<X>0</X>"},{"$f":"Zval(X5)","v":"<Z>700</Z>"},"zloc kreup. Stijl",{"$f":"I8-I9","v":885}]
[null,null,null,null,null,null,null,"Hoogte ",4400,"[mm]",null,null,null,null,null,null,null,null,null,"Node 4",618,700,{"$f":"AB17","v":593.52},{"$f":"I9","v":700},{"$f":"Xval(W6)","v":"<X>593,52</X>"},{"$f":"Zval(X6)","v":"<Z>700</Z>"},"xloc kreup stijl",{"$f":"ROUND((AB5/AB4)*AB3,2)","v":863.47}]
[null,null,null,null,null,null,null,"Hoogte haanhout",2460,"[mm]",null,null,null,null,null,null,null,null,null,"Node 5",6604,700,{"$f":"I10-W6","v":6626.48},{"$f":"I9","v":700},{"$f":"Xval(W7)","v":"<X>6626,48</X>"},{"$f":"Zval(X7)","v":"<Z>700</Z>"}]
[null,null,null,null,null,null,null,"Hoogte kreupele stijl",1585,"[mm]",null,null,null,null,null,null,null,null,null,"Node 6",7220,700,{"$f":"I10","v":7220},{"$f":"I9","v":700},{"$f":"Xval(W8)","v":"<X>7220</X>"},{"$f":"Zval(X8)","v":"<Z>700</Z>"},"xloc haanhout"]
[null,null,null,null,null,null,null,"Hoogte muurplaat/blokkeel",700,"[mm]",null,null,null,null,null,null,null,null,null,"Node 7",915,1585,{"$f":"AB6","v":863.47},{"$f":"I8","v":1585},{"$f":"Xval(W9)","v":"<X>863,47</X>"},{"$f":"Zval(X9)","v":"<Z>1585</Z>"},"zloc haanhout",{"$f":"I7-I9","v":1760}]
[null,null,null,null,null,null,null,"Breedte",7220,"[mm]",null,null,null,null,null,null,null,null,null,"Node 8",6305,1585,{"$f":"I10-AB6","v":6356.53},{"$f":"I8","v":1585},{"$f":"Xval(W10)","v":"<X>6356,53</X>"},{"$f":"Zval(X10)","v":"<Z>1585</Z>"},"xloc haanhout",{"$f":"ROUND((AB9/AB4)*AB3,2)","v":1717.19}]
[null,null,null,null,null,null,null,"Start kreupele stijl",380,"[mm]",null,null,null,null,null,null,null,null,null,"Node 9",1805,2445,{"$f":"AB10","v":1717.19},{"$f":"I7","v":2460},{"$f":"Xval(W11)","v":"<X>1717,19</X>"},{"$f":"Zval(X11)","v":"<Z>2460</Z>"}]
[null,null,null,null,null,null,null,null,null,null,null,null,null,null,null,null,null,null,null,"Node 10",3610,2445,{"$f":"I10/2","v":3610},{"$f":"I7","v":2460},{"$f":"Xval(W12)","v":"<X>3610</X>"},{"$f":"Zval(X12)","v":"<Z>2460</Z>"},"xloc blokkeel"]
[null,null,null,null,null,null,null,"Doorsnede eigenschappen",null,null,null,null,null,null,null,null,null,null,null,"Node 11",5415,2445,{"$f":"I10-W11","v":5502.8099999999995},{"$f":"I7","v":2460},{"$f":"Xval(W13)","v":"<X>5502,81</X>"},{"$f":"Zval(X13)","v":"<Z>2460</Z>"},"dx kreup. Stijl",{"$f":"AB6-I11","v":483.47}]
[null,null,null,null,null,null,null,"Houtkwaliteit","C24","(C18/C24 etc)",null,null,null,null,null,null,null,null,null,"Node 12",3610,4190,{"$f":"I10/2","v":3610},{"$f":"I6","v":4400},{"$f":"Xval(W14)","v":"<X>3610</X>"},{"$f":"Zval(X14)","v":"<Z>4400</Z>"},"dz kreup. Stijl",{"$f":"AB5+I9","v":1585}]
[null,null,null,null,null,null,null,"Kapspruit/spantbeen",null,null,null,null,null,null,null,null,null,null,null,null,null,null,null,null,null,null,"dz blokkeel",{"$f":"I9","v":700}]
[null,null,null,null,null,null,null,"Breedte",80,"[mm]",null,null,null,null,null,null,null,null,null,{"$f":"S4U(\"h\", I17)","v":"<h>230</h>"},{"$f":"I16 & \" x \" &I17","v":"80 x 230"},{"$f":"S4U(\"Profile_name\", U16)","v":"<Profile_name>80 x 230</Profile_name>"},null,null,null,null,"dx blokkeel",{"$f":"ROUND((AB15/AB14)*AB13,2)","v":213.52}]
[null,null,null,null,null,null,null,"Hoogte",230,"[mm]",null,null,null,null,null,null,null,null,null,{"$f":"S4U(\"b\", I16)","v":"<b>80</b>"},null,null,null,null,null,null,"x blokkeel",{"$f":"AB16+I11","v":593.52}]
[null,null,null,null,null,null,null,"Kreupele stijl/kapstijl/kappoot"]
[null,null,null,null,null,null,null,"Breedte",80,"[mm]",null,null,null,null,null,null,null,null,null,{"$f":"S4U(\"h\", I20)","v":"<h>200</h>"},{"$f":"I19 & \" x \" &I20","v":"80 x 200"},{"$f":"S4U(\"Profile_name\", U19)","v":"<Profile_name>80 x 200</Profile_name>"}]
[null,null,null,null,null,null,null,"Hoogte",200,"[mm]",null,null,null,null,null,null,null,null,null,{"$f":"S4U(\"b\", I19)","v":"<b>80</b>"}]
[null,null,null,null,null,null,null,"Haanhout"]
[null,null,null,null,null,null,null,"Breedte",{"$f":"2*50","v":100},"[mm]",null,null,null,null,null,null,null,null,null,{"$f":"S4U(\"h\", I23)","v":"<h>200</h>"},{"$f":"I22 & \" x \" &I23","v":"100 x 200"},{"$f":"S4U(\"Profile_name\", U22)","v":"<Profile_name>100 x 200</Profile_name>"}]
[null,null,null,null,null,null,null,"Hoogte",200,"[mm]",null,null,null,null,null,null,null,null,null,{"$f":"S4U(\"b\", I22)","v":"<b>100</b>"}]
[null,null,null,null,null,null,null,"Blokkeel"]
[null,null,null,null,null,null,null,"Breedte",{"$f":"2*50","v":100},"[mm]",null,null,null,null,null,null,null,null,null,{"$f":"S4U(\"h\", I26)","v":"<h>200</h>"},{"$f":"I25 & \" x \" &I26","v":"100 x 200"},{"$f":"S4U(\"Profile_name\", U25)","v":"<Profile_name>100 x 200</Profile_name>"}]
[null,null,null,null,null,null,null,"Hoogte",200,"[mm]",null,null,null,null,null,null,null,null,null,{"$f":"S4U(\"b\", I25)","v":"<b>100</b>"}]
[null,null,null,null,null,null,null,"Makelaar"]
[null,null,null,null,null,null,null,"Breedte",80,"[mm]",null,null,null,null,null,null,null,null,null,{"$f":"S4U(\"h\", I29)","v":"<h>200</h>"},{"$f":"I28 & \" x \" &I29","v":"80 x 200"},{"$f":"S4U(\"Profile_name\", U28)","v":"<Profile_name>80 x 200</Profile_name>"}]
[null,null,null,null,null,null,null,"Hoogte",200,"[mm]",null,null,null,null,null,null,null,null,null,{"$f":"S4U(\"b\", I28)","v":"<b>80</b>"}]
[null,null,null,null,null,null,null,null,null,null,null,null,null,null,null,null,null,null,null,{"$f":"S4U(\"Material\", I14)","v":"<Material>C24</Material>"}]
[null,null,null,null,null,null,null,"Belastingen"]
[null,null,null,null,null,null,null,"qG ",-2.72,"[kN/m1]",null,null,null,null,null,null,null,null,null,{"$f":"\"<X>0 \" & I10/2 & \" \" & I10/2 & \"</X>\"","v":"<X>0 3610 3610</X>"}]
[null,null,null,null,null,null,null,null,null,null,null,null,null,null,null,null,null,null,null,{"$f":"\"<Z>0 \" &I9 & \" \" & I7-I9 & \" \" &I6-I7 & \"</Z>\"","v":"<Z>0 700 1760 1940</Z>"}]
[null,null,null,null,null,null,null,null,null,null,null,null,null,null,null,null,null,null,null,"l",{"$f":"SQRT(AB3*AB3+AB4*AB4)","v":5169.3423179356196}]
[null,null,null,null,null,null,null,null,null,null,null,null,null,null,null,null,null,null,null,"angle",{"$f":"ROUND(90-DEGREES(ATAN(AB3/AB4)),0)","v":46},{"$f":"-U35","v":-46}]
[null,null,null,null,null,null,null,null,null,null,null,null,null,null,null,null,null,null,null,{"$f":"S4U(\"Load1\",I32)","v":"<Load1>-2,72</Load1>"}]
[null,null,null,null,null,null,null,null,null,null,null,null,null,null,null,null,null,null,null,{"$f":"S4U(\"Load2\",I32)","v":"<Load2>-2,72</Load2>"}]
[null,null,null,null,null,null,null,null,null,null,null,null,null,null,null,null,null,null,null,{"$f":"S4U(\"L\",U34)","v":"<L>5169,34231793562</L>"}]
[null,null,null,null,null,null,null,null,null,null,null,null,null,null,null,null,null,null,null,{"$f":"S4U(\"angle\",V35)","v":"<angle>-46</angle>"}]
[null,null,null,null,null,null,null,null,null,null,null,null,null,null,null,null,null,null,null,{"$f":"S4U(\"angle\",U35)","v":"<angle>46</angle>"}]
[]
["Prof. J.G. Wattjes Deel 9 Eenvoudige dakconstructies en dakbedekkingen, Pag 236 "]
["Bekijk alle boeken van Prof. J.G. Wattjes via deze link: ",null,null,null,"https://github.com/DutchSailor/OpenBooks "]

{"sheet":"HEK1","index":7,"n_rows":21,"n_cols":18,"rows_kept":21,"cut":false,"hidden":false,"merged":[[4,0,6,4]]}
[]
[]
[]
["Hekwerk"]
[null,null,null,null,null,null,null,"Geometrie",null,null,null,null,null,null,null,null,null,"Calculated values"]
[null,null,null,null,null,null,null,"Hoogte",1200,"[mm]",null,null,null,null,null,null,null,{"$f":"Yval(I7)","v":"<Y>2000</Y>"}]
[null,null,null,null,null,null,null,"Hoh-afstand",2000,"[mm]",null,null,null,null,null,null,null,{"$f":"Yval(I7*2)","v":"<Y>4000</Y>"}]
[null,null,null,null,null,null,null,null,null,null,null,null,null,null,null,null,null,{"$f":"Yval(I7*3)","v":"<Y>6000</Y>"}]
[null,null,null,null,null,null,null,"Doorsnede eigenschappen",null,null,null,null,null,null,null,null,null,{"$f":"Zval(I6)","v":"<Z>1200</Z>"}]
[null,null,null,null,null,null,null,"Balusterprofiel","S80x8",null,"(strip 80x8). Syntax aanhouden van profielendatabase Struct4U. ",null,null,null,null,null,null,{"$f":"S4U(\"Profile_name\",I10)","v":"<Profile_name>S80x8</Profile_name>"}]
[null,null,null,null,null,null,null,"Leuningprofiel","HFCHS_I603X29",null,"(Buis 60.3x29)",null,null,null,null,null,null,{"$f":"S4U(\"Profile_name\",I11)","v":"<Profile_name>HFCHS_I603X29</Profile_name>"}]
[null,null,null,null,null,null,null,"Staalkwaliteit","S235","[mm]",null,null,null,null,null,null,null,{"$f":"S4U(\"Material\",I12)","v":"<Material>S235</Material>"}]
[null,null,null,null,null,null,null,null,null,null,null,null,null,null,null,null,null,{"$f":"\"<Y> 0 \" & I7 & \" \" & I7 & \" \" & I7 & \"</Y>\"","v":"<Y> 0 2000 2000 2000</Y>"}]
[null,null,null,null,null,null,null,"Belastingen",null,null,null,null,null,null,null,null,null,{"$f":"\"<Z>+0 +\" & I6 & \"</Z>\"","v":"<Z>+0 +1200</Z>"}]
[null,null,null,null,null,null,null,"Q q",0.5,"[kN/m1]","(Gemeenschappelijke\nruimten met een\n woonfunctie), voor overige gevallen zie tabel NB.1 \n6.2 t.m. NB.4 6.10 in NEN-EN 1991-1-1",null,null,null,null,null,null,{"$f":"S4U(\"Load1\",-I15)","v":"<Load1>-0,5</Load1>"}]
[null,null,null,null,null,null,null,"Q F",1,"[kN]",null,null,null,null,null,null,null,{"$f":"S4U(\"Load2\",-I15)","v":"<Load2>-0,5</Load2>"}]
[null,null,null,null,null,null,null,null,null,null,null,null,null,null,null,null,null,{"$f":"S4U(\"L\",I7)","v":"<L>2000</L>"}]
[null,null,null,null,null,null,null,null,null,null,null,null,null,null,null,null,null,{"$f":"S4U(\"Fx\",-I16)","v":"<Fx>-1</Fx>"}]
[]
[]
[null,null,null,null,null,null,null,null,null,null,null,null,null,null,null,null,null,"<Z>+0 +5000</Z>"]

{"sheet":"HSB1","index":8,"n_rows":46,"n_cols":23,"rows_kept":46,"cut":false,"hidden":false,"merged":[[4,0,6,4]]}
[]
[]
[]
["Sparing in HSB-wand"]
[null,null,null,null,null,null,null,"Geometrie",null,null,null,null,null,null,null,null,null,"Calculated values"]
[null,null,null,null,null,null,null,"Hoogte",3000,"[mm]",null,null,null,null,null,null,null,null,"X","Z","X","Y","Z"]
[null,null,null,null,null,null,null,"Hoh-afstand stijlen",610,"[mm]",null,null,null,null,null,null,null,1,{"$f":"Xval(U7)","v":"<X>0</X>"},{"$f":"Zval(W7)","v":"<Z>0</Z>"},0,0,0]
[null,null,null,null,null,null,null,"Breedte sparing",1500,"[mm]",null,null,null,null,null,null,null,2,{"$f":"Xval(U8)","v":"<X>610</X>"},{"$f":"Zval(W8)","v":"<Z>0</Z>"},{"$f":"I7","v":610},0,0]
[null,null,null,null,null,null,null,"Hoogte sparing",1250,"[mm]",null,null,null,null,null,null,null,3,{"$f":"Xval(U9)","v":"<X>1220</X>"},{"$f":"Zval(W9)","v":"<Z>0</Z>"},{"$f":"I7*2","v":1220},0,0]
[null,null,null,null,null,null,null,"Hoogte borstwering",850,"[mm]",null,null,null,null,null,null,null,4,{"$f":"Xval(U10)","v":"<X>1970</X>"},{"$f":"Zval(W10)","v":"<Z>0</Z>"},{"$f":"I7*2+750","v":1970},0,0]
[null,null,null,null,null,null,null,null,null,null,null,null,null,null,null,null,null,5,{"$f":"Xval(U11)","v":"<X>2720</X>"},{"$f":"Zval(W11)","v":"<Z>0</Z>"},{"$f":"I7*2+1500","v":2720},0,0]
[null,null,null,null,null,null,null,"Doorsnede eigenschappen",null,null,null,null,null,null,null,null,null,6,{"$f":"Xval(U12)","v":"<X>3330</X>"},{"$f":"Zval(W12)","v":"<Z>0</Z>"},{"$f":"U11+I7","v":3330},0,0]
[null,null,null,null,null,null,null,"Hoogte stijl",38,"[mm]",null,null,null,null,null,null,null,7,{"$f":"Xval(U13)","v":"<X>3940</X>"},{"$f":"Zval(W13)","v":"<Z>0</Z>"},{"$f":"U12+I7","v":3940},0,0]
[null,null,null,null,null,null,null,"Breedte stijl",184,"[mm]",null,null,null,null,null,null,null,8,{"$f":"Xval(U14)","v":"<X>1220</X>"},{"$f":"Zval(W14)","v":"<Z>850</Z>"},{"$f":"U9","v":1220},0,850]
[null,null,null,null,null,null,null,"Hoogte zijstijl naast kozijn",76,"[mm]",null,null,null,null,null,null,null,9,{"$f":"Xval(U15)","v":"<X>1970</X>"},{"$f":"Zval(W15)","v":"<Z>850</Z>"},{"$f":"U10","v":1970},0,850]
[null,null,null,null,null,null,null,"Breedte zijstijl naast kozijn",184,"[mm]",null,null,null,null,null,null,null,10,{"$f":"Xval(U16)","v":"<X>2720</X>"},{"$f":"Zval(W16)","v":"<Z>850</Z>"},{"$f":"U11","v":2720},0,850]
[null,null,null,null,null,null,null,"Hoogte dorpel",76,"[mm]",null,null,null,null,null,null,null,11,{"$f":"Xval(U17)","v":"<X>1220</X>"},{"$f":"Zval(W17)","v":"<Z>2100</Z>"},{"$f":"U9","v":1220},0,2100]
[null,null,null,null,null,null,null,"Breedte dorpel",184,"[mm]",null,null,null,null,null,null,null,12,{"$f":"Xval(U18)","v":"<X>1970</X>"},{"$f":"Zval(W18)","v":"<Z>2100</Z>"},{"$f":"U10","v":1970},0,2100]
[null,null,null,null,null,null,null,"Houtkwaliteit","C24","(C18/C24 etc)",null,null,null,null,null,null,null,13,{"$f":"Xval(U19)","v":"<X>2720</X>"},{"$f":"Zval(W19)","v":"<Z>2100</Z>"},{"$f":"U11","v":2720},0,2100]
[null,null,null,null,null,null,null,null,null,null,null,null,null,null,null,null,null,14,{"$f":"Xval(U20)","v":"<X>0</X>"},{"$f":"Zval(W20)","v":"<Z>3000</Z>"},0,0,3000]
[null,null,null,null,null,null,null,"Belastingen",null,null,null,null,null,null,null,null,null,15,{"$f":"Xval(U21)","v":"<X>610</X>"},{"$f":"Zval(W21)","v":"<Z>3000</Z>"},{"$f":"U8","v":610},0,3000]
[null,null,null,null,null,null,null,"G bovenligger",2.5,"[kN/m1]",null,null,null,null,null,null,null,16,{"$f":"Xval(U22)","v":"<X>1220</X>"},{"$f":"Zval(W22)","v":"<Z>3000</Z>"},1220,0,3000]
[null,null,null,null,null,null,null,"Qwind",{"$f":"INHOUD!C18","v":0.72800000000000009},"[kN/m2]",null,null,null,null,null,null,null,17,{"$f":"Xval(U23)","v":"<X>1970</X>"},{"$f":"Zval(W23)","v":"<Z>3000</Z>"},1970,0,3000]
[null,null,null,null,null,null,null,null,null,null,null,null,null,null,null,null,null,18,{"$f":"Xval(U24)","v":"<X>2720</X>"},{"$f":"Zval(W24)","v":"<Z>3000</Z>"},2720,0,3000]
[null,null,null,null,null,null,null,null,null,null,null,null,null,null,null,null,null,19,{"$f":"Xval(U25)","v":"<X>3330</X>"},{"$f":"Zval(W25)","v":"<Z>3000</Z>"},3330,0,3000]
[null,null,null,null,null,null,null,null,null,null,null,null,null,null,null,null,null,20,{"$f":"Xval(U26)","v":"<X>3940</X>"},{"$f":"Zval(W26)","v":"<Z>3000</Z>"},3940,0,3000]
[]
[null,null,null,null,null,null,null,null,null,null,null,null,null,null,null,null,null,{"$f":"S4U(\"h\",I14)","v":"<h>184</h>"},{"$f":"I13 & \" x \" &I14","v":"38 x 184"},{"$f":"S4U(\"Profile_name\", S28)","v":"<Profile_name>38 x 184</Profile_name>"}]
[null,null,null,null,null,null,null,null,null,null,null,null,null,null,null,null,null,{"$f":"S4U(\"b\",I13)","v":"<b>38</b>"},null,{"$f":"S4U(\"Material\", I19)","v":"<Material>C24</Material>"}]
[]
[null,null,null,null,null,null,null,null,null,null,null,null,null,null,null,null,null,{"$f":"S4U(\"h\",I16)","v":"<h>184</h>"},{"$f":"I17 & \" x \" &I16","v":"76 x 184"},{"$f":"S4U(\"Profile_name\", S31)","v":"<Profile_name>76 x 184</Profile_name>"}]
[null,null,null,null,null,null,null,null,null,null,null,null,null,null,null,null,null,{"$f":"S4U(\"b\",I15)","v":"<b>76</b>"},null,{"$f":"S4U(\"Material\", I19)","v":"<Material>C24</Material>"}]
[]
[null,null,null,null,null,null,null,null,null,null,null,null,null,null,null,null,null,{"$f":"S4U(\"h\",I18)","v":"<h>184</h>"},{"$f":"I17 & \" x \" &I18","v":"76 x 184"},{"$f":"S4U(\"Profile_name\", S34)","v":"<Profile_name>76 x 184</Profile_name>"}]
[null,null,null,null,null,null,null,null,null,null,null,null,null,null,null,null,null,{"$f":"S4U(\"b\",I17)","v":"<b>76</b>"},null,{"$f":"S4U(\"Material\", I19)","v":"<Material>C24</Material>"}]
[]
[]
[null,null,null,null,null,null,null,null,null,null,null,null,null,null,null,null,null,{"$f":"\"<X>0 \"&I7&\" \"&I7&\" \"&I8&\" \"&I7&\" \"&I7&\"</X>\"","v":"<X>0 610 610 1500 610 610</X>"}]
[null,null,null,null,null,null,null,null,null,null,null,null,null,null,null,null,null,{"$f":"\"<Z>+0 +\" & I10 & \" +\"&I9+I10&\" +\"&I6&\"</Z>\"","v":"<Z>+0 +850 +2100 +3000</Z>"}]
[]
[null,null,null,null,null,null,null,null,null,null,null,null,null,null,null,null,null,{"$f":"S4U(\"Load1\",-I22)","v":"<Load1>-2,5</Load1>"}]
[null,null,null,null,null,null,null,null,null,null,null,null,null,null,null,null,null,{"$f":"S4U(\"Load2\",-I22)","v":"<Load2>-2,5</Load2>"}]
[null,null,null,null,null,null,null,null,null,null,null,null,null,null,null,null,null,{"$f":"S4U(\"L\",I8+I7*4)","v":"<L>3940</L>"}]
[null,null,null,null,null,null,null,null,null,null,null,null,null,null,null,null,null,{"$f":"S4U(\"NodeX\",I8+I7*4)","v":"<NodeX>3940</NodeX>"}]
[null,null,null,null,null,null,null,null,null,null,null,null,null,null,null,null,null,{"$f":"S4U(\"NodeZ\",I6)","v":"<NodeZ>3000</NodeZ>"}]
[null,null,null,null,null,null,null,null,null,null,null,null,null,null,null,null,null,{"$f":"S4U(\"q1\",-I23)","v":"<q1>-0,728</q1>"}]

{"sheet":"S1","index":9,"n_rows":35,"n_cols":19,"rows_kept":35,"cut":false,"hidden":false,"merged":[]}
[]
[]
[]
["Portaal doorbraak met subligger"]
[null,null,null,null,null,"Geometrie",null,null,null,null,null,null,null,null,null,null,"Calculated values"]
[null,null,null,null,null,"Breedte portaal",null,6000,"[mm]",null,null,null,null,null,null,null,"X","Z"]
[null,null,null,null,null,"Hoogte portaal",null,2700,"[mm]",null,null,null,null,null,null,null,0,0,{"$f":"Zval(R7)","v":"<Z>0</Z>"}]
[null,null,null,null,null,"Startafstand subligger",null,2000,"[mm]",null,null,null,null,null,null,null,0,{"$f":"H7","v":2700},{"$f":"Zval(R8)","v":"<Z>2700</Z>"}]
[null,null,null,null,null,"Lengte subligger",null,3000,"[mm]",null,null,null,null,null,null,null,null,{"$f":"R8+1000","v":3700},{"$f":"Zval(R9)","v":"<Z>3700</Z>"}]
[null,null,null,null,null,null,null,null,null,null,null,null,null,null,null,null,{"$f":"H8","v":2000},null,{"$f":"Xval(Q10)","v":"<X>2000</X>"}]
[null,null,null,null,null,"Doorsnedes",null,null,null,null,null,null,null,null,null,null,{"$f":"H8+H9","v":5000},null,{"$f":"Xval(Q11)","v":"<X>5000</X>"}]
[null,null,null,null,null,"Kolom portaal",null,"HEA160",null,null,null,null,null,null,null,null,{"$f":"H6","v":6000},null,{"$f":"Xval(Q12)","v":"<X>6000</X>"}]
[null,null,null,null,null,"Ligger portaal",null,"HEA260"]
[null,null,null,null,null,"Subligger",null,"IPE220",null,null,null,null,null,null,null,null,{"$f":"\"0 \" & H8 & \" \"& H6-H8","v":"0 2000 4000"}]
[null,null,null,null,null,null,null,null,null,null,null,null,null,null,null,null,{"$f":"S4U(\"X\",Q14)","v":"<X>0 2000 4000</X>"}]
[null,null,null,null,null,null,null,null,null,null,null,null,null,null,null,null,{"$f":"\"0 \" & H7 & \" 1000\"","v":"0 2700 1000"}]
[null,null,null,null,null,"Belastingen",null,"G","Q",null,null,null,null,null,null,null,{"$f":"S4U(\"Z\",Q16)","v":"<Z>0 2700 1000</Z>"}]
[null,null,null,null,null,"q hoofdligger portaal",null,10,5,"[kN/m1]"]
[null,null,null,null,null,"q subligger ",null,5,3,"[kN/m1]",null,null,null,null,null,null,{"$f":"S4U(\"Profile_name\",H12)","v":"<Profile_name>HEA160</Profile_name>"}]
[null,null,null,null,null,"Fh wind",null,null,10,"[kN]",null,null,null,null,null,null,{"$f":"S4U(\"Profile_name\",H13)","v":"<Profile_name>HEA260</Profile_name>"}]
[null,null,null,null,null,null,null,null,null,null,null,null,null,null,null,null,{"$f":"S4U(\"Profile_name\",H14)","v":"<Profile_name>IPE220</Profile_name>"}]
[]
[null,null,null,null,null,null,null,null,null,null,null,null,null,null,null,null,{"$f":"S4U(\"Load1\",-H18)","v":"<Load1>-10</Load1>"}]
[null,null,null,null,null,null,null,null,null,null,null,null,null,null,null,null,{"$f":"S4U(\"Load2\",-H18)","v":"<Load2>-10</Load2>"}]
[null,null,null,null,null,null,null,null,null,null,null,null,null,null,null,null,{"$f":"S4U(\"L\",H6)","v":"<L>6000</L>"}]
[null,null,null,null,null,null,null,null,null,null,null,null,null,null,null,null,{"$f":"S4U(\"Load1\",-H19)","v":"<Load1>-5</Load1>"}]
[null,null,null,null,null,null,null,null,null,null,null,null,null,null,null,null,{"$f":"S4U(\"Load2\",-H19)","v":"<Load2>-5</Load2>"}]
[null,null,null,null,null,null,null,null,null,null,null,null,null,null,null,null,{"$f":"Q34","v":"<L>3000</L>"}]
[null,null,null,null,null,null,null,null,null,null,null,null,null,null,null,null,{"$f":"S4U(\"Load1\",-I18)","v":"<Load1>-5</Load1>"}]
[null,null,null,null,null,null,null,null,null,null,null,null,null,null,null,null,{"$f":"S4U(\"Load2\",-I18)","v":"<Load2>-5</Load2>"}]
[null,null,null,null,null,null,null,null,null,null,null,null,null,null,null,null,{"$f":"Q25","v":"<L>6000</L>"}]
[null,null,null,null,null,null,null,null,null,null,null,null,null,null,null,null,{"$f":"S4U(\"Load1\",-I19)","v":"<Load1>-3</Load1>"}]
[null,null,null,null,null,null,null,null,null,null,null,null,null,null,null,null,{"$f":"S4U(\"Load2\",-I19)","v":"<Load2>-3</Load2>"}]
[null,null,null,null,null,null,null,null,null,null,null,null,null,null,null,null,{"$f":"S4U(\"L\",H9)","v":"<L>3000</L>"}]
[null,null,null,null,null,null,null,null,null,null,null,null,null,null,null,null,{"$f":"S4U(\"Fx\",I20)","v":"<Fx>10</Fx>"}]

{"sheet":"RAV1","index":10,"n_rows":27,"n_cols":22,"rows_kept":27,"cut":false,"hidden":false,"merged":[[4,0,6,4]]}
[]
[]
[]
["Sparing in dak"]
[null,null,null,null,null,null,null,"Geometrie",null,null,null,null,null,null,null,null,null,"Calculated values"]
[null,null,null,null,null,null,null,"Hoh afstand balken",610,"[mm]",null,null,null,null,null,null,null,"X","Y",null,"X","Y"]
[null,null,null,null,null,null,null,"Breedte sparing",2000,"[mm]",null,null,null,null,null,null,null,{"$f":"Xval(U7)","v":"<X>610</X>"},{"$f":"Yval(V7)","v":"<Y>500</Y>"},null,{"$f":"I6","v":610},{"$f":"I10","v":500}]
[null,null,null,null,null,null,null,"Lengte sparing",2500,"[mm]",null,null,null,null,null,null,null,{"$f":"Xval(U8)","v":"<X>1610</X>"},{"$f":"Yval(V8)","v":"<Y>3000</Y>"},null,{"$f":"I6+I7/2","v":1610},{"$f":"I10+I8","v":3000}]
[null,null,null,null,null,null,null,"Overspanning(lov)",5000,"[mm]",null,null,null,null,null,null,null,{"$f":"Xval(U9)","v":"<X>2610</X>"},{"$f":"Yval(V9)","v":"<Y>5000</Y>"},null,{"$f":"I6+I7","v":2610},{"$f":"I9","v":5000}]
[null,null,null,null,null,null,null,"L1",500,"[mm]",null,null,null,null,null,null,null,{"$f":"Xval(U10)","v":"<X>3220</X>"},{"$f":"Yval(V10)","v":"<Y></Y>"},null,{"$f":"U9+I6","v":3220}]
[null,null,null,null,null,null,null,null,null,null,null,null,null,null,null,null,null,null,{"$f":"Yval(V11)","v":"<Y></Y>"}]
[null,null,null,null,null,null,null,"Doorsnede eigenschappen",null,null,null,null,null,null,null,null,null,null,{"$f":"Yval(V12)","v":"<Y></Y>"}]
[null,null,null,null,null,null,null,"P1 breedte",71,"[mm]"]
[null,null,null,null,null,null,null,"P1 hoogte",196,"[mm]",null,null,null,null,null,null,null,{"$f":"S4U(\"b\",I13)","v":"<b>71</b>"},{"$f":"I13 & \" x \" &I14","v":"71 x 196"},{"$f":"S4U(\"Profile_name\",S14)","v":"<Profile_name>71 x 196</Profile_name>"}]
[null,null,null,null,null,null,null,"P2 breedte",142,"[mm]",null,null,null,null,null,null,null,{"$f":"S4U(\"h\", I14)","v":"<h>196</h>"},null,{"$f":"S4U(\"Material\",I17)","v":"<Material>C24</Material>"}]
[null,null,null,null,null,null,null,"P2 hoogte",196,"[mm]"]
[null,null,null,null,null,null,null,"Houtkwaliteit","C24","(C18/C24 etc)",null,null,null,null,null,null,null,{"$f":"S4U(\"b\",I15)","v":"<b>142</b>"},{"$f":"I15 & \" x \"&I16","v":"142 x 196"},{"$f":"S4U(\"Profile_name\",S17)","v":"<Profile_name>142 x 196</Profile_name>"}]
[null,null,null,null,null,null,null,null,null,null,null,null,null,null,null,null,null,{"$f":"S4U(\"h\",I16)","v":"<h>196</h>"},null,{"$f":"S4U(\"Material\",I17)","v":"<Material>C24</Material>"}]
[null,null,null,null,null,null,null,"Belastingen"]
[null,null,null,null,null,null,null,"G ",0.52,"[kN/m2]"]
[null,null,null,null,null,null,null,"Q",1,"[kN/m2]",null,null,null,null,null,null,null,{"$f":"\"<X>0 \"&I6&\" \"&I7&\" \"&I6&\"</X>\"","v":"<X>0 610 2000 610</X>"}]
[null,null,null,null,null,null,null,null,null,null,null,null,null,null,null,null,null,{"$f":"\"<Y>0 \"&I10&\" \"&I8&\" \"&I9-I8-I10&\"</Y>\"","v":"<Y>0 500 2500 2000</Y>"}]
[]
[null,null,null,null,null,null,null,null,null,null,null,null,null,null,null,null,null,{"$f":"S4U(\"NodeY\",I9)","v":"<NodeY>5000</NodeY>"}]
[null,null,null,null,null,null,null,null,null,null,null,null,null,null,null,null,null,{"$f":"S4U(\"NodeX\",U10)","v":"<NodeX>3220</NodeX>"}]
[null,null,null,null,null,null,null,null,null,null,null,null,null,null,null,null,null,{"$f":"S4U(\"q1\",-I20)","v":"<q1>-0,52</q1>"}]
[null,null,null,null,null,null,null,null,null,null,null,null,null,null,null,null,null,{"$f":"S4U(\"q1\",-I21)","v":"<q1>-1</q1>"}]

{"sheet":"RAV2","index":11,"n_rows":29,"n_cols":24,"rows_kept":29,"cut":false,"hidden":false,"merged":[[4,0,6,4]]}
[]
[]
[]
["Sparing in dak"]
[null,null,null,null,null,null,null,"Geometrie",null,null,null,null,null,null,null,null,null,"Calculated values"]
[null,null,null,null,null,null,null,"Overspanning",4200,"[mm]",null,null,null,null,null,null,null,"X","Y"]
[null,null,null,null,null,null,null,"Breedte raveeling",1000,"[mm]",null,null,null,null,null,null,null,{"$f":"Xval(I6)","v":"<X>4200</X>"}]
[null,null,null,null,null,null,null,"Diepte raveeling",2000,"[mm]",null,null,null,null,null,null,null,{"$f":"Xval(I7)","v":"<X>1000</X>"}]
[null,null,null,null,null,null,null,"hoh",610,"[mm]",null,null,null,null,null,null,null,{"$f":"Xval(I8+I7)","v":"<X>3000</X>"}]
[]
[null,null,null,null,null,null,null,"Doorsnede eigenschappen"]
[null,null,null,null,null,null,null,"Raveelbalk b",80,"[mm]"]
[null,null,null,null,null,null,null,"Raveelbalk h",200,"[mm]"]
[null,null,null,null,null,null,null,"Randbalk b",160,"[mm]",null,null,null,null,null,null,null,{"$f":"S4U(\"b\",I12)","v":"<b>80</b>"},{"$f":"I12 & \" x \" &I13","v":"80 x 200"},{"$f":"S4U(\"Profile_name\",S14)","v":"<Profile_name>80 x 200</Profile_name>"}]
[null,null,null,null,null,null,null,"Randbalk h",200,"[mm]",null,null,null,null,null,null,null,{"$f":"S4U(\"h\", I13)","v":"<h>200</h>"},null,{"$f":"S4U(\"Material\",I16)","v":"<Material>C24</Material>"}]
[null,null,null,null,null,null,null,"Houtkwaliteit","C24","(C18/C24 etc)"]
[null,null,null,null,null,null,null,null,null,null,null,null,null,null,null,null,null,{"$f":"S4U(\"b\",I14)","v":"<b>160</b>"},{"$f":"I14 & \" x \"&I15","v":"160 x 200"},{"$f":"S4U(\"Profile_name\",S17)","v":"<Profile_name>160 x 200</Profile_name>"}]
[null,null,null,null,null,null,null,"Belastingen",null,null,null,null,null,null,null,null,null,{"$f":"S4U(\"h\",I15)","v":"<h>200</h>"},null,{"$f":"S4U(\"Material\",I16)","v":"<Material>C24</Material>"}]
[null,null,null,null,null,null,null,"G ",{"$f":"[1]!GLOAD6v","v":0.56499999999999995},"[kN/m2]"]
[null,null,null,null,null,null,null,"Q",2.5499999999999998,"[kN/m2]",null,null,null,null,null,null,null,{"$f":"\"<X>0 \"&I6 & \"</X>\"","v":"<X>0 4200</X>"}]
[null,null,null,null,null,null,null,null,null,null,null,null,null,null,null,null,null,null,"G","Q","G","Q"]
[null,null,null,null,null,null,null,null,null,null,null,null,null,null,null,null,null,null,null,null,"XML",null,null,{"$f":"S4U(\"q1\",-I19)","v":"<q1>-0,565</q1>"}]
[null,null,null,null,null,null,null,null,null,null,null,null,null,null,null,null,null,"q1",{"$f":"I19*(I9/2)/1000","v":0.17232499999999998},{"$f":"I20*(I9/2)/1000","v":0.77775000000000005},{"$f":"S4U(\"q1\",-S23)","v":"<q1>-0,172325</q1>"},{"$f":"S4U(\"q1\",-T23)","v":"<q1>-0,77775</q1>"},null,{"$f":"S4U(\"q1\",-I20)","v":"<q1>-2,55</q1>"}]
[null,null,null,null,null,null,null,null,null,null,null,null,null,null,null,null,null,"q2",{"$f":"S23*2","v":0.34464999999999996},{"$f":"T23*2","v":1.5555000000000001},{"$f":"S4U(\"q1\",-S24)","v":"<q1>-0,34465</q1>"},{"$f":"S4U(\"q1\",-T24)","v":"<q1>-1,5555</q1>"}]
[null,null,null,null,null,null,null,null,null,null,null,null,null,null,null,null,null,"q3",{"$f":"I19*(I6-I7)/2000","v":0.90399999999999991},{"$f":"I20*(I6-I7)/2000","v":4.0799999999999992},{"$f":"S4U(\"q1\",-S25)","v":"<q1>-0,904</q1>"},{"$f":"S4U(\"q1\",-T25)","v":"<q1>-4,08</q1>"}]
[]
[null,null,null,null,null,null,null,null,null,null,null,null,null,null,null,null,null,{"$f":"S4U(\"L\",I7)","v":"<L>1000</L>"}]
[null,null,null,null,null,null,null,null,null,null,null,null,null,null,null,null,null,{"$f":"S4U(\"L\",I6-I7)","v":"<L>3200</L>"}]
[null,null,null,null,null,null,null,null,null,null,null,null,null,null,null,null,null,{"$f":"S4U(\"L\",I8)","v":"<L>2000</L>"}]

{"sheet":"B1","index":12,"n_rows":36,"n_cols":23,"rows_kept":36,"cut":false,"hidden":false,"merged":[[4,0,6,4]]}
[]
[]
[]
["Bedrijfsvloer op palen"]
[null,null,null,null,null,null,null,"Vloergeometrie",null,null,null,null,null,null,null,null,null,"Calculated values"]
[null,null,null,null,null,null,null,"Hoh afstand palen X",3000,"[mm]"]
[null,null,null,null,null,null,null,"Hoh afstand palen Y",3000,"[mm]",null,null,null,null,null,null,null,"X","XML-string X","Y","XML-string Y","X","Y"]
[null,null,null,null,null,null,null,"Overstek palen X",1500,"[mm]",null,null,null,null,null,null,null,0,{"$f":"\"<X>\"&R8 & \"</X>\"","v":"<X>0</X>"},0,{"$f":"\"<Y>\"&T8 & \"</Y>\"","v":"<Y>0</Y>"}]
[null,null,null,null,null,null,null,"Overstek palen Y",1500,"[mm]",null,null,null,null,null,null,null,{"$f":"I15/2","v":500},{"$f":"\"<X>\"&R9 & \"</X>\"","v":"<X>500</X>"},{"$f":"T10-$S$25","v":1000},{"$f":"\"<Y>\"&T9 & \"</Y>\"","v":"<Y>1000</Y>"}]
[null,null,null,null,null,null,null,"Vloerdikte",250,"[mm]",null,null,null,null,null,null,null,{"$f":"I8","v":1500},"<X>1500</X>",{"$f":"I9","v":1500},"<Y>1500</Y>",{"$f":"\"<NodeX>\" &R10& \"</NodeX>\"","v":"<NodeX>1500</NodeX>"},{"$f":"\"<NodeY>\" &R10& \"</NodeY>\"","v":"<NodeY>1500</NodeY>"}]
[null,null,null,null,null,null,null,"Betonkwaliteit","C30/37",null,null,null,null,null,null,null,null,{"$f":"R10+I15/2","v":2000},"<X>2000</X>",{"$f":"T10+$S$25","v":2000},"<Y>2000</Y>"]
[null,null,null,null,null,null,null,"Veerwaarde palen",35000,"[kN/m1]",null,null,null,null,null,null,null,{"$f":"R13-$S$24","v":4000},"<X>4000</X>",{"$f":"T13-$S$25","v":4000},"<Y>4000</Y>"]
[null,null,null,null,null,null,null,null,null,null,null,null,null,null,null,null,null,{"$f":"R10+$I$6","v":4500},"<X>4500</X>",{"$f":"T10+I7","v":4500},"<Y>4500</Y>",{"$f":"\"<NodeX>\" &R13& \"</NodeX>\"","v":"<NodeX>4500</NodeX>"},{"$f":"\"<NodeY>\" &R13& \"</NodeY>\"","v":"<NodeY>4500</NodeY>"}]
[null,null,null,null,null,null,null,"Ponskop",null,null,null,null,null,null,null,null,null,{"$f":"R13+$S$24","v":5000},"<X>5000</X>",{"$f":"T13+$S$25","v":5000},"<Y>5000</Y>"]
[null,null,null,null,null,null,null,"Breedte X ",1000,"[mm]",null,null,null,null,null,null,null,{"$f":"R16-$S$24","v":7000},"<X>7000</X>",{"$f":"T16-$S$25","v":7000},"<Y>7000</Y>"]
[null,null,null,null,null,null,null,"Lengte Y",1000,"[mm]",null,null,null,null,null,null,null,{"$f":"R13+$I$6","v":7500},"<X>7500</X>",{"$f":"T13+I7","v":7500},"<Y>7500</Y>",{"$f":"\"<NodeX>\" &R16& \"</NodeX>\"","v":"<NodeX>7500</NodeX>"},{"$f":"\"<NodeY>\" &R16& \"</NodeY>\"","v":"<NodeY>7500</NodeY>"}]
[null,null,null,null,null,null,null,"Dikte ponskop",300,"[mm]",null,null,null,null,null,null,null,{"$f":"R16+$S$24","v":8000},"<X>8000</X>",{"$f":"T16+$S$25","v":8000},"<Y>8000</Y>"]
[null,null,null,null,null,null,null,null,null,null,null,null,null,null,null,null,null,{"$f":"R19-$S$24","v":10000},"<X>10000</X>",{"$f":"T19-$S$25","v":10000},"<Y>10000</Y>"]
[null,null,null,null,null,null,null,"Randbalkafmeting",null,null,null,null,null,null,null,null,null,{"$f":"R16+$I$6","v":10500},"<X>10500</X>",{"$f":"T16+I7","v":10500},"<Y>10500</Y>",{"$f":"\"<NodeX>\" &R19& \"</NodeX>\"","v":"<NodeX>10500</NodeX>"},{"$f":"\"<NodeY>\" &R19& \"</NodeY>\"","v":"<NodeY>10500</NodeY>"}]
[null,null,null,null,null,null,null,"Breedte",400,"[mm]",null,null,null,null,null,null,null,{"$f":"R19+$S$24","v":11000},"<X>11000</X>",{"$f":"T19+$S$25","v":11000},"<Y>11000</Y>"]
[null,null,null,null,null,null,null,"Hoogte",500,"[mm]",null,null,null,null,null,null,null,{"$f":"R22-$S$24","v":13000},"<X>13000</X>",{"$f":"T22-$S$25","v":13000},"<Y>13000</Y>"]
[null,null,null,null,null,null,null,"Betonkwaliteit","C20/25",null,null,null,null,null,null,null,null,{"$f":"R19+$I$6","v":13500},"<X>13500</X>",{"$f":"T19+I7","v":13500},"<Y>13500</Y>",{"$f":"\"<NodeX>\" &R22& \"</NodeX>\"","v":"<NodeX>13500</NodeX>"},{"$f":"\"<NodeY>\" &R22& \"</NodeY>\"","v":"<NodeY>13500</NodeY>"}]
[]
[null,null,null,null,null,null,null,"Belastingen",null,null,null,null,null,null,null,null,null,"X",{"$f":"I15/2","v":500}]
[null,null,null,null,null,null,null,"Verdeelde belasting",10,"[kN/m2]",null,null,null,null,null,null,null,"Y",{"$f":"I16/2","v":500}]
[null,null,null,null,null,null,null,"Puntlast ",50,"[kN]",null,null,null,null,null,null,null,{"$f":" \"<Kz>\" & I12 & \"</Kz>\"","v":"<Kz>35000</Kz>"}]
[null,null,null,null,null,null,null,null,null,null,null,null,null,null,null,null,null,{"$f":"\"<X>0 \" & I8 & \" 4x\" & I6 & \"</X>\"","v":"<X>0 1500 4x3000</X>"}]
[null,null,null,null,null,null,null,null,null,null,null,null,null,null,null,null,null,{"$f":"\"<Y>0 \" & I9 & \" 4x\" & I7 & \"</Y>\"","v":"<Y>0 1500 4x3000</Y>"}]
[null,null,null,null,null,null,null,null,null,null,null,null,null,null,null,null,null,{"$f":"\"<Material>\" & I22 & \"</Material>\"","v":"<Material>C20/25</Material>"}]
[null,null,null,null,null,null,null,null,null,null,null,null,null,null,null,null,null,{"$f":"\"<h>\" &I21 & \"</h>\"","v":"<h>500</h>"}]
[null,null,null,null,null,null,null,null,null,null,null,null,null,null,null,null,null,{"$f":"\"<b>\" &I20 & \"</b>\"","v":"<b>400</b>"}]
[null,null,null,null,null,null,null,null,null,null,null,null,null,null,null,null,null,{"$f":"\"<h>\" &I10 & \"</h>\"","v":"<h>250</h>"}]
[null,null,null,null,null,null,null,null,null,null,null,null,null,null,null,null,null,{"$f":"\"<h>\" &I17 & \"</h>\"","v":"<h>300</h>"}]
[null,null,null,null,null,null,null,null,null,null,null,null,null,null,null,null,null,{"$f":"\"<Material>\" & I11 & \"</Material>\"","v":"<Material>C30/37</Material>"}]
[null,null,null,null,null,null,null,null,null,null,null,null,null,null,null,null,null,{"$f":"\"<q1>-\" & I25 & \"</q1>\"","v":"<q1>-10</q1>"}]
[null,null,null,null,null,null,null,null,null,null,null,null,null,null,null,null,null,{"$f":"\"<Fz>-\" & I26 & \"</Fz>\"","v":"<Fz>-50</Fz>"}]

{"sheet":"S3","index":13,"n_rows":32,"n_cols":23,"rows_kept":32,"cut":false,"hidden":false,"merged":[[4,0,6,4]]}
[]
[]
[]
["Sparing in stalen ligger"]
[null,null,null,null,null,null,null,"Geometrie",null,null,null,null,null,"Calculated values"]
[null,null,null,null,null,null,null,"Materiaal","S235"]
[null,null,null,null,null,null,null,"Stalen ligger","HEA300","[mm]",null,null,null,null,"G","Q",null,"X","Y","Z","X","Y","Z"]
[null,null,null,null,null,null,null,"b",300,"[mm]",null,null,null,"q",{"$f":"ROUND(I19/(I8/1000),2)","v":16.670000000000002},{"$f":"ROUND(I20/(I8/1000),2)","v":33.33},1,{"$f":"Xval(U8)","v":"<X>0</X>"},{"$f":"Yval(V8)","v":"<Y>0</Y>"},{"$f":"Zval(W8)","v":"<Z>0</Z>"},0,0,0]
[null,null,null,null,null,null,null,"h",290,"[mm]",null,null,null,null,null,null,2,{"$f":"Xval(U9)","v":"<X>0</X>"},{"$f":"Yval(I13)","v":"<Y>1500</Y>"},{"$f":"T8","v":"<Z>0</Z>"},0,1000,0]
[null,null,null,null,null,null,null,"tf",14,"[mm]",null,null,null,{"$f":"S4U(\"Profile_name\",I7)","v":"<Profile_name>HEA300</Profile_name>"},null,null,3,{"$f":"Xval(U10)","v":"<X>0</X>"},{"$f":"Yval(I13+I14)","v":"<Y>1900</Y>"},"<Z>0</Z>",0,1400,0]
[null,null,null,null,null,null,null,"tw",8.5,"[mm]",null,null,null,{"$f":"S4U(\"Material\",I6)","v":"<Material>S235</Material>"},null,null,4,{"$f":"Xval(U11)","v":"<X>0</X>"},{"$f":"Yval(I12)","v":"<Y>8000</Y>"},"<Z>0</Z>",0,6400,0]
[null,null,null,null,null,null,null,"L",8000,"[mm]",null,null,null,{"$f":"S4U(\"Load1\",-I19)","v":"<Load1>-5</Load1>"},null,null,5,{"$f":"Xval(I16)","v":"<X>2000</X>"},{"$f":"S8","v":"<Y>0</Y>"},"<Z>0</Z>",2000,0,0]
[null,null,null,null,null,null,null,"l1",1500,"[mm]",null,null,null,{"$f":"S4U(\"Load2\",-I19)","v":"<Load2>-5</Load2>"},null,null,67,{"$f":"Xval(I16)","v":"<X>2000</X>"},{"$f":"S11","v":"<Y>8000</Y>"},"<Z>0</Z>",{"$f":"U12","v":2000},6400,0]
[null,null,null,null,null,null,null,"l2",400,"[mm]",null,null,null,{"$f":"S4U(\"L\",I13)","v":"<L>1500</L>"},null,null,219,{"$f":"Xval(I16+(I8/2))","v":"<X>2150</X>"},{"$f":"S9","v":"<Y>1500</Y>"},"<Z>0</Z>",2150,0,0]
[null,null,null,null,null,null,null,"h sparing",100,"[mm]",null,null,null,{"$f":"S4U(\"L\",I14)","v":"<L>400</L>"},null,null,235,{"$f":"R14","v":"<X>2150</X>"},{"$f":"S10","v":"<Y>1900</Y>"},"<Z>0</Z>",{"$f":"U14","v":2150},1000,0]
[null,null,null,null,null,null,null,"tussen afstand balken",2000,"[mm]",null,null,null,{"$f":"S4U(\"L\",I12)","v":"<L>8000</L>"},null,null,245,{"$f":"R15","v":"<X>2150</X>"},{"$f":"S15","v":"<Y>1900</Y>"},"<Z>0</Z>",{"$f":"U15","v":2150},1400,0]
[null,null,null,null,null,null,null,null,null,null,null,null,null,{"$f":"S4U(\"L\",I12-I13-I14)","v":"<L>6100</L>"},null,null,331,{"$f":"R16","v":"<X>2150</X>"},{"$f":"S13","v":"<Y>8000</Y>"},"<Z>0</Z>",{"$f":"U16","v":2150},6400,0]
[null,null,null,null,null,null,null,"Belastingen",null,null,null,null,null,{"$f":"S4U(\"Load1\",-I20)","v":"<Load1>-10</Load1>"},null,null,483,{"$f":"Xval(I16+I8)","v":"<X>2300</X>"},{"$f":"S12","v":"<Y>0</Y>"},"<Z>0</Z>",2300,0,0]
[null,null,null,null,null,null,null,"G ",5,"[kN/m1]",null,null,null,{"$f":"S4U(\"Load2\",-I20)","v":"<Load2>-10</Load2>"},null,null,545,{"$f":"R18","v":"<X>2300</X>"},{"$f":"S17","v":"<Y>8000</Y>"},"<Z>0</Z>",{"$f":"U18","v":2300},6400,0]
[null,null,null,null,null,null,null,"Q",10,"[kN/m1]",null,null,null,{"$f":"\"<X>0 \"&I16&\" \"&I8&\"</X>\"","v":"<X>0 2000 300</X>"},null,null,677,{"$f":"R17","v":"<X>2150</X>"},{"$f":"S14","v":"<Y>1500</Y>"},{"$f":"Zval(I15)","v":"<Z>100</Z>"},{"$f":"U17","v":2150},1000,100]
[null,null,null,null,null,null,null,null,null,null,null,null,null,{"$f":"\"<Y>0 \"&I13&\" \"&I14&\" \"&I12&\"</Y>\"","v":"<Y>0 1500 400 8000</Y>"},null,null,687,{"$f":"R17","v":"<X>2150</X>"},{"$f":"S16","v":"<Y>1900</Y>"},{"$f":"T20","v":"<Z>100</Z>"},{"$f":"U20","v":2150},1400,100]
[null,null,null,null,null,null,null,null,null,null,null,null,null,null,null,null,863,{"$f":"R21","v":"<X>2150</X>"},{"$f":"S20","v":"<Y>1500</Y>"},{"$f":"Zval(I14/2)","v":"<Z>200</Z>"},{"$f":"U21","v":2150},1000,200]
[null,null,null,null,null,null,null,null,null,null,null,null,null,{"$f":"S4U(\"NodeX\",U14)","v":"<NodeX>2150</NodeX>"},null,null,873,{"$f":"R22","v":"<X>2150</X>"},{"$f":"S21","v":"<Y>1900</Y>"},{"$f":"T22","v":"<Z>200</Z>"},{"$f":"U22","v":2150},1400,200]
[null,null,null,null,null,null,null,null,null,null,null,null,null,{"$f":"S4U(\"NodeZ\",W24)","v":"<NodeZ>300</NodeZ>"},null,null,1032,{"$f":"Xval(I16)","v":"<X>2000</X>"},{"$f":"S18","v":"<Y>0</Y>"},{"$f":"Zval(I8)","v":"<Z>300</Z>"},{"$f":"U12","v":2000},0,300]
[null,null,null,null,null,null,null,null,null,null,null,null,null,{"$f":"S4U(\"NodeX\",U13)","v":"<NodeX>2000</NodeX>"},null,null,1094,{"$f":"R24","v":"<X>2000</X>"},{"$f":"S19","v":"<Y>8000</Y>"},{"$f":"T24","v":"<Z>300</Z>"},{"$f":"U12","v":2000},6400,300]
[null,null,null,null,null,null,null,null,null,null,null,null,null,{"$f":"S4U(\"NodeY\",I12)","v":"<NodeY>8000</NodeY>"},null,null,1246,{"$f":"R23","v":"<X>2150</X>"},{"$f":"S24","v":"<Y>0</Y>"},{"$f":"T25","v":"<Z>300</Z>"},{"$f":"U23","v":2150},0,300]
[null,null,null,null,null,null,null,null,null,null,null,null,null,{"$f":"S4U(\"NodeX\",U18)","v":"<NodeX>2300</NodeX>"},null,null,1262,{"$f":"R26","v":"<X>2150</X>"},{"$f":"S22","v":"<Y>1500</Y>"},{"$f":"T26","v":"<Z>300</Z>"},{"$f":"U23","v":2150},1000,300]
[null,null,null,null,null,null,null,null,null,null,null,null,null,null,null,null,1272,{"$f":"R27","v":"<X>2150</X>"},{"$f":"S23","v":"<Y>1900</Y>"},{"$f":"T27","v":"<Z>300</Z>"},{"$f":"U27","v":2150},1400,300]
[null,null,null,null,null,null,null,null,null,null,null,null,null,{"$f":"S4U(\"h\",I10)","v":"<h>14</h>"},null,null,1358,{"$f":"R28","v":"<X>2150</X>"},{"$f":"S25","v":"<Y>8000</Y>"},{"$f":"T28","v":"<Z>300</Z>"},{"$f":"U28","v":2150},6400,300]
[null,null,null,null,null,null,null,null,null,null,null,null,null,{"$f":"S4U(\"h\",I11)","v":"<h>8,5</h>"},null,null,1510,{"$f":"Xval(I8)","v":"<X>300</X>"},{"$f":"S26","v":"<Y>0</Y>"},{"$f":"Zval(I16+I8)","v":"<Z>2300</Z>"},300,0,2300]
[null,null,null,null,null,null,null,null,null,null,null,null,null,{"$f":"S4U(\"q1\",-O8)","v":"<q1>-16,67</q1>"},null,null,1572,{"$f":"R19","v":"<X>2300</X>"},{"$f":"S29","v":"<Y>8000</Y>"},{"$f":"T29","v":"<Z>300</Z>"},{"$f":"U19","v":2300},6400,300]
[null,null,null,null,null,null,null,null,null,null,null,null,null,{"$f":"S4U(\"q1\",-P8)","v":"<q1>-33,33</q1>"}]

{"sheet":"WA","index":14,"n_rows":25,"n_cols":19,"rows_kept":25,"cut":false,"hidden":false,"merged":[[4,0,6,4]]}
[]
[]
[]
["Wateraccumulatie enkelvelds dak, hoofdligger voorzien van zeeg"]
[null,null,null,null,null,null,null,"Geometrie",null,null,null,null,null,"Calculated values"]
[null,null,null,null,null,null,null,"Overspanning",15000,"[mm]",null,null,null,"X","Y","Z"]
[null,null,null,null,null,null,null,"Stramienmaat",5400,"[mm]",null,null,null,{"$f":"I7","v":5400},{"$f":"I6/4","v":3750},0,{"$f":"Xval(N7)","v":"<X>5400</X>"},{"$f":"Yval(O7)","v":"<Y>3750</Y>"},{"$f":"Zval(P7)","v":"<Z>0</Z>"}]
[null,null,null,null,null,null,null,"Zeeg",80,"[mm]",null,null,null,{"$f":"I7*2","v":10800},{"$f":"I6/2","v":7500},{"$f":"P9/2","v":40},{"$f":"Xval(N8)","v":"<X>10800</X>"},{"$f":"Yval(O8)","v":"<Y>7500</Y>"},{"$f":"Zval(P8)","v":"<Z>40</Z>"}]
[null,null,null,null,null,null,null,null,null,null,null,null,null,{"$f":"I7*3","v":16200},{"$f":"O8+O7","v":11250},{"$f":"I8","v":80},{"$f":"Xval(N9)","v":"<X>16200</X>"},{"$f":"Yval(O9)","v":"<Y>11250</Y>"},{"$f":"Zval(P9)","v":"<Z>80</Z>"}]
[null,null,null,null,null,null,null,"Doorsnede eigenschappen",null,null,null,null,null,null,{"$f":"I6","v":15000},null,null,{"$f":"Yval(O10)","v":"<Y>15000</Y>"}]
[null,null,null,null,null,null,null,"Hoofdligger","IPE550"]
[null,null,null,null,null,null,null,"Randligger","HEA140",null,null,null,null,{"$f":"Xval(\"0 3x\" &I7)","v":"<X>0 3x5400</X>"}]
[null,null,null,null,null,null,null,"Koppelkoker","HFRHS80X80X4",null,null,null,null,{"$f":"Yval(\"0 \"&I6/2&\" \"&I6/2)","v":"<Y>0 7500 7500</Y>"}]
[null,null,null,null,null,null,null,"Iy dakplaat",{"$f":"DATA!F92","v":2503},"[mm4/mm1]",null,"(SAB106R t=1 mm",null,{"$f":"S4U(\"Profile_name\",I11)","v":"<Profile_name>IPE550</Profile_name>"}]
[null,null,null,null,null,null,null,"Staalkwaliteit","S235",null,null,null,null,{"$f":"S4U(\"Profile_name\",I12)","v":"<Profile_name>HEA140</Profile_name>"}]
[null,null,null,null,null,null,null,null,null,null,null,null,null,{"$f":"S4U(\"Profile_name\",I13)","v":"<Profile_name>HFRHS80X80X4</Profile_name>"}]
[null,null,null,null,null,null,null,"Belastingen",null,null,null,null,null,{"$f":"S4U(\"Material\",I15)","v":"<Material>S235</Material>"}]
[null,null,null,null,null,null,null,"G",0.5,"[kN/m1]",null,null,null,{"$f":"S4U(\"NodeX\",N9)","v":"<NodeX>16200</NodeX>"}]
[null,null,null,null,null,null,null,"dnd",50,"[mm]",null,null,null,{"$f":"S4U(\"NodeY\",O10)","v":"<NodeY>15000</NodeY>"}]
[null,null,null,null,null,null,null,null,null,null,null,null,null,{"$f":"S4U(\"NodeY\",O8)","v":"<NodeY>7500</NodeY>"}]
[null,null,null,null,null,null,null,null,null,null,null,null,null,{"$f":"S4U(\"NodeZ\",P9)","v":"<NodeZ>80</NodeZ>"}]
[null,null,null,null,null,null,null,null,null,null,null,null,null,{"$f":"S4U(\"q1\",-I18)","v":"<q1>-0,5</q1>"}]
[]
[]
[null,null,null,null,null,null,null,null,null,null,null,null,null,{"$f":"S4U(\"Daan\",10)","v":"<Daan>10</Daan>"}]

{"sheet":"EC5 8.11.2.2 Tandverbinding+VEd","index":15,"n_rows":47,"n_cols":9,"rows_kept":47,"cut":false,"hidden":false,"merged":[]}
["8.11.2.2 Tandverbinding+dwarskracht"]
[null,null,null,null,null,null,"formules",null,"normart."]
["Tandverbinding: geometrie"]
["b1",96,"[mm]"]
["h1",{"$f":"[2]CHV12!C8","v":196},"[mm]"]
["b2",{"$f":"[2]CHV12!C9","v":71},"[mm]"]
["h2",{"$f":"[2]CHV12!C10","v":196},"[mm]"]
["α",{"$f":"[2]CHV12!C11","v":45},"[o]"]
["β",{"$f":"[2]CHV12!C12","v":90},"[o]"]
["ttand",{"$f":"[2]CHV12!C15","v":30},"[mm]"]
["x",200,"[mm]"]
["stand",{"$f":"B10/(TAN(RADIANS(B9-B8)))+B11","v":230},"[mm]","ttand/(tan(β-α))+x"]
["lamb",{"$f":"B5/(SIN(RADIANS(B8)))","v":277.18585822512665},"[mm]","h1/sinα"]
["h1,b1 =spantbeen; h2,b2=trekbalk/ligger"]
["Materiaal",{"$f":"[2]CHV12!C20","v":"C24"},null,null,null,"γm",{"$f":"[2]CHV12!G20","v":1.3}]
["Klimaatklasse",{"$f":"[2]CHV12!C21","v":"I"}]
[null,"BC1","BC2","BC3"]
["Nc;d",30,20,15,15,"[kN]"]
["VE;d",5,-7,-3,5,"[kN]"]
["Belastingduurklas.","4 kort","4 kort","1 Blijvend","1 Blijvend"]
["kmod",{"$f":"VLOOKUP(B20,DATA!C20:G24,5)","v":0.9},{"$f":"VLOOKUP(C20,DATA!C20:G24,5)","v":0.9},{"$f":"VLOOKUP(D20,DATA!C20:G24,5)","v":0.60000000000000009},{"$f":"VLOOKUP(E20,DATA!C20:G24,5)","v":0.60000000000000009}]
[]
["Spanningen tgv Normaalkracht"]
["σc;0;d",{"$f":"(B18*1000*COS(RADIANS(B8)))/(B10*B4)","v":7.3656956373598712},{"$f":"(C18*1000*COS(RADIANS(B8)))/(B10*B4)","v":4.9104637582399135},{"$f":"(D18*1000*COS(RADIANS(B8)))/(B10*B4)","v":3.6828478186799356},{"$f":"(E18*1000*COS(RADIANS(B8)))/(B10*B4)","v":3.6828478186799356},"[N/mm2]","Nc;dcosα/(tambb)",null,"NB 8.4"]
["σc;90;d",{"$f":"(B18*1000*SIN(RADIANS(B8)))/(B13*B4)","v":0.79719387755102022},{"$f":"(C18*1000*SIN(RADIANS(B8)))/(B13*B4)","v":0.53146258503401356},{"$f":"(D18*1000*SIN(RADIANS(B8)))/(B13*B4)","v":0.39859693877551011},{"$f":"(E18*1000*SIN(RADIANS(B8)))/(B13*B4)","v":0.39859693877551011},"[N/mm2]","Nc;dsinα/(lambb)",null,"NB 8.5"]
["σv;d",{"$f":"(B18*1000*COS(RADIANS(B8)))/(0.8*B12*B4)","v":1.2009286365260659},{"$f":"(C18*1000*COS(RADIANS(B8)))/(0.8*B12*B4)","v":0.80061909101737727},{"$f":"(D18*1000*COS(RADIANS(B8)))/(0.8*B12*B4)","v":0.60046431826303293},{"$f":"(E18*1000*COS(RADIANS(B8)))/(0.8*B12*B4)","v":0.60046431826303293},"[N/mm2]","Nc;dcosα/(0,8sambb)",null,"NB 8.6"]
[]
["Spanningen tgv Dwarskracht"]
["σc;0;d",{"$f":"(B19*1000*SIN(RADIANS(B8)))/(B10*B4)","v":1.2276159395599784},{"$f":"(C19*1000*SIN(RADIANS(B8)))/(B10*B4)","v":-1.7186623153839697},{"$f":"(D19*1000*SIN(RADIANS(B8)))/(B10*B4)","v":-0.73656956373598692},{"$f":"(E19*1000*SIN(RADIANS(B8)))/(B10*B4)","v":1.2276159395599784},"[N/mm2]","VE;dsinα/(tambb)"]
["σc;90;d",{"$f":"(-B19*1000*COS(RADIANS(B8)))/(B13*B4)","v":-0.13286564625850339},{"$f":"(-C19*1000*COS(RADIANS(B8)))/(B13*B4)","v":0.18601190476190474},{"$f":"(-D19*1000*COS(RADIANS(B8)))/(B13*B4)","v":7.9719387755102039E-2},{"$f":"(-E19*1000*COS(RADIANS(B8)))/(B13*B4)","v":-0.13286564625850339},"[N/mm2]","VE;dcosα/(lambb)"]
["σv;d",{"$f":"(B19*1000*SIN(RADIANS(B8)))/(0.8*B12*B4)","v":0.20015477275434429},{"$f":"(C19*1000*SIN(RADIANS(B8)))/(0.8*B12*B4)","v":-0.28021668185608201},{"$f":"(D19*1000*SIN(RADIANS(B8)))/(0.8*B12*B4)","v":-0.12009286365260657},{"$f":"(E19*1000*SIN(RADIANS(B8)))/(0.8*B12*B4)","v":0.20015477275434429},"[N/mm2]","VE;dsinα/(0,8sambb)"]
["Detaillering",null,null,null,null,"uc "]
["ttand",{"$f":"B10/B7","v":0.15306122448979592},"[h2]","<",{"$f":"IF(B8>50,(1/5),(1/4))","v":0.25},{"$f":"B33/E33","v":0.61224489795918369},"ALS(α> 50; (1/5h);(1/4h)",null,"NB 8.1"]
["90-0.5α",{"$f":"90-0.5*B8","v":67.5},null,"</",{"$f":"B9","v":90},{"$f":"B34/E34","v":0.75},null,null,"NB 8.2"]
["Β<90",{"$f":"B9","v":90},null,"</",90,{"$f":"B35/E35","v":1},null,null,"NB 8.2"]
[]
["Rk","Rd;1","Rd;2","σ1","σ2","UC1","UC2"]
["[N/mm2]","[N/mm2]","[N/mm2]","[N/mm2]","[N/mm2]"]
[{"$f":"HLOOKUP(B15,DATA!E41:M52,6)","v":21},{"$f":"(A39*B21)/G15","v":14.53846153846154},{"$f":"(A39*C21)/G15","v":14.53846153846154},{"$f":"B24+B29","v":8.5933115769198487},3.1918014428559438,{"$f":"D39/B39","v":0.59107434126961911},0.21954189818585854,"(6.35)"]
[{"$f":"HLOOKUP(B15,DATA!E41:M52,7)","v":2.5},{"$f":"(A40*B21)/G15","v":1.7307692307692306},{"$f":"(A40*C21)/G15","v":1.7307692307692306},0.66432823129251684,0.71747448979591832,0.38383408919123196,0.41454081632653061,"(6.4)"]
[{"$f":"HLOOKUP(B15,DATA!E41:M52,8)","v":2.5},{"$f":"(A41*B21)/G15","v":1.7307692307692306},{"$f":"(A41*C21)/G15","v":1.7307692307692306},1.4010834092804101,0.52040240916129532,0.80951485869534812,0.30067694751541513,"(6.13)"]
[]
["Rk","Rd;1","Rd;2","σ1","σ2","UC1","UC2"]
["[N/mm2]","[N/mm2]","[N/mm2]","[N/mm2]","[N/mm2]"]
[{"$f":"A39","v":21},{"$f":"(A45*D21)/G15","v":9.6923076923076934},{"$f":"(A45*E21)/G15","v":9.6923076923076934},{"$f":"D24+D29","v":2.9462782549439486},4.9104637582399135,{"$f":"D45/B45","v":0.30398108979580418},0.5066351496596736,"(6.35)"]
[{"$f":"A40","v":2.5},{"$f":"(A46*D21)/G15","v":1.153846153846154},{"$f":"(A46*E21)/G15","v":1.153846153846154},0.47831632653061218,0.26573129251700672,0.4145408163265305,0.23030045351473913,"(6.4)"]
[{"$f":"A41","v":2.5},{"$f":"(A47*D21)/G15","v":1.153846153846154},{"$f":"(A47*E21)/G15","v":1.153846153846154},0.48037145461042635,0.80061909101737716,0.41632192732903611,0.6938698788817268,"(6.13)"]

{"sheet":"VOORBEELD","index":16,"n_rows":35,"n_cols":18,"rows_kept":35,"cut":false,"hidden":false,"merged":[[4,0,6,4]]}
[]
[]
[]
["Proefportaal"]
[null,null,null,null,null,null,null,"Geometrie",null,null,null,null,null,null,null,null,null,"Calculated values"]
[null,null,null,null,null,null,null,"Hoogte",3000,"[mm]"]
[null,null,null,null,null,null,null,"Breedte",8000,"[mm]",null,null,null,null,{"$f":"Xval(I7)","v":"<X>8000</X>"}]
[null,null,null,null,null,null,null,null,null,null,null,null,null,null,{"$f":"Zval(I6)","v":"<Z>3000</Z>"}]
[null,null,null,null,null,null,null,"Doorsnede eigenschappen",null,null,null,null,null,null,{"$f":"S4U(\"Material\",I12)","v":"<Material>C24</Material>"}]
[null,null,null,null,null,null,null,"Hoogte stijl",38,"[mm]"]
[null,null,null,null,null,null,null,"Breedte stijl",184,"[mm]"]
[null,null,null,null,null,null,null,"Houtkwaliteit","C24","(C18/C24 etc)"]
[]
[null,null,null,null,null,null,null,"Belastingen"]
[null,null,null,null,null,null,null,"G",2,"[kN/m1]"]
[null,null,null,null,null,null,null,"Q",2,"[kN/m2]"]
[]
[]
[]
[]
[]
[null,null,null,null,null,null,null,null,null,null,null,null,null,null,"Stappenplan"]
[null,null,null,null,null,null,null,null,null,null,null,null,null,null,"1) ","Maak een constructie in XFEM4U of XFrame2D"]
[null,null,null,null,null,null,null,null,null,null,null,null,null,null,"2) ","Exporteer het XML-bestand "]
[null,null,null,null,null,null,null,null,null,null,null,null,null,null,"3)","Open de XML in Firefox"]
[null,null,null,null,null,null,null,null,null,null,null,null,null,null,"4) ","Kopiëer de tekst van de XML"]
[null,null,null,null,null,null,null,null,null,null,null,null,null,null,"5) ","Plak deze in de tabblad 'VOORBEELD_1_XML'"]
[null,null,null,null,null,null,null,null,null,null,null,null,null,null,"6) ","Zorg dat het tabblad \"_XML\" achter de naam zit."]
[]
[]
[null,null,null,null,null,null,null,null,null,null,null,null,null,null,null,"Formule","Resultaat"]
[null,null,null,null,null,null,null,null,null,null,null,null,null,null,null,"\"=Xval(500)\"",{"$f":"Xval(500)","v":"<X>500</X>"}]
[null,null,null,null,null,null,null,null,null,null,null,null,null,null,null,"\"=Yval(500)\"",{"$f":"Yval(500)","v":"<Y>500</Y>"}]
[null,null,null,null,null,null,null,null,null,null,null,null,null,null,null,"\"=Zval(500)\"",{"$f":"Zval(500)","v":"<Z>500</Z>"}]
[null,null,null,null,null,null,null,null,null,null,null,null,null,null,null,"\"=S4U(\"Material\";\"C20/25\")\"",{"$f":"S4U(\"Material\",\"C20/25\")","v":"<Material>C20/25</Material>"}]

{"sheet":"VOORBEELD_XML","index":17,"n_rows":187,"n_cols":1,"rows_kept":187,"cut":false,"hidden":false,"merged":[]}
["<Frame>"]
["<ProjectName/>"]
["<ProjectNumber/>"]
[{"$f":"\"<ProjectName>\" & INHOUD!C15 & \"</ProjectName>\"","v":"<ProjectName>50</ProjectName>"}]
[{"$f":"\"<ProjectNumber>\" & INHOUD!C14 & \"</ProjectNumber>\"","v":"<ProjectNumber>CC2</ProjectNumber>"}]
[{"$f":"\"<ConsequenceClass>\"& INHOUD!C16 & \"</ConsequenceClass>\"","v":"<ConsequenceClass>2 bebouwd</ConsequenceClass>"}]
["<DesignWorkingLife>50</DesignWorkingLife>"]
["<Nodes>"]
["<Number>1</Number>"]
["<X>0</X>"]
["<Z>0</Z>"]
["<Number>2</Number>"]
[{"$f":"VOORBEELD!O7","v":"<X>8000</X>"}]
["<Z>0</Z>"]
["<Number>3</Number>"]
["<X>0</X>"]
[{"$f":"VOORBEELD!O8","v":"<Z>3000</Z>"}]
["<Number>4</Number>"]
[{"$f":"A13","v":"<X>8000</X>"}]
[{"$f":"A17","v":"<Z>3000</Z>"}]
["</Nodes>"]
["<Supports>"]
["<Number>1</Number>"]
["<Nodenumber>1</Nodenumber>"]
["<Tx>A</Tx>"]
["<Tz>A</Tz>"]
["<Ry> </Ry>"]
["<Kx>0</Kx>"]
["<Kz>0</Kz>"]
["<Cy>0</Cy>"]
["<dx>1000</dx>"]
["<dz>0</dz>"]
["<Number>2</Number>"]
["<Nodenumber>2</Nodenumber>"]
["<Tx>A</Tx>"]
["<Tz>A</Tz>"]
["<Ry> </Ry>"]
["<Kx>0</Kx>"]
["<Kz>0</Kz>"]
["<Cy>0</Cy>"]
["<dx>1000</dx>"]
["<dz>0</dz>"]
["</Supports>"]
["<Grids>"]
["<X>0 6000</X>"]
["<X_Lable>"]
["A B C D E F G H I J K L M N O P Q R S T U V W X Y Z"]
["</X_Lable>"]
["<Z>0 2500</Z>"]
["<Z_Lable/>"]
["</Grids>"]
["<Profiles>"]
["<Number>1</Number>"]
["<Profile_name>HEA160</Profile_name>"]
["<Material_type>0</Material_type>"]
["<Material>S 235</Material>"]
["<Angle>0</Angle>"]
["<Profile_shape>1</Profile_shape>"]
["<h>152</h>"]
["<b>160</b>"]
["<tf>9</tf>"]
["<tw>6</tw>"]
["<r1>0</r1>"]
["<r2>15</r2>"]
["<slope>0</slope>"]
["<Number>2</Number>"]
["<Profile_name>HEA260</Profile_name>"]
["<Material_type>0</Material_type>"]
["<Material>S 235</Material>"]
["<Angle>0</Angle>"]
["<Profile_shape>1</Profile_shape>"]
["<h>250</h>"]
["<b>260</b>"]
["<tf>12,5</tf>"]
["<tw>7,5</tw>"]
["<r1>0</r1>"]
["<r2>24</r2>"]
["<slope>0</slope>"]
["</Profiles>"]
["<Beamgroup>"]
["<Number>1</Number>"]
["<Startnode>1</Startnode>"]
["<Endnode>3</Endnode>"]
["<Number>2</Number>"]
["<Startnode>1</Startnode>"]
["<Endnode>2</Endnode>"]
["</Beamgroup>"]
["<Beams>"]
["<Number>1</Number>"]
["<Beamgroupnumber>1</Beamgroupnumber>"]
["<From_node_number>1</From_node_number>"]
["<To_node_number>3</To_node_number>"]
["<Type>1</Type>"]
["<TypeLoad>0</TypeLoad>"]
["<NumbLateralRestraints>0</NumbLateralRestraints>"]
["<Angle_profile>0</Angle_profile>"]
["<Profile_number>1</Profile_number>"]
["<Number>2</Number>"]
["<Beamgroupnumber>2</Beamgroupnumber>"]
["<From_node_number>4</From_node_number>"]
["<To_node_number>2</To_node_number>"]
["<Type>1</Type>"]
["<TypeLoad>0</TypeLoad>"]
["<NumbLateralRestraints>0</NumbLateralRestraints>"]
["<Angle_profile>0</Angle_profile>"]
["<Profile_number>1</Profile_number>"]
["<Number>3</Number>"]
["<Beamgroupnumber>2</Beamgroupnumber>"]
["<From_node_number>3</From_node_number>"]
["<To_node_number>4</To_node_number>"]
["<Type>1</Type>"]
["<TypeLoad>0</TypeLoad>"]
["<NumbLateralRestraints>0</NumbLateralRestraints>"]
["<Angle_profile>0</Angle_profile>"]
["<Profile_number>2</Profile_number>"]
["</Beams>"]
["<LoadCases>"]
["<Number>1</Number>"]
["<Description>Permanent</Description>"]
["<Type>0</Type>"]
["<psi0>1</psi0>"]
["<psi1>1</psi1>"]
["<psi2>1</psi2>"]
["<Number>2</Number>"]
["<Description>Veranderlijk</Description>"]
["<Type>1</Type>"]
["<psi0>0,4</psi0>"]
["<psi1>0,5</psi1>"]
["<psi2>0,3</psi2>"]
["</LoadCases>"]
["<BeamLoads>"]
["<LoadCaseNumber>1</LoadCaseNumber>"]
["<BeamNumber>3</BeamNumber>"]
["<Description/>"]
["<Type>1</Type>"]
["<Load1>-3</Load1>"]
["<Load2>-3</Load2>"]
["<a>0</a>"]
["<bL>False</bL>"]
["<L>6000</L>"]
["<angle>0</angle>"]
["</BeamLoads>"]
["<Combinations>"]
["<LoadCombinationNumber>1</LoadCombinationNumber>"]
["<Description>Combinatie1 (6.10a)</Description>"]
["<CombTyp>0</CombTyp>"]
["<Case>1</Case>"]
["<Psi>1</Psi>"]
["<Gamma>1,35</Gamma>"]
["<Case>2</Case>"]
["<Psi>0,4</Psi>"]
["<Gamma>1,5</Gamma>"]
["<LoadCombinationNumber>2</LoadCombinationNumber>"]
["<Description>Combinatie2 (6.10b)</Description>"]
["<CombTyp>0</CombTyp>"]
["<Case>1</Case>"]
["<Psi>1</Psi>"]
["<Gamma>1,2</Gamma>"]
["<Case>2</Case>"]
["<Psi>1</Psi>"]
["<Gamma>1,5</Gamma>"]
["<LoadCombinationNumber>3</LoadCombinationNumber>"]
["<Description>BGT Blijvend</Description>"]
["<CombTyp>4</CombTyp>"]
["<Case>1</Case>"]
["<Psi>1</Psi>"]
["<Gamma>1</Gamma>"]
["<LoadCombinationNumber>4</LoadCombinationNumber>"]
["<Description>BGT Quasi blijvend</Description>"]
["<CombTyp>2</CombTyp>"]
["<Case>1</Case>"]
["<Psi>1</Psi>"]
["<Gamma>1</Gamma>"]
["<Case>2</Case>"]
["<Psi>0,3</Psi>"]
["<Gamma>1</Gamma>"]
["<LoadCombinationNumber>5</LoadCombinationNumber>"]
["<Description>Combinatie</Description>"]
["<CombTyp>3</CombTyp>"]
["<Case>1</Case>"]
["<Psi>1</Psi>"]
["<Gamma>1</Gamma>"]
["<Case>2</Case>"]
["<Psi>1</Psi>"]
["<Gamma>1</Gamma>"]
["</Combinations>"]
["</Frame>"]

{"sheet":"XML-FILES","index":18,"n_rows":0,"n_cols":0,"rows_kept":0,"cut":false,"hidden":false,"merged":[]}

{"sheet":"S3_XML","index":19,"n_rows":673,"n_cols":1,"rows_kept":673,"cut":false,"hidden":false,"merged":[]}
["<Frame>"]
[{"$f":"\"<ProjectName>\" & INHOUD!C13 & \"</ProjectName>\"","v":"<ProjectName>Test project</ProjectName>"}]
[{"$f":"\"<ProjectNumber>\" & INHOUD!C12 & \"</ProjectNumber>\"","v":"<ProjectNumber>0</ProjectNumber>"}]
[{"$f":"\"<ConsequenceClass>\"& INHOUD!C14 & \"</ConsequenceClass>\"","v":"<ConsequenceClass>CC2</ConsequenceClass>"}]
["<DesignWorkingLife>50</DesignWorkingLife>"]
["<ExportDateTime>2024-05-23 21:22:57Z</ExportDateTime>"]
["<XMLExportVersion>v4.0.30319</XMLExportVersion>"]
["<Nodes>"]
["<Number>1</Number>"]
["<X>0</X>"]
["<Y>0</Y>"]
["<Z>0</Z>"]
["<Number>2</Number>"]
["<X>0</X>"]
[{"$f":"'S3'!S9","v":"<Y>1500</Y>"}]
["<Z>0</Z>"]
["<Number>3</Number>"]
["<X>0</X>"]
[{"$f":"'S3'!S15","v":"<Y>1900</Y>"}]
["<Z>0</Z>"]
["<Number>4</Number>"]
["<X>0</X>"]
[{"$f":"'S3'!S31","v":"<Y>8000</Y>"}]
["<Z>0</Z>"]
["<Number>5</Number>"]
[{"$f":"'S3'!R12","v":"<X>2000</X>"}]
["<Y>0</Y>"]
["<Z>0</Z>"]
["<Number>115</Number>"]
[{"$f":"A26","v":"<X>2000</X>"}]
[{"$f":"A23","v":"<Y>8000</Y>"}]
["<Z>0</Z>"]
["<Number>230</Number>"]
[{"$f":"'S3'!R14","v":"<X>2150</X>"}]
["<Y>0</Y>"]
["<Z>0</Z>"]
["<Number>250</Number>"]
[{"$f":"A34","v":"<X>2150</X>"}]
[{"$f":"'S3'!S20","v":"<Y>1500</Y>"}]
["<Z>0</Z>"]
["<Number>254</Number>"]
[{"$f":"A38","v":"<X>2150</X>"}]
[{"$f":"'S3'!S21","v":"<Y>1900</Y>"}]
["<Z>0</Z>"]
["<Number>350</Number>"]
[{"$f":"A42","v":"<X>2150</X>"}]
[{"$f":"A31","v":"<Y>8000</Y>"}]
["<Z>0</Z>"]
["<Number>465</Number>"]
[{"$f":"'S3'!R19","v":"<X>2300</X>"}]
["<Y>0</Y>"]
["<Z>0</Z>"]
["<Number>575</Number>"]
[{"$f":"A50","v":"<X>2300</X>"}]
[{"$f":"'S3'!S25","v":"<Y>8000</Y>"}]
["<Z>0</Z>"]
["<Number>690</Number>"]
[{"$f":"A46","v":"<X>2150</X>"}]
[{"$f":"A39","v":"<Y>1500</Y>"}]
[{"$f":"'S3'!T20","v":"<Z>100</Z>"}]
["<Number>692</Number>"]
[{"$f":"A58","v":"<X>2150</X>"}]
[{"$f":"'S3'!S15","v":"<Y>1900</Y>"}]
[{"$f":"A60","v":"<Z>100</Z>"}]
["<Number>820</Number>"]
[{"$f":"A62","v":"<X>2150</X>"}]
[{"$f":"A59","v":"<Y>1500</Y>"}]
[{"$f":"'S3'!T22","v":"<Z>200</Z>"}]
["<Number>821</Number>"]
[{"$f":"A66","v":"<X>2150</X>"}]
[{"$f":"A63","v":"<Y>1900</Y>"}]
[{"$f":"A68","v":"<Z>200</Z>"}]
["<Number>938</Number>"]
[{"$f":"'S3'!R12","v":"<X>2000</X>"}]
["<Y>0</Y>"]
[{"$f":"'S3'!T28","v":"<Z>300</Z>"}]
["<Number>1048</Number>"]
[{"$f":"A74","v":"<X>2000</X>"}]
[{"$f":"A55","v":"<Y>8000</Y>"}]
[{"$f":"A76","v":"<Z>300</Z>"}]
["<Number>1163</Number>"]
[{"$f":"A70","v":"<X>2150</X>"}]
["<Y>0</Y>"]
[{"$f":"A80","v":"<Z>300</Z>"}]
["<Number>1183</Number>"]
[{"$f":"A82","v":"<X>2150</X>"}]
[{"$f":"A67","v":"<Y>1500</Y>"}]
[{"$f":"A84","v":"<Z>300</Z>"}]
["<Number>1187</Number>"]
[{"$f":"A86","v":"<X>2150</X>"}]
[{"$f":"A71","v":"<Y>1900</Y>"}]
[{"$f":"A88","v":"<Z>300</Z>"}]
["<Number>1283</Number>"]
[{"$f":"A86","v":"<X>2150</X>"}]
[{"$f":"A79","v":"<Y>8000</Y>"}]
[{"$f":"A92","v":"<Z>300</Z>"}]
["<Number>1398</Number>"]
[{"$f":"'S3'!R31","v":"<X>2300</X>"}]
["<Y>0</Y>"]
[{"$f":"A96","v":"<Z>300</Z>"}]
["<Number>1508</Number>"]
[{"$f":"A98","v":"<X>2300</X>"}]
[{"$f":"A79","v":"<Y>8000</Y>"}]
[{"$f":"A80","v":"<Z>300</Z>"}]
["</Nodes>"]
["<Supports>"]
["<Number>1</Number>"]
["<Nodenumber>1</Nodenumber>"]
["<Tx>A</Tx>"]
["<Ty>A</Ty>"]
["<Tz>A</Tz>"]
["<Rx> </Rx>"]
["<Ry> </Ry>"]
["<Rz> </Rz>"]
["<Kx>0</Kx>"]
["<Ky>0</Ky>"]
["<Kz>0</Kz>"]
["<Cx>0</Cx>"]
["<Cy>0</Cy>"]
["<Cz>0</Cz>"]
["<dx>0</dx>"]
["<dy>0</dy>"]
["<dz>0</dz>"]
["<Number>2</Number>"]
["<Nodenumber>4</Nodenumber>"]
["<Tx>A</Tx>"]
["<Ty>A</Ty>"]
["<Tz>A</Tz>"]
["<Rx> </Rx>"]
["<Ry> </Ry>"]
["<Rz> </Rz>"]
["<Kx>0</Kx>"]
["<Ky>0</Ky>"]
["<Kz>0</Kz>"]
["<Cx>0</Cx>"]
["<Cy>0</Cy>"]
["<Cz>0</Cz>"]
["<dx>0</dx>"]
["<dy>0</dy>"]
["<dz>0</dz>"]
["<Number>3</Number>"]
["<Nodenumber>5</Nodenumber>"]
["<Tx>A</Tx>"]
["<Ty>A</Ty>"]
["<Tz>A</Tz>"]
["<Rx> </Rx>"]
["<Ry> </Ry>"]
["<Rz> </Rz>"]
["<Kx>0</Kx>"]
["<Ky>0</Ky>"]
["<Kz>0</Kz>"]
["<Cx>0</Cx>"]
["<Cy>0</Cy>"]
["<Cz>0</Cz>"]
["<dx>0</dx>"]
["<dy>0</dy>"]
["<dz>0</dz>"]
["<Number>4</Number>"]
["<Nodenumber>115</Nodenumber>"]
["<Tx> </Tx>"]
["<Ty> </Ty>"]
["<Tz>A</Tz>"]
["<Rx> </Rx>"]
["<Ry> </Ry>"]
["<Rz> </Rz>"]
["<Kx>0</Kx>"]
["<Ky>0</Ky>"]
["<Kz>0</Kz>"]
["<Cx>0</Cx>"]
["<Cy>0</Cy>"]
["<Cz>0</Cz>"]
["<dx>0</dx>"]
["<dy>0</dy>"]
["<dz>0</dz>"]
["<Number>5</Number>"]
["<Nodenumber>230</Nodenumber>"]
["<Tx> </Tx>"]
["<Ty> </Ty>"]
["<Tz>A</Tz>"]
["<Rx> </Rx>"]
["<Ry> </Ry>"]
["<Rz> </Rz>"]
["<Kx>0</Kx>"]
["<Ky>0</Ky>"]
["<Kz>0</Kz>"]
["<Cx>0</Cx>"]
["<Cy>0</Cy>"]
["<Cz>0</Cz>"]
["<dx>0</dx>"]
["<dy>0</dy>"]
["<dz>0</dz>"]
["<Number>6</Number>"]
["<Nodenumber>350</Nodenumber>"]
["<Tx> </Tx>"]
["<Ty> </Ty>"]
["<Tz>A</Tz>"]
["<Rx> </Rx>"]
["<Ry> </Ry>"]
["<Rz> </Rz>"]
["<Kx>0</Kx>"]
["<Ky>0</Ky>"]
["<Kz>0</Kz>"]
["<Cx>0</Cx>"]
["<Cy>0</Cy>"]
["<Cz>0</Cz>"]
["<dx>0</dx>"]
["<dy>0</dy>"]
["<dz>0</dz>"]
["<Number>7</Number>"]
["<Nodenumber>465</Nodenumber>"]
["<Tx> </Tx>"]
["<Ty> </Ty>"]
["<Tz>A</Tz>"]
["<Rx> </Rx>"]
["<Ry> </Ry>"]
["<Rz> </Rz>"]
["<Kx>0</Kx>"]
["<Ky>0</Ky>"]
["<Kz>0</Kz>"]
["<Cx>0</Cx>"]
["<Cy>0</Cy>"]
["<Cz>0</Cz>"]
["<dx>0</dx>"]
["<dy>0</dy>"]
["<dz>0</dz>"]
["<Number>8</Number>"]
["<Nodenumber>575</Nodenumber>"]
["<Tx> </Tx>"]
["<Ty> </Ty>"]
["<Tz>A</Tz>"]
["<Rx> </Rx>"]
["<Ry> </Ry>"]
["<Rz> </Rz>"]
["<Kx>0</Kx>"]
["<Ky>0</Ky>"]
["<Kz>0</Kz>"]
["<Cx>0</Cx>"]
["<Cy>0</Cy>"]
["<Cz>0</Cz>"]
["<dx>0</dx>"]
["<dy>0</dy>"]
["<dz>0</dz>"]
["</Supports>"]
["<Grids>"]
["<X>0 2000 300</X>"]
["<X_Lable>"]
["A B C D E F G H I J K L M N O P Q R S T U V W X Y Z"]
["</X_Lable>"]
["<Y>0 1000 400 5000</Y>"]
["<Y_Lable>"]
["1 2 3 4 5 6 7 8 9 10 11 12 13 14 15 16 17 18 19 20 21 22 23 24 25"]
["</Y_Lable>"]
["<Z>+0</Z>"]
["<Z_Lable>+0</Z_Lable>"]
["</Grids>"]
["<Profiles>"]
["<Number>1</Number>"]
["<Profile_name>HEA300</Profile_name>"]
["<Material_type>0</Material_type>"]
["<Material>S 235</Material>"]
["<Angle>0</Angle>"]
["<Profile_shape>1</Profile_shape>"]
["<h>290</h>"]
["<b>300</b>"]
["<tf>14</tf>"]
["<tw>8,5</tw>"]
["<r1>0</r1>"]
["<r2>27</r2>"]
["<slope>0</slope>"]
["</Profiles>"]
["<Beamgroup>"]
["<Number>1</Number>"]
["<Startnode>2</Startnode>"]
["<Endnode>3</Endnode>"]
["</Beamgroup>"]
["<Beams>"]
["<Number>1</Number>"]
["<From_node_number>1</From_node_number>"]
["<To_node_number>2</To_node_number>"]
["<BeamRestraintsBegin>aaaaaa</BeamRestraintsBegin>"]
["<BeamRestraintsEnd>aaaaaa</BeamRestraintsEnd>"]
["<NumbLateralRestraints>0</NumbLateralRestraints>"]
["<Angle>0</Angle>"]
["<Angle_profile>0</Angle_profile>"]
["<Profile_number>1</Profile_number>"]
["<Z>0</Z>"]
["<Top_Center_Bottom>Center</Top_Center_Bottom>"]
["<Number>2</Number>"]
["<Beamgroupnumber>1</Beamgroupnumber>"]
["<From_node_number>2</From_node_number>"]
["<To_node_number>3</To_node_number>"]
["<BeamRestraintsBegin>aaaaaa</BeamRestraintsBegin>"]
["<BeamRestraintsEnd>aaaaaa</BeamRestraintsEnd>"]
["<NumbLateralRestraints>0</NumbLateralRestraints>"]
["<Angle>0</Angle>"]
["<Angle_profile>0</Angle_profile>"]
["<Profile_number>1</Profile_number>"]
["<Z>0</Z>"]
["<Top_Center_Bottom>Center</Top_Center_Bottom>"]
["<Number>3</Number>"]
["<From_node_number>3</From_node_number>"]
["<To_node_number>4</To_node_number>"]
["<BeamRestraintsBegin>aaaaaa</BeamRestraintsBegin>"]
["<BeamRestraintsEnd>aaaaaa</BeamRestraintsEnd>"]
["<NumbLateralRestraints>0</NumbLateralRestraints>"]
["<Angle>0</Angle>"]
["<Angle_profile>0</Angle_profile>"]
["<Profile_number>1</Profile_number>"]
["<Z>0</Z>"]
["<Top_Center_Bottom>Center</Top_Center_Bottom>"]
["</Beams>"]
["<Plates>"]
["<Number>2</Number>"]
["<Node>1163</Node>"]
["<Node>1183</Node>"]
["<Node>820</Node>"]
["<Node>690</Node>"]
["<Node>250</Node>"]
["<Node>230</Node>"]
[{"$f":"A332","v":"<h>8,5</h>"}]
["<Material_type>Steel</Material_type>"]
[{"$f":"'S3'!N11","v":"<Material>S235</Material>"}]
["<Z>0</Z>"]
["<Top_Center_Bottom>Center</Top_Center_Bottom>"]
["<Number>3</Number>"]
["<Node>254</Node>"]
["<Node>692</Node>"]
["<Node>821</Node>"]
["<Node>1187</Node>"]
["<Node>1283</Node>"]
["<Node>350</Node>"]
[{"$f":"'S3'!N30","v":"<h>8,5</h>"}]
["<Material_type>Steel</Material_type>"]
[{"$f":"A344","v":"<Material>S235</Material>"}]
["<Z>0</Z>"]
["<Top_Center_Bottom>Center</Top_Center_Bottom>"]
["<Number>4</Number>"]
["<Node>690</Node>"]
["<Node>250</Node>"]
["<Node>254</Node>"]
["<Node>692</Node>"]
[{"$f":"A320","v":"<h>8,5</h>"}]
["<Material_type>Steel</Material_type>"]
[{"$f":"A366","v":"<Material>S235</Material>"}]
["<Z>0</Z>"]
["<Top_Center_Bottom>Center</Top_Center_Bottom>"]
["<Number>5</Number>"]
["<Node>1187</Node>"]
["<Node>1183</Node>"]
["<Node>820</Node>"]
["<Node>821</Node>"]
[{"$f":"A342","v":"<h>8,5</h>"}]
["<Material_type>Steel</Material_type>"]
[{"$f":"A322","v":"<Material>S235</Material>"}]
["<Z>0</Z>"]
["<Top_Center_Bottom>Center</Top_Center_Bottom>"]
["<Number>6</Number>"]
["<Node>1163</Node>"]
["<Node>1398</Node>"]
["<Node>1508</Node>"]
["<Node>1283</Node>"]
["<Node>1187</Node>"]
["<Node>1183</Node>"]
[{"$f":"'S3'!N29","v":"<h>14</h>"}]
["<Material_type>Steel</Material_type>"]
[{"$f":"A354","v":"<Material>S235</Material>"}]
["<Z>0</Z>"]
["<Top_Center_Bottom>Center</Top_Center_Bottom>"]
["<Number>7</Number>"]
["<Node>938</Node>"]
["<Node>1163</Node>"]
["<Node>1183</Node>"]
["<Node>1187</Node>"]
["<Node>1283</Node>"]
["<Node>1048</Node>"]
[{"$f":"A364","v":"<h>14</h>"}]
["<Material_type>Steel</Material_type>"]
[{"$f":"A334","v":"<Material>S235</Material>"}]
["<Z>0</Z>"]
["<Top_Center_Bottom>Center</Top_Center_Bottom>"]
["<Number>8</Number>"]
["<Node>230</Node>"]
["<Node>465</Node>"]
["<Node>575</Node>"]
["<Node>350</Node>"]
["<Node>254</Node>"]
["<Node>250</Node>"]
[{"$f":"A376","v":"<h>14</h>"}]
["<Material_type>Steel</Material_type>"]
[{"$f":"A378","v":"<Material>S235</Material>"}]
["<Z>0</Z>"]
["<Top_Center_Bottom>Center</Top_Center_Bottom>"]
["<Number>9</Number>"]
["<Node>5</Node>"]
["<Node>230</Node>"]
["<Node>250</Node>"]
["<Node>254</Node>"]
["<Node>350</Node>"]
["<Node>115</Node>"]
[{"$f":"A388","v":"<h>14</h>"}]
["<Material_type>Steel</Material_type>"]
[{"$f":"A390","v":"<Material>S235</Material>"}]
["<Z>0</Z>"]
["<Top_Center_Bottom>Center</Top_Center_Bottom>"]
["</Plates>"]
["<LoadCases>"]
["<Number>1</Number>"]
["<Description>Dead load</Description>"]
["<Type>0</Type>"]
["<psi0>1</psi0>"]
["<psi1>1</psi1>"]
["<psi2>1</psi2>"]
["<Number>2</Number>"]
["<Description>Live load</Description>"]
["<Type>5</Type>"]
["<psi0>1</psi0>"]
["<psi1>0,9</psi1>"]
["<psi2>0,8</psi2>"]
["</LoadCases>"]
["<BeamLoads>"]
["<LoadCaseNumber>1</LoadCaseNumber>"]
["<BeamNumber>1</BeamNumber>"]
["<Description/>"]
["<Type>1</Type>"]
["<Coordinate_system>Local</Coordinate_system>"]
["<Direction>Z</Direction>"]
[{"$f":"'S3'!N12","v":"<Load1>-5</Load1>"}]
[{"$f":"'S3'!N13","v":"<Load2>-5</Load2>"}]
["<a>0</a>"]
["<bL>False</bL>"]
[{"$f":"'S3'!N14","v":"<L>1500</L>"}]
["<angle>0</angle>"]
["<LoadCaseNumber>1</LoadCaseNumber>"]
["<BeamNumber>2</BeamNumber>"]
["<Description/>"]
["<Type>1</Type>"]
["<Coordinate_system>Local</Coordinate_system>"]
["<Direction>Z</Direction>"]
[{"$f":"A427","v":"<Load1>-5</Load1>"}]
[{"$f":"A428","v":"<Load2>-5</Load2>"}]
["<a>0</a>"]
["<bL>False</bL>"]
[{"$f":"'S3'!N15","v":"<L>400</L>"}]
["<angle>0</angle>"]
["<LoadCaseNumber>1</LoadCaseNumber>"]
["<BeamNumber>3</BeamNumber>"]
["<Description/>"]
["<Type>1</Type>"]
["<Coordinate_system>Local</Coordinate_system>"]
["<Direction>Z</Direction>"]
[{"$f":"A439","v":"<Load1>-5</Load1>"}]
[{"$f":"A440","v":"<Load2>-5</Load2>"}]
["<a>0</a>"]
["<bL>False</bL>"]
[{"$f":"'S3'!N17","v":"<L>6100</L>"}]
["<angle>0</angle>"]
["<LoadCaseNumber>2</LoadCaseNumber>"]
["<BeamNumber>1</BeamNumber>"]
["<Description/>"]
["<Type>1</Type>"]
["<Coordinate_system>Local</Coordinate_system>"]
["<Direction>Z</Direction>"]
[{"$f":"'S3'!N18","v":"<Load1>-10</Load1>"}]
[{"$f":"'S3'!N19","v":"<Load2>-10</Load2>"}]
["<a>0</a>"]
["<bL>False</bL>"]
[{"$f":"'S3'!N14","v":"<L>1500</L>"}]
["<angle>0</angle>"]
["<LoadCaseNumber>2</LoadCaseNumber>"]
["<BeamNumber>2</BeamNumber>"]
["<Description/>"]
["<Type>1</Type>"]
["<Coordinate_system>Local</Coordinate_system>"]
["<Direction>Z</Direction>"]
[{"$f":"A463","v":"<Load1>-10</Load1>"}]
[{"$f":"A464","v":"<Load2>-10</Load2>"}]
["<a>0</a>"]
["<bL>False</bL>"]
[{"$f":"'S3'!N15","v":"<L>400</L>"}]
["<angle>0</angle>"]
["<LoadCaseNumber>2</LoadCaseNumber>"]
["<BeamNumber>3</BeamNumber>"]
["<Description/>"]
["<Type>1</Type>"]
["<Coordinate_system>Local</Coordinate_system>"]
["<Direction>Z</Direction>"]
[{"$f":"A475","v":"<Load1>-10</Load1>"}]
[{"$f":"A476","v":"<Load2>-10</Load2>"}]
["<a>0</a>"]
["<bL>False</bL>"]
[{"$f":"'S3'!N17","v":"<L>6100</L>"}]
["<angle>0</angle>"]
["</BeamLoads>"]
["<SurfaceLoads>"]
["<LoadCaseNumber>1</LoadCaseNumber>"]
["<Number>1</Number>"]
["<Description/>"]
[{"$f":"'S3'!N23","v":"<NodeX>2150</NodeX>"}]
["<NodeY>0</NodeY>"]
[{"$f":"'S3'!N24","v":"<NodeZ>300</NodeZ>"}]
[{"$f":"'S3'!N25","v":"<NodeX>2000</NodeX>"}]
["<NodeY>0</NodeY>"]
[{"$f":"A500","v":"<NodeZ>300</NodeZ>"}]
[{"$f":"A501","v":"<NodeX>2000</NodeX>"}]
[{"$f":"'S3'!N26","v":"<NodeY>8000</NodeY>"}]
[{"$f":"A503","v":"<NodeZ>300</NodeZ>"}]
[{"$f":"A498","v":"<NodeX>2150</NodeX>"}]
[{"$f":"A505","v":"<NodeY>8000</NodeY>"}]
[{"$f":"A506","v":"<NodeZ>300</NodeZ>"}]
[{"$f":"'S3'!N27","v":"<NodeX>2300</NodeX>"}]
[{"$f":"A508","v":"<NodeY>8000</NodeY>"}]
[{"$f":"A509","v":"<NodeZ>300</NodeZ>"}]
[{"$f":"A510","v":"<NodeX>2300</NodeX>"}]
["<NodeY>0</NodeY>"]
[{"$f":"A512","v":"<NodeZ>300</NodeZ>"}]
["<Coordinate_system>Local</Coordinate_system>"]
["<Direction>Z</Direction>"]
["<LoadBearingDirection>X</LoadBearingDirection>"]
[{"$f":"'S3'!N31","v":"<q1>-16,67</q1>"}]
["<q2>-2,5</q2>"]
["<q3>-2,5</q3>"]
["<LoadConstantOrLinear>constant</LoadConstantOrLinear>"]
["<iq1>-1</iq1>"]
["<iq2>-1</iq2>"]
["<iq3>-1</iq3>"]
["<LoadCaseNumber>2</LoadCaseNumber>"]
["<Number>1</Number>"]
["<Description/>"]
[{"$f":"A498","v":"<NodeX>2150</NodeX>"}]
["<NodeY>0</NodeY>"]
[{"$f":"A500","v":"<NodeZ>300</NodeZ>"}]
[{"$f":"A501","v":"<NodeX>2000</NodeX>"}]
["<NodeY>0</NodeY>"]
[{"$f":"A503","v":"<NodeZ>300</NodeZ>"}]
["<NodeX>2000</NodeX>"]
["<NodeY>8000</NodeY>"]
["<NodeZ>300</NodeZ>"]
["<NodeX>2150</NodeX>"]
["<NodeY>8000</NodeY>"]
["<NodeZ>300</NodeZ>"]
["<NodeX>2300</NodeX>"]
["<NodeY>8000</NodeY>"]
["<NodeZ>300</NodeZ>"]
["<NodeX>2300</NodeX>"]
["<NodeY>0</NodeY>"]
[{"$f":"A515","v":"<NodeZ>300</NodeZ>"}]
["<Coordinate_system>Local</Coordinate_system>"]
["<Direction>Z</Direction>"]
["<LoadBearingDirection>X</LoadBearingDirection>"]
[{"$f":"'S3'!N32","v":"<q1>-33,33</q1>"}]
["<q2>-2,5</q2>"]
["<q3>-2,5</q3>"]
["<LoadConstantOrLinear>constant</LoadConstantOrLinear>"]
["<iq1>-1</iq1>"]
["<iq2>-1</iq2>"]
["<iq3>-1</iq3>"]
["</SurfaceLoads>"]
["<Combinations>"]
["<LoadCombinationNumber>1</LoadCombinationNumber>"]
["<Description>Dead load</Description>"]
["<CombTyp>0</CombTyp>"]
["<Case>1</Case>"]
["<Psi>1</Psi>"]
["<Gamma>1,22</Gamma>"]
["<Case>2</Case>"]
["<Psi>1</Psi>"]
["<Gamma>1,35</Gamma>"]
["<LoadCombinationNumber>2</LoadCombinationNumber>"]
["<Description>Live load</Description>"]
["<CombTyp>0</CombTyp>"]
["<Case>1</Case>"]
["<Psi>1</Psi>"]
["<Gamma>1,08</Gamma>"]
["<Case>2</Case>"]
["<Psi>1</Psi>"]
["<Gamma>1,35</Gamma>"]
["<LoadCombinationNumber>3</LoadCombinationNumber>"]
["<Description>Dead load</Description>"]
["<CombTyp>3</CombTyp>"]
["<Case>1</Case>"]
["<Psi>1</Psi>"]
["<Gamma>1</Gamma>"]
["<Case>2</Case>"]
["<Psi>1</Psi>"]
["<Gamma>1</Gamma>"]
["<LoadCombinationNumber>4</LoadCombinationNumber>"]
["<Description>Live load</Description>"]
["<CombTyp>3</CombTyp>"]
["<Case>1</Case>"]
["<Psi>1</Psi>"]
["<Gamma>1</Gamma>"]
["<Case>2</Case>"]
["<Psi>1</Psi>"]
["<Gamma>1</Gamma>"]
["<LoadCombinationNumber>5</LoadCombinationNumber>"]
["<Description>SLS Permanent</Description>"]
["<CombTyp>4</CombTyp>"]
["<Case>1</Case>"]
["<Psi>1</Psi>"]
["<Gamma>1</Gamma>"]
["<LoadCombinationNumber>6</LoadCombinationNumber>"]
["<Description>SLS Quasi-permanent</Description>"]
["<CombTyp>2</CombTyp>"]
["<Case>1</Case>"]
["<Psi>1</Psi>"]
["<Gamma>1</Gamma>"]
["<Case>2</Case>"]
["<Psi>0,8</Psi>"]
["<Gamma>1</Gamma>"]
["</Combinations>"]
["<RebarLongitudinal/>"]
["<RebarStirrup/>"]
["<Layers>"]
["<Layer_number>1</Layer_number>"]
["<Layer_description>Layer 1</Layer_description>"]
["<Layer_number>2</Layer_number>"]
["<Layer_description>Layer 2</Layer_description>"]
["<Layer_number>3</Layer_number>"]
["<Layer_description>Layer 3</Layer_description>"]
["<Layer_number>4</Layer_number>"]
["<Layer_description>Layer 4</Layer_description>"]
["<Layer_number>5</Layer_number>"]
["<Layer_description>Layer 5</Layer_description>"]
["<Layer_number>6</Layer_number>"]
["<Layer_description>Layer 6</Layer_description>"]
["<Layer_number>7</Layer_number>"]
["<Layer_description>Layer 7</Layer_description>"]
["<Layer_number>8</Layer_number>"]
["<Layer_description>Layer 8</Layer_description>"]
["<Layer_number>9</Layer_number>"]
["<Layer_description>Layer 9</Layer_description>"]
["<Layer_number>10</Layer_number>"]
["<Layer_description>Layer 10</Layer_description>"]
["<Layer_number>11</Layer_number>"]
["<Layer_description>Layer 11</Layer_description>"]
["<Layer_number>12</Layer_number>"]
["<Layer_description>Layer 12</Layer_description>"]
["<Layer_number>13</Layer_number>"]
["<Layer_description>Layer 13</Layer_description>"]
["<Layer_number>14</Layer_number>"]
["<Layer_description>Layer 14</Layer_description>"]
["<Layer_number>15</Layer_number>"]
["<Layer_description>Layer 15</Layer_description>"]
["<Layer_number>16</Layer_number>"]
["<Layer_description>Layer 16</Layer_description>"]
["<Layer_number>17</Layer_number>"]
["<Layer_description>Layer 17</Layer_description>"]
["<Layer_number>18</Layer_number>"]
["<Layer_description>Layer 18</Layer_description>"]
["<Layer_number>19</Layer_number>"]
["<Layer_description>Layer 19</Layer_description>"]
["<Layer_number>20</Layer_number>"]
["<Layer_description>Layer 20</Layer_description>"]
["<Layer_number>21</Layer_number>"]
["<Layer_description>Layer 21</Layer_description>"]
["<Layer_number>22</Layer_number>"]
["<Layer_description>Layer 22</Layer_description>"]
["<Layer_number>23</Layer_number>"]
["<Layer_description>Layer 23</Layer_description>"]
["<Layer_number>24</Layer_number>"]
["<Layer_description>Layer 24</Layer_description>"]
["<Layer_number>25</Layer_number>"]
["<Layer_description>Layer 25</Layer_description>"]
["<Layer_number>1</Layer_number>"]
["<Layer_description>Layer 1</Layer_description>"]
["<Layer_number>2</Layer_number>"]
["<Layer_description>Layer 2</Layer_description>"]
["<Layer_number>3</Layer_number>"]
["<Layer_description>Layer 3</Layer_description>"]
["<Layer_number>4</Layer_number>"]
["<Layer_description/>"]
["</Layers>"]
["</Frame>"]

{"sheet":"WA_XML","index":20,"n_rows":892,"n_cols":1,"rows_kept":892,"cut":false,"hidden":true,"merged":[]}
["<Frame>"]
[{"$f":"\"<ProjectName>\" & INHOUD!C13 & \"</ProjectName>\"","v":"<ProjectName>Test project</ProjectName>"}]
[{"$f":"\"<ProjectNumber>\" & INHOUD!C12 & \"</ProjectNumber>\"","v":"<ProjectNumber>0</ProjectNumber>"}]
[{"$f":"\"<ConsequenceClass>\"& INHOUD!C14 & \"</ConsequenceClass>\"","v":"<ConsequenceClass>CC2</ConsequenceClass>"}]
["<DesignWorkingLife>50</DesignWorkingLife>"]
["<ExportDateTime>2024-05-23 22:02:27Z</ExportDateTime>"]
["<XMLExportVersion>v4.0.30319</XMLExportVersion>"]
["<Nodes>"]
["<Number>1</Number>"]
["<X>0</X>"]
["<Y>0</Y>"]
["<Z>0</Z>"]
["<Number>2</Number>"]
["<X>0</X>"]
[{"$f":"WA!R10","v":"<Y>15000</Y>"}]
["<Z>0</Z>"]
["<Number>17</Number>"]
[{"$f":"WA!Q7","v":"<X>5400</X>"}]
["<Y>0</Y>"]
["<Z>0</Z>"]
["<Number>18</Number>"]
[{"$f":"A18","v":"<X>5400</X>"}]
[{"$f":"A15","v":"<Y>15000</Y>"}]
["<Z>0</Z>"]
["<Number>33</Number>"]
[{"$f":"WA!Q8","v":"<X>10800</X>"}]
["<Y>0</Y>"]
["<Z>0</Z>"]
["<Number>34</Number>"]
[{"$f":"A26","v":"<X>10800</X>"}]
[{"$f":"A23","v":"<Y>15000</Y>"}]
["<Z>0</Z>"]
["<Number>49</Number>"]
[{"$f":"WA!Q9","v":"<X>16200</X>"}]
["<Y>0</Y>"]
["<Z>0</Z>"]
["<Number>50</Number>"]
[{"$f":"A34","v":"<X>16200</X>"}]
[{"$f":"A31","v":"<Y>15000</Y>"}]
["<Z>0</Z>"]
["<Number>350</Number>"]
["<X>0</X>"]
[{"$f":"WA!R9","v":"<Y>11250</Y>"}]
[{"$f":"WA!S8","v":"<Z>40</Z>"}]
["<Number>360</Number>"]
[{"$f":"A22","v":"<X>5400</X>"}]
[{"$f":"A43","v":"<Y>11250</Y>"}]
[{"$f":"A44","v":"<Z>40</Z>"}]
["<Number>370</Number>"]
[{"$f":"WA!Q8","v":"<X>10800</X>"}]
[{"$f":"A47","v":"<Y>11250</Y>"}]
[{"$f":"A48","v":"<Z>40</Z>"}]
["<Number>380</Number>"]
[{"$f":"WA!Q9","v":"<X>16200</X>"}]
[{"$f":"A51","v":"<Y>11250</Y>"}]
[{"$f":"A52","v":"<Z>40</Z>"}]
["<Number>381</Number>"]
["<X>0</X>"]
[{"$f":"WA!R7","v":"<Y>3750</Y>"}]
[{"$f":"A56","v":"<Z>40</Z>"}]
["<Number>389</Number>"]
[{"$f":"WA!Q7","v":"<X>5400</X>"}]
[{"$f":"A59","v":"<Y>3750</Y>"}]
[{"$f":"A60","v":"<Z>40</Z>"}]
["<Number>397</Number>"]
[{"$f":"A50","v":"<X>10800</X>"}]
[{"$f":"A63","v":"<Y>3750</Y>"}]
[{"$f":"A64","v":"<Z>40</Z>"}]
["<Number>405</Number>"]
[{"$f":"WA!Q9","v":"<X>16200</X>"}]
[{"$f":"WA!R7","v":"<Y>3750</Y>"}]
[{"$f":"A68","v":"<Z>40</Z>"}]
["<Number>703</Number>"]
["<X>0</X>"]
[{"$f":"WA!R8","v":"<Y>7500</Y>"}]
[{"$f":"WA!S9","v":"<Z>80</Z>"}]
["<Number>711</Number>"]
[{"$f":"WA!Q7","v":"<X>5400</X>"}]
[{"$f":"A75","v":"<Y>7500</Y>"}]
[{"$f":"A76","v":"<Z>80</Z>"}]
["<Number>719</Number>"]
[{"$f":"A66","v":"<X>10800</X>"}]
[{"$f":"A75","v":"<Y>7500</Y>"}]
[{"$f":"A80","v":"<Z>80</Z>"}]
["<Number>727</Number>"]
[{"$f":"WA!Q9","v":"<X>16200</X>"}]
[{"$f":"A83","v":"<Y>7500</Y>"}]
[{"$f":"A84","v":"<Z>80</Z>"}]
["</Nodes>"]
["<Supports>"]
["<Number>1</Number>"]
["<Nodenumber>1</Nodenumber>"]
["<Tx> </Tx>"]
["<Ty> </Ty>"]
["<Tz>A</Tz>"]
["<Rx> </Rx>"]
["<Ry> </Ry>"]
["<Rz> </Rz>"]
["<Kx>0</Kx>"]
["<Ky>0</Ky>"]
["<Kz>0</Kz>"]
["<Cx>0</Cx>"]
["<Cy>0</Cy>"]
["<Cz>0</Cz>"]
["<dx>0</dx>"]
["<dy>0</dy>"]
["<dz>0</dz>"]
["<Number>2</Number>"]
["<Nodenumber>2</Nodenumber>"]
["<Tx> </Tx>"]
["<Ty> </Ty>"]
["<Tz>A</Tz>"]
["<Rx> </Rx>"]
["<Ry> </Ry>"]
["<Rz> </Rz>"]
["<Kx>0</Kx>"]
["<Ky>0</Ky>"]
["<Kz>0</Kz>"]
["<Cx>0</Cx>"]
["<Cy>0</Cy>"]
["<Cz>0</Cz>"]
["<dx>0</dx>"]
["<dy>0</dy>"]
["<dz>0</dz>"]
["<Number>3</Number>"]
["<Nodenumber>17</Nodenumber>"]
["<Tx> </Tx>"]
["<Ty> </Ty>"]
["<Tz>A</Tz>"]
["<Rx> </Rx>"]
["<Ry> </Ry>"]
["<Rz> </Rz>"]
["<Kx>0</Kx>"]
["<Ky>0</Ky>"]
["<Kz>0</Kz>"]
["<Cx>0</Cx>"]
["<Cy>0</Cy>"]
["<Cz>0</Cz>"]
["<dx>0</dx>"]
["<dy>0</dy>"]
["<dz>0</dz>"]
["<Number>4</Number>"]
["<Nodenumber>18</Nodenumber>"]
["<Tx> </Tx>"]
["<Ty> </Ty>"]
["<Tz>A</Tz>"]
["<Rx> </Rx>"]
["<Ry> </Ry>"]
["<Rz> </Rz>"]
["<Kx>0</Kx>"]
["<Ky>0</Ky>"]
["<Kz>0</Kz>"]
["<Cx>0</Cx>"]
["<Cy>0</Cy>"]
["<Cz>0</Cz>"]
["<dx>0</dx>"]
["<dy>0</dy>"]
["<dz>0</dz>"]
["<Number>5</Number>"]
["<Nodenumber>33</Nodenumber>"]
["<Tx> </Tx>"]
["<Ty> </Ty>"]
["<Tz>A</Tz>"]
["<Rx> </Rx>"]
["<Ry> </Ry>"]
["<Rz> </Rz>"]
["<Kx>0</Kx>"]
["<Ky>0</Ky>"]
["<Kz>0</Kz>"]
["<Cx>0</Cx>"]
["<Cy>0</Cy>"]
["<Cz>0</Cz>"]
["<dx>0</dx>"]
["<dy>0</dy>"]
["<dz>0</dz>"]
["<Number>6</Number>"]
["<Nodenumber>34</Nodenumber>"]
["<Tx> </Tx>"]
["<Ty> </Ty>"]
["<Tz>A</Tz>"]
["<Rx> </Rx>"]
["<Ry> </Ry>"]
["<Rz> </Rz>"]
["<Kx>0</Kx>"]
["<Ky>0</Ky>"]
["<Kz>0</Kz>"]
["<Cx>0</Cx>"]
["<Cy>0</Cy>"]
["<Cz>0</Cz>"]
["<dx>0</dx>"]
["<dy>0</dy>"]
["<dz>0</dz>"]
["<Number>7</Number>"]
["<Nodenumber>49</Nodenumber>"]
["<Tx>A</Tx>"]
["<Ty> </Ty>"]
["<Tz>A</Tz>"]
["<Rx> </Rx>"]
["<Ry> </Ry>"]
["<Rz> </Rz>"]
["<Kx>0</Kx>"]
["<Ky>0</Ky>"]
["<Kz>0</Kz>"]
["<Cx>0</Cx>"]
["<Cy>0</Cy>"]
["<Cz>0</Cz>"]
["<dx>0</dx>"]
["<dy>0</dy>"]
["<dz>0</dz>"]
["<Number>8</Number>"]
["<Nodenumber>50</Nodenumber>"]
["<Tx>A</Tx>"]
["<Ty>A</Ty>"]
["<Tz>A</Tz>"]
["<Rx> </Rx>"]
["<Ry> </Ry>"]
["<Rz> </Rz>"]
["<Kx>0</Kx>"]
["<Ky>0</Ky>"]
["<Kz>0</Kz>"]
["<Cx>0</Cx>"]
["<Cy>0</Cy>"]
["<Cz>0</Cz>"]
["<dx>0</dx>"]
["<dy>0</dy>"]
["<dz>0</dz>"]
["<Number>9</Number>"]
["<Nodenumber>380</Nodenumber>"]
["<Tx> </Tx>"]
["<Ty> </Ty>"]
["<Tz>A</Tz>"]
["<Rx> </Rx>"]
["<Ry> </Ry>"]
["<Rz> </Rz>"]
["<Kx>0</Kx>"]
["<Ky>0</Ky>"]
["<Kz>0</Kz>"]
["<Cx>0</Cx>"]
["<Cy>0</Cy>"]
["<Cz>0</Cz>"]
["<dx>0</dx>"]
["<dy>0</dy>"]
["<dz>0</dz>"]
["<Number>10</Number>"]
["<Nodenumber>405</Nodenumber>"]
["<Tx> </Tx>"]
["<Ty> </Ty>"]
["<Tz>A</Tz>"]
["<Rx> </Rx>"]
["<Ry> </Ry>"]
["<Rz> </Rz>"]
["<Kx>0</Kx>"]
["<Ky>0</Ky>"]
["<Kz>0</Kz>"]
["<Cx>0</Cx>"]
["<Cy>0</Cy>"]
["<Cz>0</Cz>"]
["<dx>0</dx>"]
["<dy>0</dy>"]
["<dz>0</dz>"]
["<Number>11</Number>"]
["<Nodenumber>727</Nodenumber>"]
["<Tx> </Tx>"]
["<Ty> </Ty>"]
["<Tz>A</Tz>"]
["<Rx> </Rx>"]
["<Ry> </Ry>"]
["<Rz> </Rz>"]
["<Kx>0</Kx>"]
["<Ky>0</Ky>"]
["<Kz>0</Kz>"]
["<Cx>0</Cx>"]
["<Cy>0</Cy>"]
["<Cz>0</Cz>"]
["<dx>0</dx>"]
["<dy>0</dy>"]
["<dz>0</dz>"]
["</Supports>"]
["<Grids>"]
[{"$f":"WA!N12","v":"<X>0 3x5400</X>"}]
["<X_Lable>"]
["A B C D E F G H I J K L M N O P Q R S T U V W X Y Z"]
["</X_Lable>"]
[{"$f":"WA!N13","v":"<Y>0 7500 7500</Y>"}]
["<Y_Lable>"]
["1 2 3 4 5 6 7 8 9 10 11 12 13 14 15 16 17 18 19 20 21 22 23 24 25"]
["</Y_Lable>"]
["<Z>0</Z>"]
["<Z_Lable>+0</Z_Lable>"]
["</Grids>"]
["<Profiles>"]
["<Number>1</Number>"]
[{"$f":"WA!N14","v":"<Profile_name>IPE550</Profile_name>"}]
["<Material_type>0</Material_type>"]
[{"$f":"WA!N17","v":"<Material>S235</Material>"}]
["<Angle>0</Angle>"]
["<Profile_shape>1</Profile_shape>"]
["<h>500</h>"]
["<b>200</b>"]
["<tf>16</tf>"]
["<tw>10,2</tw>"]
["<r1>0</r1>"]
["<r2>21</r2>"]
["<slope>0</slope>"]
["<Number>2</Number>"]
[{"$f":"WA!N15","v":"<Profile_name>HEA140</Profile_name>"}]
["<Material_type>0</Material_type>"]
[{"$f":"WA!N17","v":"<Material>S235</Material>"}]
["<Angle>0</Angle>"]
["<Profile_shape>1</Profile_shape>"]
["<h>133</h>"]
["<b>140</b>"]
["<tf>8,5</tf>"]
["<tw>5,5</tw>"]
["<r1>0</r1>"]
["<r2>12</r2>"]
["<slope>0</slope>"]
["<Number>3</Number>"]
[{"$f":"WA!N16","v":"<Profile_name>HFRHS80X80X4</Profile_name>"}]
["<Material_type>0</Material_type>"]
[{"$f":"WA!N17","v":"<Material>S235</Material>"}]
["<Angle>0</Angle>"]
["<Profile_shape>4</Profile_shape>"]
["<h>80</h>"]
["<b>80</b>"]
["<tf>4</tf>"]
["<tw>4</tw>"]
["<r1>4</r1>"]
["<r2>6</r2>"]
["<slope>0</slope>"]
["</Profiles>"]
["<Beamgroup>"]
["<Number>1</Number>"]
["<Startnode>34</Startnode>"]
["<Endnode>719</Endnode>"]
["<Number>2</Number>"]
["<Startnode>719</Startnode>"]
["<Endnode>33</Endnode>"]
["<Number>3</Number>"]
["<Startnode>18</Startnode>"]
["<Endnode>711</Endnode>"]
["<Number>4</Number>"]
["<Startnode>711</Startnode>"]
["<Endnode>17</Endnode>"]
["<Number>5</Number>"]
["<Startnode>2</Startnode>"]
["<Endnode>703</Endnode>"]
["<Number>6</Number>"]
["<Startnode>703</Startnode>"]
["<Endnode>1</Endnode>"]
["<Number>7</Number>"]
["<Startnode>50</Startnode>"]
["<Endnode>727</Endnode>"]
["<Number>8</Number>"]
["<Startnode>727</Startnode>"]
["<Endnode>49</Endnode>"]
["<Number>9</Number>"]
["<Startnode>50</Startnode>"]
["<Endnode>34</Endnode>"]
["<Number>10</Number>"]
["<Startnode>34</Startnode>"]
["<Endnode>18</Endnode>"]
["<Number>11</Number>"]
["<Startnode>18</Startnode>"]
["<Endnode>2</Endnode>"]
["<Number>12</Number>"]
["<Startnode>727</Startnode>"]
["<Endnode>719</Endnode>"]
["<Number>13</Number>"]
["<Startnode>719</Startnode>"]
["<Endnode>711</Endnode>"]
["<Number>14</Number>"]
["<Startnode>711</Startnode>"]
["<Endnode>703</Endnode>"]
["<Number>15</Number>"]
["<Startnode>380</Startnode>"]
["<Endnode>370</Endnode>"]
["<Number>16</Number>"]
["<Startnode>370</Startnode>"]
["<Endnode>360</Endnode>"]
["<Number>17</Number>"]
["<Startnode>360</Startnode>"]
["<Endnode>350</Endnode>"]
["<Number>18</Number>"]
["<Startnode>405</Startnode>"]
["<Endnode>397</Endnode>"]
["<Number>19</Number>"]
["<Startnode>397</Startnode>"]
["<Endnode>389</Endnode>"]
["<Number>20</Number>"]
["<Startnode>389</Startnode>"]
["<Endnode>381</Endnode>"]
["<Number>21</Number>"]
["<Startnode>1</Startnode>"]
["<Endnode>17</Endnode>"]
["<Number>22</Number>"]
["<Startnode>17</Startnode>"]
["<Endnode>33</Endnode>"]
["<Number>23</Number>"]
["<Startnode>33</Startnode>"]
["<Endnode>49</Endnode>"]
["</Beamgroup>"]
["<Beams>"]
["<Number>1</Number>"]
["<Beamgroupnumber>1</Beamgroupnumber>"]
["<From_node_number>34</From_node_number>"]
["<To_node_number>719</To_node_number>"]
["<BeamRestraintsBegin>aaaaaa</BeamRestraintsBegin>"]
["<BeamRestraintsEnd>aaaaaa</BeamRestraintsEnd>"]
["<NumbLateralRestraints>2</NumbLateralRestraints>"]
["<Angle>0</Angle>"]
["<Angle_profile>0</Angle_profile>"]
["<Profile_number>1</Profile_number>"]
["<Z>0</Z>"]
["<Top_Center_Bottom>Center</Top_Center_Bottom>"]
["<Number>2</Number>"]
["<Beamgroupnumber>2</Beamgroupnumber>"]
["<From_node_number>719</From_node_number>"]
["<To_node_number>33</To_node_number>"]
["<BeamRestraintsBegin>aaaaaa</BeamRestraintsBegin>"]
["<BeamRestraintsEnd>aaaaaa</BeamRestraintsEnd>"]
["<NumbLateralRestraints>2</NumbLateralRestraints>"]
["<Angle>0</Angle>"]
["<Angle_profile>0</Angle_profile>"]
["<Profile_number>1</Profile_number>"]
["<Z>0</Z>"]
["<Top_Center_Bottom>Center</Top_Center_Bottom>"]
["<Number>3</Number>"]
["<Beamgroupnumber>3</Beamgroupnumber>"]
["<From_node_number>18</From_node_number>"]
["<To_node_number>711</To_node_number>"]
["<BeamRestraintsBegin>aaaaaa</BeamRestraintsBegin>"]
["<BeamRestraintsEnd>aaaaaa</BeamRestraintsEnd>"]
["<NumbLateralRestraints>2</NumbLateralRestraints>"]
["<Angle>0</Angle>"]
["<Angle_profile>0</Angle_profile>"]
["<Profile_number>1</Profile_number>"]
["<Z>0</Z>"]
["<Top_Center_Bottom>Center</Top_Center_Bottom>"]
["<Number>4</Number>"]
["<Beamgroupnumber>4</Beamgroupnumber>"]
["<From_node_number>711</From_node_number>"]
["<To_node_number>17</To_node_number>"]
["<BeamRestraintsBegin>aaaaaa</BeamRestraintsBegin>"]
["<BeamRestraintsEnd>aaaaaa</BeamRestraintsEnd>"]
["<NumbLateralRestraints>2</NumbLateralRestraints>"]
["<Angle>0</Angle>"]
["<Angle_profile>0</Angle_profile>"]
["<Profile_number>1</Profile_number>"]
["<Z>0</Z>"]
["<Top_Center_Bottom>Center</Top_Center_Bottom>"]
["<Number>5</Number>"]
["<Beamgroupnumber>5</Beamgroupnumber>"]
["<From_node_number>2</From_node_number>"]
["<To_node_number>703</To_node_number>"]
["<BeamRestraintsBegin>aaaaaa</BeamRestraintsBegin>"]
["<BeamRestraintsEnd>aaaaaa</BeamRestraintsEnd>"]
["<NumbLateralRestraints>2</NumbLateralRestraints>"]
["<Angle>0</Angle>"]
["<Angle_profile>0</Angle_profile>"]
["<Profile_number>1</Profile_number>"]
["<Z>0</Z>"]
["<Top_Center_Bottom>Center</Top_Center_Bottom>"]
["<Number>6</Number>"]
["<Beamgroupnumber>6</Beamgroupnumber>"]
["<From_node_number>703</From_node_number>"]
["<To_node_number>1</To_node_number>"]
["<BeamRestraintsBegin>aaaaaa</BeamRestraintsBegin>"]
["<BeamRestraintsEnd>aaaaaa</BeamRestraintsEnd>"]
["<NumbLateralRestraints>2</NumbLateralRestraints>"]
["<Angle>0</Angle>"]
["<Angle_profile>0</Angle_profile>"]
["<Profile_number>1</Profile_number>"]
["<Z>0</Z>"]
["<Top_Center_Bottom>Center</Top_Center_Bottom>"]
["<Number>7</Number>"]
["<Beamgroupnumber>7</Beamgroupnumber>"]
["<From_node_number>50</From_node_number>"]
["<To_node_number>727</To_node_number>"]
["<BeamRestraintsBegin>aaaaaa</BeamRestraintsBegin>"]
["<BeamRestraintsEnd>aaaaaa</BeamRestraintsEnd>"]
["<NumbLateralRestraints>2</NumbLateralRestraints>"]
["<Angle>0</Angle>"]
["<Angle_profile>0</Angle_profile>"]
["<Profile_number>2</Profile_number>"]
["<Z>0</Z>"]
["<Top_Center_Bottom>Center</Top_Center_Bottom>"]
["<Number>8</Number>"]
["<Beamgroupnumber>8</Beamgroupnumber>"]
["<From_node_number>727</From_node_number>"]
["<To_node_number>49</To_node_number>"]
["<BeamRestraintsBegin>aaaaaa</BeamRestraintsBegin>"]
["<BeamRestraintsEnd>aaaaaa</BeamRestraintsEnd>"]
["<NumbLateralRestraints>2</NumbLateralRestraints>"]
["<Angle>0</Angle>"]
["<Angle_profile>0</Angle_profile>"]
["<Profile_number>2</Profile_number>"]
["<Z>0</Z>"]
["<Top_Center_Bottom>Center</Top_Center_Bottom>"]
["<Number>9</Number>"]
["<Beamgroupnumber>9</Beamgroupnumber>"]
["<From_node_number>50</From_node_number>"]
["<To_node_number>34</To_node_number>"]
["<BeamRestraintsBegin>aaa </BeamRestraintsBegin>"]
["<BeamRestraintsEnd>aaa </BeamRestraintsEnd>"]
["<NumbLateralRestraints>0</NumbLateralRestraints>"]
["<Angle>0</Angle>"]
["<Angle_profile>0</Angle_profile>"]
["<Profile_number>2</Profile_number>"]
["<Z>0</Z>"]
["<Top_Center_Bottom>Center</Top_Center_Bottom>"]
["<Number>10</Number>"]
["<Beamgroupnumber>10</Beamgroupnumber>"]
["<From_node_number>34</From_node_number>"]
["<To_node_number>18</To_node_number>"]
["<BeamRestraintsBegin>aaa </BeamRestraintsBegin>"]
["<BeamRestraintsEnd>aaa </BeamRestraintsEnd>"]
["<NumbLateralRestraints>0</NumbLateralRestraints>"]
["<Angle>0</Angle>"]
["<Angle_profile>0</Angle_profile>"]
["<Profile_number>2</Profile_number>"]
["<Z>0</Z>"]
["<Top_Center_Bottom>Center</Top_Center_Bottom>"]
["<Number>11</Number>"]
["<Beamgroupnumber>11</Beamgroupnumber>"]
["<From_node_number>18</From_node_number>"]
["<To_node_number>2</To_node_number>"]
["<BeamRestraintsBegin>aaa </BeamRestraintsBegin>"]
["<BeamRestraintsEnd>aaa </BeamRestraintsEnd>"]
["<NumbLateralRestraints>0</NumbLateralRestraints>"]
["<Angle>0</Angle>"]
["<Angle_profile>0</Angle_profile>"]
["<Profile_number>2</Profile_number>"]
["<Z>0</Z>"]
["<Top_Center_Bottom>Center</Top_Center_Bottom>"]
["<Number>12</Number>"]
["<Beamgroupnumber>12</Beamgroupnumber>"]
["<From_node_number>727</From_node_number>"]
["<To_node_number>719</To_node_number>"]
["<BeamRestraintsBegin>aaa </BeamRestraintsBegin>"]
["<BeamRestraintsEnd>aaa </BeamRestraintsEnd>"]
["<NumbLateralRestraints>0</NumbLateralRestraints>"]
["<Angle>0</Angle>"]
["<Angle_profile>0</Angle_profile>"]
["<Profile_number>3</Profile_number>"]
["<Z>0</Z>"]
["<Top_Center_Bottom>Center</Top_Center_Bottom>"]
["<Number>13</Number>"]
["<Beamgroupnumber>13</Beamgroupnumber>"]
["<From_node_number>719</From_node_number>"]
["<To_node_number>711</To_node_number>"]
["<BeamRestraintsBegin>aaa </BeamRestraintsBegin>"]
["<BeamRestraintsEnd>aaa </BeamRestraintsEnd>"]
["<NumbLateralRestraints>0</NumbLateralRestraints>"]
["<Angle>0</Angle>"]
["<Angle_profile>0</Angle_profile>"]
["<Profile_number>3</Profile_number>"]
["<Z>0</Z>"]
["<Top_Center_Bottom>Center</Top_Center_Bottom>"]
["<Number>14</Number>"]
["<Beamgroupnumber>14</Beamgroupnumber>"]
["<From_node_number>711</From_node_number>"]
["<To_node_number>703</To_node_number>"]
["<BeamRestraintsBegin>aaa </BeamRestraintsBegin>"]
["<BeamRestraintsEnd>aaa </BeamRestraintsEnd>"]
["<NumbLateralRestraints>0</NumbLateralRestraints>"]
["<Angle>0</Angle>"]
["<Angle_profile>0</Angle_profile>"]
["<Profile_number>3</Profile_number>"]
["<Z>0</Z>"]
["<Top_Center_Bottom>Center</Top_Center_Bottom>"]
["<Number>15</Number>"]
["<Beamgroupnumber>15</Beamgroupnumber>"]
["<From_node_number>380</From_node_number>"]
["<To_node_number>370</To_node_number>"]
["<BeamRestraintsBegin>aaa </BeamRestraintsBegin>"]
["<BeamRestraintsEnd>aaa </BeamRestraintsEnd>"]
["<NumbLateralRestraints>0</NumbLateralRestraints>"]
["<Angle>0</Angle>"]
["<Angle_profile>0</Angle_profile>"]
["<Profile_number>3</Profile_number>"]
["<Z>0</Z>"]
["<Top_Center_Bottom>Center</Top_Center_Bottom>"]
["<Number>16</Number>"]
["<Beamgroupnumber>16</Beamgroupnumber>"]
["<From_node_number>370</From_node_number>"]
["<To_node_number>360</To_node_number>"]
["<BeamRestraintsBegin>aaa </BeamRestraintsBegin>"]
["<BeamRestraintsEnd>aaa </BeamRestraintsEnd>"]
["<NumbLateralRestraints>0</NumbLateralRestraints>"]
["<Angle>0</Angle>"]
["<Angle_profile>0</Angle_profile>"]
["<Profile_number>3</Profile_number>"]
["<Z>0</Z>"]
["<Top_Center_Bottom>Center</Top_Center_Bottom>"]
["<Number>17</Number>"]
["<Beamgroupnumber>17</Beamgroupnumber>"]
["<From_node_number>360</From_node_number>"]
["<To_node_number>350</To_node_number>"]
["<BeamRestraintsBegin>aaa </BeamRestraintsBegin>"]
["<BeamRestraintsEnd>aaa </BeamRestraintsEnd>"]
["<NumbLateralRestraints>0</NumbLateralRestraints>"]
["<Angle>0</Angle>"]
["<Angle_profile>0</Angle_profile>"]
["<Profile_number>3</Profile_number>"]
["<Z>0</Z>"]
["<Top_Center_Bottom>Center</Top_Center_Bottom>"]
["<Number>18</Number>"]
["<Beamgroupnumber>18</Beamgroupnumber>"]
["<From_node_number>405</From_node_number>"]
["<To_node_number>397</To_node_number>"]
["<BeamRestraintsBegin>aaa </BeamRestraintsBegin>"]
["<BeamRestraintsEnd>aaa </BeamRestraintsEnd>"]
["<NumbLateralRestraints>0</NumbLateralRestraints>"]
["<Angle>0</Angle>"]
["<Angle_profile>0</Angle_profile>"]
["<Profile_number>3</Profile_number>"]
["<Z>0</Z>"]
["<Top_Center_Bottom>Center</Top_Center_Bottom>"]
["<Number>19</Number>"]
["<Beamgroupnumber>19</Beamgroupnumber>"]
["<From_node_number>397</From_node_number>"]
["<To_node_number>389</To_node_number>"]
["<BeamRestraintsBegin>aaa </BeamRestraintsBegin>"]
["<BeamRestraintsEnd>aaa </BeamRestraintsEnd>"]
["<NumbLateralRestraints>0</NumbLateralRestraints>"]
["<Angle>0</Angle>"]
["<Angle_profile>0</Angle_profile>"]
["<Profile_number>3</Profile_number>"]
["<Z>0</Z>"]
["<Top_Center_Bottom>Center</Top_Center_Bottom>"]
["<Number>20</Number>"]
["<Beamgroupnumber>20</Beamgroupnumber>"]
["<From_node_number>389</From_node_number>"]
["<To_node_number>381</To_node_number>"]
["<BeamRestraintsBegin>aaa </BeamRestraintsBegin>"]
["<BeamRestraintsEnd>aaa </BeamRestraintsEnd>"]
["<NumbLateralRestraints>0</NumbLateralRestraints>"]
["<Angle>0</Angle>"]
["<Angle_profile>0</Angle_profile>"]
["<Profile_number>3</Profile_number>"]
["<Z>0</Z>"]
["<Top_Center_Bottom>Center</Top_Center_Bottom>"]
["<Number>21</Number>"]
["<Beamgroupnumber>21</Beamgroupnumber>"]
["<From_node_number>1</From_node_number>"]
["<To_node_number>17</To_node_number>"]
["<BeamRestraintsBegin>aaa </BeamRestraintsBegin>"]
["<BeamRestraintsEnd>aaa </BeamRestraintsEnd>"]
["<NumbLateralRestraints>0</NumbLateralRestraints>"]
["<Angle>0</Angle>"]
["<Angle_profile>0</Angle_profile>"]
["<Profile_number>2</Profile_number>"]
["<Z>0</Z>"]
["<Top_Center_Bottom>Center</Top_Center_Bottom>"]
["<Number>22</Number>"]
["<Beamgroupnumber>22</Beamgroupnumber>"]
["<From_node_number>17</From_node_number>"]
["<To_node_number>33</To_node_number>"]
["<BeamRestraintsBegin>aaa </BeamRestraintsBegin>"]
["<BeamRestraintsEnd>aaa </BeamRestraintsEnd>"]
["<NumbLateralRestraints>0</NumbLateralRestraints>"]
["<Angle>0</Angle>"]
["<Angle_profile>0</Angle_profile>"]
["<Profile_number>2</Profile_number>"]
["<Z>0</Z>"]
["<Top_Center_Bottom>Center</Top_Center_Bottom>"]
["<Number>23</Number>"]
["<Beamgroupnumber>23</Beamgroupnumber>"]
["<From_node_number>33</From_node_number>"]
["<To_node_number>49</To_node_number>"]
["<BeamRestraintsBegin>aaa </BeamRestraintsBegin>"]
["<BeamRestraintsEnd>aaa </BeamRestraintsEnd>"]
["<NumbLateralRestraints>0</NumbLateralRestraints>"]
["<Angle>0</Angle>"]
["<Angle_profile>0</Angle_profile>"]
["<Profile_number>2</Profile_number>"]
["<Z>0</Z>"]
["<Top_Center_Bottom>Center</Top_Center_Bottom>"]
["</Beams>"]
["<Plates>"]
["<Number>1</Number>"]
["<Node>50</Node>"]
["<Node>380</Node>"]
["<Node>727</Node>"]
["<Node>719</Node>"]
["<Node>711</Node>"]
["<Node>703</Node>"]
["<Node>350</Node>"]
["<Node>2</Node>"]
["<Node>18</Node>"]
["<Node>34</Node>"]
["<h>1</h>"]
["<Material_type>Steel</Material_type>"]
[{"$f":"WA!N17","v":"<Material>S235</Material>"}]
["<Z>0</Z>"]
["<Top_Center_Bottom>Center</Top_Center_Bottom>"]
["<Number>2</Number>"]
["<Node>703</Node>"]
["<Node>711</Node>"]
["<Node>719</Node>"]
["<Node>727</Node>"]
["<Node>405</Node>"]
["<Node>49</Node>"]
["<Node>33</Node>"]
["<Node>17</Node>"]
["<Node>1</Node>"]
["<Node>381</Node>"]
["<h>1</h>"]
["<Material_type>Steel</Material_type>"]
[{"$f":"A695","v":"<Material>S235</Material>"}]
["<Z>0</Z>"]
["<Top_Center_Bottom>Center</Top_Center_Bottom>"]
["</Plates>"]
["<LoadCases>"]
["<Number>1</Number>"]
["<Description>Dead load</Description>"]
["<Type>14</Type>"]
["<psi0>1</psi0>"]
["<psi1>1</psi1>"]
["<psi2>1</psi2>"]
["<Number>2</Number>"]
["<Description>Ponding</Description>"]
["<Type>15</Type>"]
["<psi0>1</psi0>"]
["<psi1>1</psi1>"]
["<psi2>1</psi2>"]
["</LoadCases>"]
["<SurfaceLoads>"]
["<LoadCaseNumber>1</LoadCaseNumber>"]
["<Number>1</Number>"]
["<Description/>"]
[{"$f":"WA!N18","v":"<NodeX>16200</NodeX>"}]
[{"$f":"WA!N19","v":"<NodeY>15000</NodeY>"}]
["<NodeZ>0</NodeZ>"]
[{"$f":"A733","v":"<NodeX>16200</NodeX>"}]
[{"$f":"WA!N20","v":"<NodeY>7500</NodeY>"}]
[{"$f":"WA!N21","v":"<NodeZ>80</NodeZ>"}]
["<NodeX>0</NodeX>"]
[{"$f":"A737","v":"<NodeY>7500</NodeY>"}]
[{"$f":"A738","v":"<NodeZ>80</NodeZ>"}]
["<NodeX>0</NodeX>"]
[{"$f":"A734","v":"<NodeY>15000</NodeY>"}]
["<NodeZ>0</NodeZ>"]
["<Coordinate_system>Local</Coordinate_system>"]
["<Direction>Z</Direction>"]
["<LoadBearingDirection>Y</LoadBearingDirection>"]
[{"$f":"WA!N22","v":"<q1>-0,5</q1>"}]
["<q2>-2,5</q2>"]
["<q3>-2,5</q3>"]
["<LoadConstantOrLinear>constant</LoadConstantOrLinear>"]
["<iq1>-1</iq1>"]
["<iq2>-1</iq2>"]
["<iq3>-1</iq3>"]
["<LoadCaseNumber>1</LoadCaseNumber>"]
["<Number>2</Number>"]
["<Description/>"]
["<NodeX>0</NodeX>"]
[{"$f":"A740","v":"<NodeY>7500</NodeY>"}]
[{"$f":"A741","v":"<NodeZ>80</NodeZ>"}]
[{"$f":"A736","v":"<NodeX>16200</NodeX>"}]
[{"$f":"A759","v":"<NodeY>7500</NodeY>"}]
[{"$f":"A760","v":"<NodeZ>80</NodeZ>"}]
[{"$f":"A761","v":"<NodeX>16200</NodeX>"}]
["<NodeY>0</NodeY>"]
["<NodeZ>0</NodeZ>"]
["<NodeX>0</NodeX>"]
["<NodeY>0</NodeY>"]
["<NodeZ>0</NodeZ>"]
["<Coordinate_system>Local</Coordinate_system>"]
["<Direction>Z</Direction>"]
["<LoadBearingDirection>X</LoadBearingDirection>"]
[{"$f":"A748","v":"<q1>-0,5</q1>"}]
["<q2>-2,5</q2>"]
["<q3>-2,5</q3>"]
["<LoadConstantOrLinear>constant</LoadConstantOrLinear>"]
["<iq1>-1</iq1>"]
["<iq2>-1</iq2>"]
["<iq3>-1</iq3>"]
["<LoadCaseNumber>2</LoadCaseNumber>"]
["<Number>1</Number>"]
["<Description/>"]
[{"$f":"A761","v":"<NodeX>16200</NodeX>"}]
[{"$f":"A734","v":"<NodeY>15000</NodeY>"}]
["<NodeZ>0</NodeZ>"]
[{"$f":"A783","v":"<NodeX>16200</NodeX>"}]
[{"$f":"A759","v":"<NodeY>7500</NodeY>"}]
[{"$f":"A763","v":"<NodeZ>80</NodeZ>"}]
["<NodeX>0</NodeX>"]
[{"$f":"A787","v":"<NodeY>7500</NodeY>"}]
[{"$f":"A788","v":"<NodeZ>80</NodeZ>"}]
["<NodeX>0</NodeX>"]
[{"$f":"A784","v":"<NodeY>15000</NodeY>"}]
["<NodeZ>0</NodeZ>"]
["<Coordinate_system>Local</Coordinate_system>"]
["<Direction>Z</Direction>"]
["<LoadBearingDirection>Y</LoadBearingDirection>"]
["<q1>-2,5</q1>"]
["<q2>-2,5</q2>"]
["<q3>-2,5</q3>"]
["<LoadConstantOrLinear>waterheight</LoadConstantOrLinear>"]
["<iq1>-1</iq1>"]
["<iq2>-1</iq2>"]
["<iq3>-1</iq3>"]
["<LoadCaseNumber>2</LoadCaseNumber>"]
["<Number>2</Number>"]
["<Description/>"]
["<NodeX>0</NodeX>"]
[{"$f":"A787","v":"<NodeY>7500</NodeY>"}]
[{"$f":"A791","v":"<NodeZ>80</NodeZ>"}]
[{"$f":"A783","v":"<NodeX>16200</NodeX>"}]
[{"$f":"A809","v":"<NodeY>7500</NodeY>"}]
[{"$f":"A810","v":"<NodeZ>80</NodeZ>"}]
[{"$f":"A811","v":"<NodeX>16200</NodeX>"}]
["<NodeY>0</NodeY>"]
["<NodeZ>0</NodeZ>"]
["<NodeX>0</NodeX>"]
["<NodeY>0</NodeY>"]
["<NodeZ>0</NodeZ>"]
["<Coordinate_system>Local</Coordinate_system>"]
["<Direction>Z</Direction>"]
["<LoadBearingDirection>Y</LoadBearingDirection>"]
["<q1>-2,5</q1>"]
["<q2>-2,5</q2>"]
["<q3>-2,5</q3>"]
["<LoadConstantOrLinear>waterheight</LoadConstantOrLinear>"]
["<iq1>-1</iq1>"]
["<iq2>-1</iq2>"]
["<iq3>-1</iq3>"]
["</SurfaceLoads>"]
["<Combinations>"]
["<LoadCombinationNumber>1</LoadCombinationNumber>"]
["<Description>Dead load</Description>"]
["<CombTyp>0</CombTyp>"]
["<Case>1</Case>"]
["<Psi>1</Psi>"]
["<Gamma>1,22</Gamma>"]
["<Case>2</Case>"]
["<Psi>1</Psi>"]
["<Gamma>1,35</Gamma>"]
["<LoadCombinationNumber>2</LoadCombinationNumber>"]
["<Description>Ponding</Description>"]
["<CombTyp>0</CombTyp>"]
["<Case>1</Case>"]
["<Psi>1</Psi>"]
["<Gamma>1,08</Gamma>"]
["<Case>2</Case>"]
["<Psi>1</Psi>"]
["<Gamma>1,35</Gamma>"]
["<LoadCombinationNumber>3</LoadCombinationNumber>"]
["<Description>Dead load</Description>"]
["<CombTyp>3</CombTyp>"]
["<Case>1</Case>"]
["<Psi>1</Psi>"]
["<Gamma>1</Gamma>"]
["<Case>2</Case>"]
["<Psi>1</Psi>"]
["<Gamma>1</Gamma>"]
["<LoadCombinationNumber>4</LoadCombinationNumber>"]
["<Description>Ponding</Description>"]
["<CombTyp>3</CombTyp>"]
["<Case>1</Case>"]
["<Psi>1</Psi>"]
["<Gamma>1</Gamma>"]
["<Case>2</Case>"]
["<Psi>1</Psi>"]
["<Gamma>1</Gamma>"]
["<LoadCombinationNumber>5</LoadCombinationNumber>"]
["<Description>SLS Permanent</Description>"]
["<CombTyp>4</CombTyp>"]
["<Case>1</Case>"]
["<Psi>1</Psi>"]
["<Gamma>1</Gamma>"]
["<LoadCombinationNumber>6</LoadCombinationNumber>"]
["<Description>SLS Quasi-permanent</Description>"]
["<CombTyp>2</CombTyp>"]
["<Case>1</Case>"]
["<Psi>1</Psi>"]
["<Gamma>1</Gamma>"]
["<Case>2</Case>"]
["<Psi>1</Psi>"]
["<Gamma>1</Gamma>"]
["</Combinations>"]
["<RebarLongitudinal/>"]
["<RebarStirrup/>"]
["<Layers>"]
["<Layer_number>1</Layer_number>"]
["<Layer_description>Layer 1</Layer_description>"]
["<Layer_number>2</Layer_number>"]
["<Layer_description>Layer 2</Layer_description>"]
["</Layers>"]
["</Frame>"]

{"sheet":"RAV1_XML","index":21,"n_rows":599,"n_cols":1,"rows_kept":599,"cut":false,"hidden":true,"merged":[]}
["<Frame>"]
[{"$f":"\"<ProjectName>\" & INHOUD!C13 & \"</ProjectName>\"","v":"<ProjectName>Test project</ProjectName>"}]
[{"$f":"\"<ProjectNumber>\" & INHOUD!C12 & \"</ProjectNumber>\"","v":"<ProjectNumber>0</ProjectNumber>"}]
[{"$f":"\"<ConsequenceClass>\"& INHOUD!C14 & \"</ConsequenceClass>\"","v":"<ConsequenceClass>CC2</ConsequenceClass>"}]
["<DesignWorkingLife>50</DesignWorkingLife>"]
["<ExportDateTime>2024-05-23 11:15:25Z</ExportDateTime>"]
["<XMLExportVersion>v4.0.30319</XMLExportVersion>"]
["<Nodes>"]
["<Number>1</Number>"]
["<X>0</X>"]
["<Y>0</Y>"]
["<Z>0</Z>"]
["<Number>2</Number>"]
["<X>0</X>"]
[{"$f":"'RAV1'!S9","v":"<Y>5000</Y>"}]
["<Z>0</Z>"]
["<Number>3</Number>"]
[{"$f":"'RAV1'!R7","v":"<X>610</X>"}]
["<Y>0</Y>"]
["<Z>0</Z>"]
["<Number>4</Number>"]
[{"$f":"A18","v":"<X>610</X>"}]
[{"$f":"'RAV1'!S7","v":"<Y>500</Y>"}]
["<Z>0</Z>"]
["<Number>5</Number>"]
[{"$f":"A22","v":"<X>610</X>"}]
[{"$f":"'RAV1'!S8","v":"<Y>3000</Y>"}]
["<Z>0</Z>"]
["<Number>6</Number>"]
[{"$f":"A26","v":"<X>610</X>"}]
["<Y>5000</Y>"]
["<Z>0</Z>"]
["<Number>7</Number>"]
[{"$f":"'RAV1'!R9","v":"<X>2610</X>"}]
["<Y>0</Y>"]
["<Z>0</Z>"]
["<Number>8</Number>"]
[{"$f":"A34","v":"<X>2610</X>"}]
[{"$f":"A23","v":"<Y>500</Y>"}]
["<Z>0</Z>"]
["<Number>9</Number>"]
[{"$f":"A34","v":"<X>2610</X>"}]
[{"$f":"A27","v":"<Y>3000</Y>"}]
["<Z>0</Z>"]
["<Number>10</Number>"]
[{"$f":"A38","v":"<X>2610</X>"}]
[{"$f":"A15","v":"<Y>5000</Y>"}]
["<Z>0</Z>"]
["<Number>11</Number>"]
[{"$f":"'RAV1'!R10","v":"<X>3220</X>"}]
["<Y>0</Y>"]
["<Z>0</Z>"]
["<Number>12</Number>"]
[{"$f":"A50","v":"<X>3220</X>"}]
[{"$f":"A47","v":"<Y>5000</Y>"}]
["<Z>0</Z>"]
["<Number>13</Number>"]
[{"$f":"'RAV1'!R8","v":"<X>1610</X>"}]
[{"$f":"A43","v":"<Y>3000</Y>"}]
["<Z>0</Z>"]
["<Number>14</Number>"]
[{"$f":"A58","v":"<X>1610</X>"}]
[{"$f":"A55","v":"<Y>5000</Y>"}]
["<Z>0</Z>"]
["<Number>15</Number>"]
[{"$f":"A62","v":"<X>1610</X>"}]
["<Y>0</Y>"]
["<Z>0</Z>"]
["<Number>16</Number>"]
[{"$f":"A66","v":"<X>1610</X>"}]
[{"$f":"A39","v":"<Y>500</Y>"}]
["<Z>0</Z>"]
["</Nodes>"]
["<Supports>"]
["<Number>1</Number>"]
["<Nodenumber>1</Nodenumber>"]
["<Tx>A</Tx>"]
["<Ty>A</Ty>"]
["<Tz>A</Tz>"]
["<Rx> </Rx>"]
["<Ry> </Ry>"]
["<Rz> </Rz>"]
["<Kx>0</Kx>"]
["<Ky>0</Ky>"]
["<Kz>0</Kz>"]
["<Cx>0</Cx>"]
["<Cy>0</Cy>"]
["<Cz>0</Cz>"]
["<dx>0</dx>"]
["<dy>0</dy>"]
["<dz>0</dz>"]
["<Number>2</Number>"]
["<Nodenumber>2</Nodenumber>"]
["<Tx> </Tx>"]
["<Ty> </Ty>"]
["<Tz>A</Tz>"]
["<Rx> </Rx>"]
["<Ry> </Ry>"]
["<Rz> </Rz>"]
["<Kx>0</Kx>"]
["<Ky>0</Ky>"]
["<Kz>0</Kz>"]
["<Cx>0</Cx>"]
["<Cy>0</Cy>"]
["<Cz>0</Cz>"]
["<dx>0</dx>"]
["<dy>0</dy>"]
["<dz>0</dz>"]
["<Number>3</Number>"]
["<Nodenumber>3</Nodenumber>"]
["<Tx> </Tx>"]
["<Ty>A</Ty>"]
["<Tz>A</Tz>"]
["<Rx> </Rx>"]
["<Ry> </Ry>"]
["<Rz> </Rz>"]
["<Kx>0</Kx>"]
["<Ky>0</Ky>"]
["<Kz>0</Kz>"]
["<Cx>0</Cx>"]
["<Cy>0</Cy>"]
["<Cz>0</Cz>"]
["<dx>0</dx>"]
["<dy>0</dy>"]
["<dz>0</dz>"]
["<Number>4</Number>"]
["<Nodenumber>6</Nodenumber>"]
["<Tx> </Tx>"]
["<Ty> </Ty>"]
["<Tz>A</Tz>"]
["<Rx> </Rx>"]
["<Ry> </Ry>"]
["<Rz> </Rz>"]
["<Kx>0</Kx>"]
["<Ky>0</Ky>"]
["<Kz>0</Kz>"]
["<Cx>0</Cx>"]
["<Cy>0</Cy>"]
["<Cz>0</Cz>"]
["<dx>0</dx>"]
["<dy>0</dy>"]
["<dz>0</dz>"]
["<Number>5</Number>"]
["<Nodenumber>7</Nodenumber>"]
["<Tx> </Tx>"]
["<Ty>A</Ty>"]
["<Tz>A</Tz>"]
["<Rx> </Rx>"]
["<Ry> </Ry>"]
["<Rz> </Rz>"]
["<Kx>0</Kx>"]
["<Ky>0</Ky>"]
["<Kz>0</Kz>"]
["<Cx>0</Cx>"]
["<Cy>0</Cy>"]
["<Cz>0</Cz>"]
["<dx>0</dx>"]
["<dy>0</dy>"]
["<dz>0</dz>"]
["<Number>6</Number>"]
["<Nodenumber>10</Nodenumber>"]
["<Tx> </Tx>"]
["<Ty> </Ty>"]
["<Tz>A</Tz>"]
["<Rx> </Rx>"]
["<Ry> </Ry>"]
["<Rz> </Rz>"]
["<Kx>0</Kx>"]
["<Ky>0</Ky>"]
["<Kz>0</Kz>"]
["<Cx>0</Cx>"]
["<Cy>0</Cy>"]
["<Cz>0</Cz>"]
["<dx>0</dx>"]
["<dy>0</dy>"]
["<dz>0</dz>"]
["<Number>7</Number>"]
["<Nodenumber>11</Nodenumber>"]
["<Tx> </Tx>"]
["<Ty>A</Ty>"]
["<Tz>A</Tz>"]
["<Rx> </Rx>"]
["<Ry> </Ry>"]
["<Rz> </Rz>"]
["<Kx>0</Kx>"]
["<Ky>0</Ky>"]
["<Kz>0</Kz>"]
["<Cx>0</Cx>"]
["<Cy>0</Cy>"]
["<Cz>0</Cz>"]
["<dx>0</dx>"]
["<dy>0</dy>"]
["<dz>0</dz>"]
["<Number>8</Number>"]
["<Nodenumber>12</Nodenumber>"]
["<Tx> </Tx>"]
["<Ty> </Ty>"]
["<Tz>A</Tz>"]
["<Rx> </Rx>"]
["<Ry> </Ry>"]
["<Rz> </Rz>"]
["<Kx>0</Kx>"]
["<Ky>0</Ky>"]
["<Kz>0</Kz>"]
["<Cx>0</Cx>"]
["<Cy>0</Cy>"]
["<Cz>0</Cz>"]
["<dx>0</dx>"]
["<dy>0</dy>"]
["<dz>0</dz>"]
["<Number>9</Number>"]
["<Nodenumber>14</Nodenumber>"]
["<Tx> </Tx>"]
["<Ty> </Ty>"]
["<Tz>A</Tz>"]
["<Rx> </Rx>"]
["<Ry> </Ry>"]
["<Rz> </Rz>"]
["<Kx>0</Kx>"]
["<Ky>0</Ky>"]
["<Kz>0</Kz>"]
["<Cx>0</Cx>"]
["<Cy>0</Cy>"]
["<Cz>0</Cz>"]
["<dx>0</dx>"]
["<dy>0</dy>"]
["<dz>0</dz>"]
["</Supports>"]
["<Grids>"]
[{"$f":"'RAV1'!R21","v":"<X>0 610 2000 610</X>"}]
["<X_Lable>"]
["A B C D E F G H I J K L M N O P Q R S T U V W X Y Z"]
["</X_Lable>"]
[{"$f":"'RAV1'!R22","v":"<Y>0 500 2500 2000</Y>"}]
["<Y_Lable>"]
["1 2 3 4 5 6 7 8 9 10 11 12 13 14 15 16 17 18 19 20 21 22 23 24 25"]
["</Y_Lable>"]
["<Z>0</Z>"]
["<Z_Lable>+0</Z_Lable>"]
["</Grids>"]
["<Profiles>"]
["<Number>1</Number>"]
[{"$f":"'RAV1'!T14","v":"<Profile_name>71 x 196</Profile_name>"}]
["<Material_type>2</Material_type>"]
[{"$f":"'RAV1'!T15","v":"<Material>C24</Material>"}]
["<Angle>0</Angle>"]
["<ServiceClass>0</ServiceClass>"]
["<Profile_shape>6</Profile_shape>"]
[{"$f":"'RAV1'!R15","v":"<h>196</h>"}]
[{"$f":"'RAV1'!R14","v":"<b>71</b>"}]
["<tf>196</tf>"]
["<tw>8,5</tw>"]
["<r1>0</r1>"]
["<r2>27</r2>"]
["<slope>0</slope>"]
["<Number>2</Number>"]
[{"$f":"'RAV1'!T17","v":"<Profile_name>142 x 196</Profile_name>"}]
["<Material_type>2</Material_type>"]
[{"$f":"'RAV1'!T18","v":"<Material>C24</Material>"}]
["<Angle>0</Angle>"]
["<ServiceClass>0</ServiceClass>"]
["<Profile_shape>6</Profile_shape>"]
[{"$f":"'RAV1'!R18","v":"<h>196</h>"}]
[{"$f":"'RAV1'!R17","v":"<b>142</b>"}]
["<tf>196</tf>"]
["<tw>8,5</tw>"]
["<r1>0</r1>"]
["<r2>27</r2>"]
["<slope>0</slope>"]
["</Profiles>"]
["<Beamgroup>"]
["<Number>1</Number>"]
["<Startnode>1</Startnode>"]
["<Endnode>2</Endnode>"]
["<Number>2</Number>"]
["<Startnode>3</Startnode>"]
["<Endnode>6</Endnode>"]
["<Number>3</Number>"]
["<Startnode>7</Startnode>"]
["<Endnode>10</Endnode>"]
["<Number>4</Number>"]
["<Startnode>11</Startnode>"]
["<Endnode>12</Endnode>"]
["<Number>5</Number>"]
["<Startnode>1</Startnode>"]
["<Endnode>11</Endnode>"]
["<Number>6</Number>"]
["<Startnode>2</Startnode>"]
["<Endnode>12</Endnode>"]
["<Number>7</Number>"]
["<Startnode>4</Startnode>"]
["<Endnode>8</Endnode>"]
["<Number>8</Number>"]
["<Startnode>5</Startnode>"]
["<Endnode>9</Endnode>"]
["<Number>9</Number>"]
["<Startnode>13</Startnode>"]
["<Endnode>14</Endnode>"]
["<Number>10</Number>"]
["<Startnode>15</Startnode>"]
["<Endnode>16</Endnode>"]
["</Beamgroup>"]
["<Beams>"]
["<Number>1</Number>"]
["<Beamgroupnumber>1</Beamgroupnumber>"]
["<From_node_number>1</From_node_number>"]
["<To_node_number>2</To_node_number>"]
["<BeamRestraintsBegin>aaaaaa</BeamRestraintsBegin>"]
["<BeamRestraintsEnd>aaaaaa</BeamRestraintsEnd>"]
["<NumbLateralRestraints>0</NumbLateralRestraints>"]
["<Angle>0</Angle>"]
["<Angle_profile>0</Angle_profile>"]
["<Profile_number>1</Profile_number>"]
["<Z>0</Z>"]
["<Top_Center_Bottom>Center</Top_Center_Bottom>"]
["<Number>2</Number>"]
["<Beamgroupnumber>2</Beamgroupnumber>"]
["<From_node_number>3</From_node_number>"]
["<To_node_number>6</To_node_number>"]
["<BeamRestraintsBegin>aaaaaa</BeamRestraintsBegin>"]
["<BeamRestraintsEnd>aaaaaa</BeamRestraintsEnd>"]
["<NumbLateralRestraints>0</NumbLateralRestraints>"]
["<Angle>0</Angle>"]
["<Angle_profile>0</Angle_profile>"]
["<Profile_number>2</Profile_number>"]
["<Z>0</Z>"]
["<Top_Center_Bottom>Center</Top_Center_Bottom>"]
["<Number>3</Number>"]
["<Beamgroupnumber>3</Beamgroupnumber>"]
["<From_node_number>7</From_node_number>"]
["<To_node_number>10</To_node_number>"]
["<BeamRestraintsBegin>aaaaaa</BeamRestraintsBegin>"]
["<BeamRestraintsEnd>aaaaaa</BeamRestraintsEnd>"]
["<NumbLateralRestraints>0</NumbLateralRestraints>"]
["<Angle>0</Angle>"]
["<Angle_profile>0</Angle_profile>"]
["<Profile_number>2</Profile_number>"]
["<Z>0</Z>"]
["<Top_Center_Bottom>Center</Top_Center_Bottom>"]
["<Number>4</Number>"]
["<Beamgroupnumber>4</Beamgroupnumber>"]
["<From_node_number>11</From_node_number>"]
["<To_node_number>12</To_node_number>"]
["<BeamRestraintsBegin>aaaaaa</BeamRestraintsBegin>"]
["<BeamRestraintsEnd>aaaaaa</BeamRestraintsEnd>"]
["<NumbLateralRestraints>0</NumbLateralRestraints>"]
["<Angle>0</Angle>"]
["<Angle_profile>0</Angle_profile>"]
["<Profile_number>1</Profile_number>"]
["<Z>0</Z>"]
["<Top_Center_Bottom>Center</Top_Center_Bottom>"]
["<Number>5</Number>"]
["<Beamgroupnumber>5</Beamgroupnumber>"]
["<From_node_number>1</From_node_number>"]
["<To_node_number>11</To_node_number>"]
["<BeamRestraintsBegin>aaaaaa</BeamRestraintsBegin>"]
["<BeamRestraintsEnd>aaaaaa</BeamRestraintsEnd>"]
["<NumbLateralRestraints>0</NumbLateralRestraints>"]
["<Angle>0</Angle>"]
["<Angle_profile>0</Angle_profile>"]
["<Profile_number>1</Profile_number>"]
["<Z>0</Z>"]
["<Top_Center_Bottom>Center</Top_Center_Bottom>"]
["<Number>6</Number>"]
["<Beamgroupnumber>6</Beamgroupnumber>"]
["<From_node_number>2</From_node_number>"]
["<To_node_number>12</To_node_number>"]
["<BeamRestraintsBegin>aaaaaa</BeamRestraintsBegin>"]
["<BeamRestraintsEnd>aaaaaa</BeamRestraintsEnd>"]
["<NumbLateralRestraints>0</NumbLateralRestraints>"]
["<Angle>0</Angle>"]
["<Angle_profile>0</Angle_profile>"]
["<Profile_number>1</Profile_number>"]
["<Z>0</Z>"]
["<Top_Center_Bottom>Center</Top_Center_Bottom>"]
["<Number>7</Number>"]
["<Beamgroupnumber>7</Beamgroupnumber>"]
["<From_node_number>4</From_node_number>"]
["<To_node_number>8</To_node_number>"]
["<BeamRestraintsBegin>aaa </BeamRestraintsBegin>"]
["<BeamRestraintsEnd>aaa </BeamRestraintsEnd>"]
["<NumbLateralRestraints>0</NumbLateralRestraints>"]
["<Angle>0</Angle>"]
["<Angle_profile>0</Angle_profile>"]
["<Profile_number>1</Profile_number>"]
["<Z>0</Z>"]
["<Top_Center_Bottom>Center</Top_Center_Bottom>"]
["<Number>8</Number>"]
["<Beamgroupnumber>8</Beamgroupnumber>"]
["<From_node_number>5</From_node_number>"]
["<To_node_number>9</To_node_number>"]
["<BeamRestraintsBegin>aaa </BeamRestraintsBegin>"]
["<BeamRestraintsEnd>aaa </BeamRestraintsEnd>"]
["<NumbLateralRestraints>0</NumbLateralRestraints>"]
["<Angle>0</Angle>"]
["<Angle_profile>0</Angle_profile>"]
["<Profile_number>1</Profile_number>"]
["<Z>0</Z>"]
["<Top_Center_Bottom>Center</Top_Center_Bottom>"]
["<Number>9</Number>"]
["<Beamgroupnumber>9</Beamgroupnumber>"]
["<From_node_number>13</From_node_number>"]
["<To_node_number>14</To_node_number>"]
["<BeamRestraintsBegin>aaa </BeamRestraintsBegin>"]
["<BeamRestraintsEnd>aaa </BeamRestraintsEnd>"]
["<NumbLateralRestraints>2</NumbLateralRestraints>"]
["<Angle>0</Angle>"]
["<Angle_profile>0</Angle_profile>"]
["<Profile_number>1</Profile_number>"]
["<Z>0</Z>"]
["<Top_Center_Bottom>Center</Top_Center_Bottom>"]
["<Number>10</Number>"]
["<Beamgroupnumber>10</Beamgroupnumber>"]
["<From_node_number>15</From_node_number>"]
["<To_node_number>16</To_node_number>"]
["<BeamRestraintsBegin>aaa </BeamRestraintsBegin>"]
["<BeamRestraintsEnd>aaa </BeamRestraintsEnd>"]
["<NumbLateralRestraints>0</NumbLateralRestraints>"]
["<Angle>0</Angle>"]
["<Angle_profile>0</Angle_profile>"]
["<Profile_number>1</Profile_number>"]
["<Z>0</Z>"]
["<Top_Center_Bottom>Center</Top_Center_Bottom>"]
["</Beams>"]
["<LoadCases>"]
["<Number>1</Number>"]
["<Description>Dead load</Description>"]
["<Type>0</Type>"]
["<psi0>1</psi0>"]
["<psi1>1</psi1>"]
["<psi2>1</psi2>"]
["<Number>2</Number>"]
["<Description>Live load</Description>"]
["<Type>5</Type>"]
["<psi0>1</psi0>"]
["<psi1>0,9</psi1>"]
["<psi2>0,8</psi2>"]
["</LoadCases>"]
["<BeamLoads/>"]
["<SurfaceLoads>"]
["<LoadCaseNumber>1</LoadCaseNumber>"]
["<Number>1</Number>"]
["<Description/>"]
["<NodeX>0</NodeX>"]
["<NodeY>0</NodeY>"]
["<NodeZ>0</NodeZ>"]
["<NodeX>0</NodeX>"]
[{"$f":"'RAV1'!R24","v":"<NodeY>5000</NodeY>"}]
["<NodeZ>0</NodeZ>"]
[{"$f":"'RAV1'!R25","v":"<NodeX>3220</NodeX>"}]
[{"$f":"A448","v":"<NodeY>5000</NodeY>"}]
["<NodeZ>0</NodeZ>"]
[{"$f":"A450","v":"<NodeX>3220</NodeX>"}]
["<NodeY>0</NodeY>"]
["<NodeZ>0</NodeZ>"]
["<Coordinate_system>Local</Coordinate_system>"]
["<Direction>Z</Direction>"]
["<LoadBearingDirection>Y</LoadBearingDirection>"]
[{"$f":"'RAV1'!R26","v":"<q1>-0,52</q1>"}]
["<q2>-2,5</q2>"]
["<q3>-2,5</q3>"]
["<LoadConstantOrLinear>constant</LoadConstantOrLinear>"]
["<iq1>-1</iq1>"]
["<iq2>-1</iq2>"]
["<iq3>-1</iq3>"]
["<LoadCaseNumber>2</LoadCaseNumber>"]
["<Number>1</Number>"]
["<Description/>"]
["<NodeX>0</NodeX>"]
["<NodeY>0</NodeY>"]
["<NodeZ>0</NodeZ>"]
["<NodeX>0</NodeX>"]
[{"$f":"'RAV1'!R24","v":"<NodeY>5000</NodeY>"}]
["<NodeZ>0</NodeZ>"]
[{"$f":"'RAV1'!R25","v":"<NodeX>3220</NodeX>"}]
[{"$f":"A473","v":"<NodeY>5000</NodeY>"}]
["<NodeZ>0</NodeZ>"]
[{"$f":"A475","v":"<NodeX>3220</NodeX>"}]
["<NodeY>0</NodeY>"]
["<NodeZ>0</NodeZ>"]
["<Coordinate_system>Local</Coordinate_system>"]
["<Direction>Z</Direction>"]
["<LoadBearingDirection>Y</LoadBearingDirection>"]
[{"$f":"'RAV1'!R27","v":"<q1>-1</q1>"}]
["<q2>-2,5</q2>"]
["<q3>-2,5</q3>"]
["<LoadConstantOrLinear>constant</LoadConstantOrLinear>"]
["<iq1>-1</iq1>"]
["<iq2>-1</iq2>"]
["<iq3>-1</iq3>"]
["</SurfaceLoads>"]
["<Combinations>"]
["<LoadCombinationNumber>1</LoadCombinationNumber>"]
["<Description>Dead load</Description>"]
["<CombTyp>0</CombTyp>"]
["<Case>1</Case>"]
["<Psi>1</Psi>"]
["<Gamma>1,22</Gamma>"]
["<Case>2</Case>"]
["<Psi>1</Psi>"]
["<Gamma>1,35</Gamma>"]
["<LoadCombinationNumber>2</LoadCombinationNumber>"]
["<Description>Live load</Description>"]
["<CombTyp>0</CombTyp>"]
["<Case>1</Case>"]
["<Psi>1</Psi>"]
["<Gamma>1,08</Gamma>"]
["<Case>2</Case>"]
["<Psi>1</Psi>"]
["<Gamma>1,35</Gamma>"]
["<LoadCombinationNumber>3</LoadCombinationNumber>"]
["<Description>Dead load</Description>"]
["<CombTyp>3</CombTyp>"]
["<Case>1</Case>"]
["<Psi>1</Psi>"]
["<Gamma>1</Gamma>"]
["<Case>2</Case>"]
["<Psi>1</Psi>"]
["<Gamma>1</Gamma>"]
["<LoadCombinationNumber>4</LoadCombinationNumber>"]
["<Description>Live load</Description>"]
["<CombTyp>3</CombTyp>"]
["<Case>1</Case>"]
["<Psi>1</Psi>"]
["<Gamma>1</Gamma>"]
["<Case>2</Case>"]
["<Psi>1</Psi>"]
["<Gamma>1</Gamma>"]
["<LoadCombinationNumber>5</LoadCombinationNumber>"]
["<Description>SLS Permanent</Description>"]
["<CombTyp>4</CombTyp>"]
["<Case>1</Case>"]
["<Psi>1</Psi>"]
["<Gamma>1</Gamma>"]
["<LoadCombinationNumber>6</LoadCombinationNumber>"]
["<Description>SLS Quasi-permanent</Description>"]
["<CombTyp>2</CombTyp>"]
["<Case>1</Case>"]
["<Psi>1</Psi>"]
["<Gamma>1</Gamma>"]
["<Case>2</Case>"]
["<Psi>0,8</Psi>"]
["<Gamma>1</Gamma>"]
["</Combinations>"]
["<RebarLongitudinal/>"]
["<RebarStirrup/>"]
["<Layers>"]
["<Layer_number>1</Layer_number>"]
["<Layer_description>Layer 1</Layer_description>"]
["<Layer_number>2</Layer_number>"]
["<Layer_description>Layer 2</Layer_description>"]
["<Layer_number>3</Layer_number>"]
["<Layer_description>Layer 3</Layer_description>"]
["<Layer_number>4</Layer_number>"]
["<Layer_description>Layer 4</Layer_description>"]
["<Layer_number>5</Layer_number>"]
["<Layer_description>Layer 5</Layer_description>"]
["<Layer_number>6</Layer_number>"]
["<Layer_description>Layer 6</Layer_description>"]
["<Layer_number>7</Layer_number>"]
["<Layer_description>Layer 7</Layer_description>"]
["<Layer_number>8</Layer_number>"]
["<Layer_description>Layer 8</Layer_description>"]
["<Layer_number>9</Layer_number>"]
["<Layer_description>Layer 9</Layer_description>"]
["<Layer_number>10</Layer_number>"]
["<Layer_description>Layer 10</Layer_description>"]
["<Layer_number>11</Layer_number>"]
["<Layer_description>Layer 11</Layer_description>"]
["<Layer_number>12</Layer_number>"]
["<Layer_description>Layer 12</Layer_description>"]
["<Layer_number>13</Layer_number>"]
["<Layer_description>Layer 13</Layer_description>"]
["<Layer_number>14</Layer_number>"]
["<Layer_description>Layer 14</Layer_description>"]
["<Layer_number>15</Layer_number>"]
["<Layer_description>Layer 15</Layer_description>"]
["<Layer_number>16</Layer_number>"]
["<Layer_description>Layer 16</Layer_description>"]
["<Layer_number>17</Layer_number>"]
["<Layer_description>Layer 17</Layer_description>"]
["<Layer_number>18</Layer_number>"]
["<Layer_description>Layer 18</Layer_description>"]
["<Layer_number>19</Layer_number>"]
["<Layer_description>Layer 19</Layer_description>"]
["<Layer_number>20</Layer_number>"]
["<Layer_description>Layer 20</Layer_description>"]
["<Layer_number>21</Layer_number>"]
["<Layer_description>Layer 21</Layer_description>"]
["<Layer_number>22</Layer_number>"]
["<Layer_description>Layer 22</Layer_description>"]
["<Layer_number>23</Layer_number>"]
["<Layer_description>Layer 23</Layer_description>"]
["<Layer_number>24</Layer_number>"]
["<Layer_description>Layer 24</Layer_description>"]
["<Layer_number>25</Layer_number>"]
["<Layer_description>Layer 25</Layer_description>"]
["</Layers>"]
["</Frame>"]

{"sheet":"RAV2_XML","index":22,"n_rows":267,"n_cols":1,"rows_kept":267,"cut":false,"hidden":true,"merged":[]}
["<Frame>"]
[{"$f":"\"<ProjectName>\" & INHOUD!C13 & \"</ProjectName>\"","v":"<ProjectName>Test project</ProjectName>"}]
[{"$f":"\"<ProjectNumber>\" & INHOUD!C12 & \"</ProjectNumber>\"","v":"<ProjectNumber>0</ProjectNumber>"}]
[{"$f":"\"<ConsequenceClass>\"& INHOUD!C14 & \"</ConsequenceClass>\"","v":"<ConsequenceClass>CC2</ConsequenceClass>"}]
["<DesignWorkingLife>50</DesignWorkingLife>"]
["<ExportDateTime>2024-05-30 09:59:07Z</ExportDateTime>"]
["<XMLExportVersion>v4.0.30319</XMLExportVersion>"]
["<Nodes>"]
["<Number>1</Number>"]
["<X>0</X>"]
["<Z>0</Z>"]
["<Number>2</Number>"]
[{"$f":"'RAV2'!R8","v":"<X>1000</X>"}]
["<Z>0</Z>"]
["<Number>4</Number>"]
[{"$f":"A13","v":"<X>1000</X>"}]
["<Z>1000</Z>"]
["<Number>5</Number>"]
[{"$f":"'RAV2'!R9","v":"<X>3000</X>"}]
["<Z>1000</Z>"]
["<Number>6</Number>"]
[{"$f":"'RAV2'!R7","v":"<X>4200</X>"}]
["<Z>0</Z>"]
["</Nodes>"]
["<Supports>"]
["<Number>1</Number>"]
["<Nodenumber>1</Nodenumber>"]
["<Tx>A</Tx>"]
["<Tz>A</Tz>"]
["<Ry> </Ry>"]
["<Kx>0</Kx>"]
["<Kz>0</Kz>"]
["<Cy>0</Cy>"]
["<dx>1000</dx>"]
["<dz>0</dz>"]
["<Number>2</Number>"]
["<Nodenumber>5</Nodenumber>"]
["<Tx>A</Tx>"]
["<Tz>A</Tz>"]
["<Ry> </Ry>"]
["<Kx>0</Kx>"]
["<Kz>0</Kz>"]
["<Cy>0</Cy>"]
["<dx>1000</dx>"]
["<dz>0</dz>"]
["<Number>3</Number>"]
["<Nodenumber>6</Nodenumber>"]
["<Tx> </Tx>"]
["<Tz>A</Tz>"]
["<Ry> </Ry>"]
["<Kx>0</Kx>"]
["<Kz>0</Kz>"]
["<Cy>0</Cy>"]
["<dx>1000</dx>"]
["<dz>0</dz>"]
["</Supports>"]
["<Grids>"]
[{"$f":"'RAV2'!R20","v":"<X>0 4200</X>"}]
["<X_Lable>"]
["A B C D E F G H I J K L M N O P Q R S T U V W X Y Z"]
["</X_Lable>"]
["<Z>0</Z>"]
["<Z_Lable/>"]
["</Grids>"]
["<Profiles>"]
["<Number>1</Number>"]
[{"$f":"'RAV2'!T14","v":"<Profile_name>80 x 200</Profile_name>"}]
["<Material_type>2</Material_type>"]
[{"$f":"'RAV2'!T15","v":"<Material>C24</Material>"}]
["<Angle>0</Angle>"]
["<ServiceClass>0</ServiceClass>"]
["<Profile_shape>6</Profile_shape>"]
[{"$f":"'RAV2'!R15","v":"<h>200</h>"}]
[{"$f":"'RAV2'!R14","v":"<b>80</b>"}]
["<tf>200</tf>"]
["<tw>10</tw>"]
["<r1>0</r1>"]
["<r2>20</r2>"]
["<slope>0</slope>"]
["<Number>2</Number>"]
[{"$f":"'RAV2'!T17","v":"<Profile_name>160 x 200</Profile_name>"}]
["<Material_type>2</Material_type>"]
[{"$f":"'RAV2'!T18","v":"<Material>C24</Material>"}]
["<Angle>0</Angle>"]
["<ServiceClass>0</ServiceClass>"]
["<Profile_shape>6</Profile_shape>"]
[{"$f":"'RAV2'!R18","v":"<h>200</h>"}]
[{"$f":"'RAV2'!R17","v":"<b>160</b>"}]
["<tf>200</tf>"]
["<tw>10</tw>"]
["<r1>0</r1>"]
["<r2>20</r2>"]
["<slope>0</slope>"]
["</Profiles>"]
["<Beamgroup>"]
["<Number>1</Number>"]
["<Startnode>2</Startnode>"]
["<Endnode>4</Endnode>"]
["<Number>2</Number>"]
["<Startnode>4</Startnode>"]
["<Endnode>5</Endnode>"]
["<Number>3</Number>"]
["<Startnode>1</Startnode>"]
["<Endnode>2</Endnode>"]
["<Number>4</Number>"]
["<Startnode>1</Startnode>"]
["<Endnode>6</Endnode>"]
["</Beamgroup>"]
["<Beams>"]
["<Number>2</Number>"]
["<Beamgroupnumber>1</Beamgroupnumber>"]
["<From_node_number>2</From_node_number>"]
["<To_node_number>4</To_node_number>"]
["<Type>3</Type>"]
["<TypeLoad>0</TypeLoad>"]
["<NumbLateralRestraints>0</NumbLateralRestraints>"]
["<Angle_profile>0</Angle_profile>"]
["<Profile_number>1</Profile_number>"]
["<Number>3</Number>"]
["<Beamgroupnumber>2</Beamgroupnumber>"]
["<From_node_number>4</From_node_number>"]
["<To_node_number>5</To_node_number>"]
["<Type>1</Type>"]
["<TypeLoad>0</TypeLoad>"]
["<NumbLateralRestraints>0</NumbLateralRestraints>"]
["<Angle_profile>0</Angle_profile>"]
["<Profile_number>2</Profile_number>"]
["<Number>4</Number>"]
["<Beamgroupnumber>3</Beamgroupnumber>"]
["<From_node_number>1</From_node_number>"]
["<To_node_number>2</To_node_number>"]
["<Type>1</Type>"]
["<TypeLoad>0</TypeLoad>"]
["<NumbLateralRestraints>0</NumbLateralRestraints>"]
["<Angle_profile>0</Angle_profile>"]
["<Profile_number>1</Profile_number>"]
["<Number>5</Number>"]
["<Beamgroupnumber>4</Beamgroupnumber>"]
["<From_node_number>2</From_node_number>"]
["<To_node_number>6</To_node_number>"]
["<Type>1</Type>"]
["<TypeLoad>0</TypeLoad>"]
["<NumbLateralRestraints>0</NumbLateralRestraints>"]
["<Angle_profile>0</Angle_profile>"]
["<Profile_number>1</Profile_number>"]
["</Beams>"]
["<LoadCases>"]
["<Number>1</Number>"]
["<Description>Dead load</Description>"]
["<Type>0</Type>"]
["<psi0>1</psi0>"]
["<psi1>1</psi1>"]
["<psi2>1</psi2>"]
["<Number>2</Number>"]
["<Description>Live load</Description>"]
["<Type>1</Type>"]
["<psi0>0,4</psi0>"]
["<psi1>0,5</psi1>"]
["<psi2>0,3</psi2>"]
["</LoadCases>"]
["<BeamLoads>"]
["<LoadCaseNumber>1</LoadCaseNumber>"]
["<BeamNumber>4</BeamNumber>"]
["<Description/>"]
["<Type>1</Type>"]
[{"$f":"'RAV2'!U23","v":"<q1>-0,172325</q1>"}]
[{"$f":"A166","v":"<q1>-0,172325</q1>"}]
["<a>0</a>"]
["<bL>False</bL>"]
[{"$f":"'RAV2'!R27","v":"<L>1000</L>"}]
["<angle>0</angle>"]
["<LoadCaseNumber>1</LoadCaseNumber>"]
["<BeamNumber>5</BeamNumber>"]
["<Description/>"]
["<Type>1</Type>"]
[{"$f":"'RAV2'!U24","v":"<q1>-0,34465</q1>"}]
[{"$f":"A176","v":"<q1>-0,34465</q1>"}]
["<a>0</a>"]
["<bL>False</bL>"]
[{"$f":"'RAV2'!R28","v":"<L>3200</L>"}]
["<angle>0</angle>"]
["<LoadCaseNumber>1</LoadCaseNumber>"]
["<BeamNumber>3</BeamNumber>"]
["<Description/>"]
["<Type>1</Type>"]
[{"$f":"'RAV2'!U25","v":"<q1>-0,904</q1>"}]
[{"$f":"A186","v":"<q1>-0,904</q1>"}]
["<a>0</a>"]
["<bL>False</bL>"]
[{"$f":"'RAV2'!R29","v":"<L>2000</L>"}]
["<angle>0</angle>"]
["<LoadCaseNumber>2</LoadCaseNumber>"]
["<BeamNumber>4</BeamNumber>"]
["<Description/>"]
["<Type>1</Type>"]
[{"$f":"'RAV2'!V23","v":"<q1>-0,77775</q1>"}]
[{"$f":"A196","v":"<q1>-0,77775</q1>"}]
["<a>0</a>"]
["<bL>False</bL>"]
[{"$f":"A170","v":"<L>1000</L>"}]
["<angle>0</angle>"]
["<LoadCaseNumber>2</LoadCaseNumber>"]
["<BeamNumber>5</BeamNumber>"]
["<Description/>"]
["<Type>1</Type>"]
[{"$f":"'RAV2'!V24","v":"<q1>-1,5555</q1>"}]
[{"$f":"A206","v":"<q1>-1,5555</q1>"}]
["<a>0</a>"]
["<bL>False</bL>"]
[{"$f":"A180","v":"<L>3200</L>"}]
["<angle>0</angle>"]
["<LoadCaseNumber>2</LoadCaseNumber>"]
["<BeamNumber>3</BeamNumber>"]
["<Description/>"]
["<Type>1</Type>"]
[{"$f":"'RAV2'!V25","v":"<q1>-4,08</q1>"}]
[{"$f":"A216","v":"<q1>-4,08</q1>"}]
["<a>0</a>"]
["<bL>False</bL>"]
[{"$f":"'RAV2'!R29","v":"<L>2000</L>"}]
["<angle>0</angle>"]
["</BeamLoads>"]
["<Combinations>"]
["<LoadCombinationNumber>1</LoadCombinationNumber>"]
["<Description>Combination1 (6.10a)</Description>"]
["<CombTyp>0</CombTyp>"]
["<Case>1</Case>"]
["<Psi>1</Psi>"]
["<Gamma>1,22</Gamma>"]
["<Case>2</Case>"]
["<Psi>0,4</Psi>"]
["<Gamma>1,35</Gamma>"]
["<LoadCombinationNumber>2</LoadCombinationNumber>"]
["<Description>Combination2 (6.10b)</Description>"]
["<CombTyp>0</CombTyp>"]
["<Case>1</Case>"]
["<Psi>1</Psi>"]
["<Gamma>1,08</Gamma>"]
["<Case>2</Case>"]
["<Psi>1</Psi>"]
["<Gamma>1,35</Gamma>"]
["<LoadCombinationNumber>3</LoadCombinationNumber>"]
["<Description>SLS Permanent</Description>"]
["<CombTyp>4</CombTyp>"]
["<Case>1</Case>"]
["<Psi>1</Psi>"]
["<Gamma>1</Gamma>"]
["<LoadCombinationNumber>4</LoadCombinationNumber>"]
["<Description>SLS Quasi permanent</Description>"]
["<CombTyp>2</CombTyp>"]
["<Case>1</Case>"]
["<Psi>1</Psi>"]
["<Gamma>1</Gamma>"]
["<Case>2</Case>"]
["<Psi>0,3</Psi>"]
["<Gamma>1</Gamma>"]
["<LoadCombinationNumber>5</LoadCombinationNumber>"]
["<Description>Combination</Description>"]
["<CombTyp>3</CombTyp>"]
["<Case>1</Case>"]
["<Psi>1</Psi>"]
["<Gamma>1</Gamma>"]
["<Case>2</Case>"]
["<Psi>1</Psi>"]
["<Gamma>1</Gamma>"]
["</Combinations>"]
["</Frame>"]

{"sheet":"B1_XML","index":23,"n_rows":2472,"n_cols":1,"rows_kept":2472,"cut":false,"hidden":true,"merged":[]}
["<Frame>"]
[{"$f":"\"<ProjectName>\" & INHOUD!C13 & \"</ProjectName>\"","v":"<ProjectName>Test project</ProjectName>"}]
[{"$f":"\"<ProjectNumber>\" & INHOUD!C12 & \"</ProjectNumber>\"","v":"<ProjectNumber>0</ProjectNumber>"}]
[{"$f":"\"<ConsequenceClass>\"& INHOUD!C14 & \"</ConsequenceClass>\"","v":"<ConsequenceClass>CC2</ConsequenceClass>"}]
["<DesignWorkingLife>50</DesignWorkingLife>"]
["<ExportDateTime>2023-12-02 22:04:05Z</ExportDateTime>"]
["<XMLExportVersion>v4.0.30319</XMLExportVersion>"]
["<Nodes>"]
["<Number>1</Number>"]
["<X>0</X>"]
["<Y>0</Y>"]
["<Z>0</Z>"]
["<Number>3</Number>"]
["<X>0</X>"]
[{"$f":"'B1'!U9","v":"<Y>1000</Y>"}]
["<Z>0</Z>"]
["<Number>89</Number>"]
["<X>0</X>"]
[{"$f":"'B1'!U22","v":"<Y>13500</Y>"}]
["<Z>0</Z>"]
["<Number>312</Number>"]
[{"$f":"'B1'!S9","v":"<X>500</X>"}]
[{"$f":"'B1'!U9","v":"<Y>1000</Y>"}]
["<Z>0</Z>"]
["<Number>318</Number>"]
[{"$f":"A22","v":"<X>500</X>"}]
[{"$f":"'B1'!U11","v":"<Y>2000</Y>"}]
["<Z>0</Z>"]
["<Number>330</Number>"]
[{"$f":"A26","v":"<X>500</X>"}]
[{"$f":"'B1'!U12","v":"<Y>4000</Y>"}]
["<Z>0</Z>"]
["<Number>336</Number>"]
[{"$f":"A30","v":"<X>500</X>"}]
[{"$f":"'B1'!U14","v":"<Y>5000</Y>"}]
["<Z>0</Z>"]
["<Number>348</Number>"]
[{"$f":"A34","v":"<X>500</X>"}]
[{"$f":"'B1'!U15","v":"<Y>7000</Y>"}]
["<Z>0</Z>"]
["<Number>354</Number>"]
[{"$f":"A38","v":"<X>500</X>"}]
[{"$f":"'B1'!U17","v":"<Y>8000</Y>"}]
["<Z>0</Z>"]
["<Number>366</Number>"]
[{"$f":"A42","v":"<X>500</X>"}]
[{"$f":"'B1'!U18","v":"<Y>10000</Y>"}]
["<Z>0</Z>"]
["<Number>372</Number>"]
[{"$f":"A46","v":"<X>500</X>"}]
[{"$f":"'B1'!U20","v":"<Y>11000</Y>"}]
["<Z>0</Z>"]
["<Number>382</Number>"]
[{"$f":"A50","v":"<X>500</X>"}]
["<Y>12000</Y>"]
["<Z>0</Z>"]
["<Number>384</Number>"]
[{"$f":"A50","v":"<X>500</X>"}]
[{"$f":"'B1'!U21","v":"<Y>13000</Y>"}]
["<Z>0</Z>"]
["<Number>388</Number>"]
[{"$f":"A58","v":"<X>500</X>"}]
[{"$f":"'B1'!U22","v":"<Y>13500</Y>"}]
["<Z>0</Z>"]
["<Number>525</Number>"]
[{"$f":"'B1'!S10","v":"<X>1500</X>"}]
[{"$f":"'B1'!U10","v":"<Y>1500</Y>"}]
["<Z>0</Z>"]
["<Number>526</Number>"]
[{"$f":"A66","v":"<X>1500</X>"}]
[{"$f":"'B1'!U13","v":"<Y>4500</Y>"}]
["<Z>0</Z>"]
["<Number>527</Number>"]
[{"$f":"A70","v":"<X>1500</X>"}]
[{"$f":"'B1'!U16","v":"<Y>7500</Y>"}]
["<Z>0</Z>"]
["<Number>528</Number>"]
[{"$f":"A74","v":"<X>1500</X>"}]
[{"$f":"'B1'!U19","v":"<Y>10500</Y>"}]
["<Z>0</Z>"]
["<Number>530</Number>"]
[{"$f":"A78","v":"<X>1500</X>"}]
[{"$f":"'B1'!U22","v":"<Y>13500</Y>"}]
["<Z>0</Z>"]
["<Number>633</Number>"]
["<X>1336,2</X>"]
["<Y>12729,9</Y>"]
["<Z>0</Z>"]
["<Number>654</Number>"]
[{"$f":"'B1'!S11","v":"<X>2000</X>"}]
[{"$f":"'B1'!U9","v":"<Y>1000</Y>"}]
["<Z>0</Z>"]
["<Number>660</Number>"]
[{"$f":"'B1'!S11","v":"<X>2000</X>"}]
[{"$f":"'B1'!U11","v":"<Y>2000</Y>"}]
["<Z>0</Z>"]
["<Number>661</Number>"]
[{"$f":"'B1'!S11","v":"<X>2000</X>"}]
[{"$f":"'B1'!U12","v":"<Y>4000</Y>"}]
["<Z>0</Z>"]
["<Number>667</Number>"]
[{"$f":"'B1'!S11","v":"<X>2000</X>"}]
[{"$f":"'B1'!U14","v":"<Y>5000</Y>"}]
["<Z>0</Z>"]
["<Number>668</Number>"]
[{"$f":"'B1'!S11","v":"<X>2000</X>"}]
[{"$f":"'B1'!U15","v":"<Y>7000</Y>"}]
["<Z>0</Z>"]
["<Number>674</Number>"]
[{"$f":"'B1'!S11","v":"<X>2000</X>"}]
[{"$f":"'B1'!U17","v":"<Y>8000</Y>"}]
["<Z>0</Z>"]
["<Number>675</Number>"]
[{"$f":"'B1'!S11","v":"<X>2000</X>"}]
[{"$f":"'B1'!U18","v":"<Y>10000</Y>"}]
["<Z>0</Z>"]
["<Number>681</Number>"]
[{"$f":"'B1'!S11","v":"<X>2000</X>"}]
[{"$f":"'B1'!U20","v":"<Y>11000</Y>"}]
["<Z>0</Z>"]
["<Number>682</Number>"]
[{"$f":"'B1'!S11","v":"<X>2000</X>"}]
[{"$f":"'B1'!U21","v":"<Y>13000</Y>"}]
["<Z>0</Z>"]
["<Number>686</Number>"]
[{"$f":"'B1'!S11","v":"<X>2000</X>"}]
[{"$f":"'B1'!U22","v":"<Y>13500</Y>"}]
["<Z>0</Z>"]
["<Number>902</Number>"]
["<X>2492,2</X>"]
["<Y>5655,6</Y>"]
["<Z>0</Z>"]
["<Number>1159</Number>"]
[{"$f":"'B1'!S12","v":"<X>4000</X>"}]
[{"$f":"'B1'!U9","v":"<Y>1000</Y>"}]
["<Z>0</Z>"]
["<Number>1165</Number>"]
[{"$f":"'B1'!S12","v":"<X>4000</X>"}]
[{"$f":"'B1'!U11","v":"<Y>2000</Y>"}]
["<Z>0</Z>"]
["<Number>1177</Number>"]
[{"$f":"'B1'!S12","v":"<X>4000</X>"}]
[{"$f":"'B1'!U12","v":"<Y>4000</Y>"}]
["<Z>0</Z>"]
["<Number>1183</Number>"]
[{"$f":"'B1'!S12","v":"<X>4000</X>"}]
[{"$f":"'B1'!U14","v":"<Y>5000</Y>"}]
["<Z>0</Z>"]
["<Number>1184</Number>"]
[{"$f":"'B1'!S12","v":"<X>4000</X>"}]
[{"$f":"'B1'!U15","v":"<Y>7000</Y>"}]
["<Z>0</Z>"]
["<Number>1190</Number>"]
[{"$f":"'B1'!S12","v":"<X>4000</X>"}]
[{"$f":"'B1'!U17","v":"<Y>8000</Y>"}]
["<Z>0</Z>"]
["<Number>1191</Number>"]
[{"$f":"'B1'!S12","v":"<X>4000</X>"}]
[{"$f":"'B1'!U18","v":"<Y>10000</Y>"}]
["<Z>0</Z>"]
["<Number>1197</Number>"]
[{"$f":"'B1'!S12","v":"<X>4000</X>"}]
[{"$f":"'B1'!U20","v":"<Y>11000</Y>"}]
["<Z>0</Z>"]
["<Number>1198</Number>"]
[{"$f":"'B1'!S12","v":"<X>4000</X>"}]
[{"$f":"'B1'!U21","v":"<Y>13000</Y>"}]
["<Z>0</Z>"]
["<Number>1202</Number>"]
[{"$f":"'B1'!S12","v":"<X>4000</X>"}]
[{"$f":"'B1'!U22","v":"<Y>13500</Y>"}]
["<Z>0</Z>"]
["<Number>1315</Number>"]
[{"$f":"'B1'!S13","v":"<X>4500</X>"}]
[{"$f":"'B1'!U10","v":"<Y>1500</Y>"}]
["<Z>0</Z>"]
["<Number>1333</Number>"]
[{"$f":"'B1'!S13","v":"<X>4500</X>"}]
[{"$f":"'B1'!U13","v":"<Y>4500</Y>"}]
["<Z>0</Z>"]
["<Number>1340</Number>"]
[{"$f":"'B1'!S13","v":"<X>4500</X>"}]
[{"$f":"'B1'!U16","v":"<Y>7500</Y>"}]
["<Z>0</Z>"]
["<Number>1347</Number>"]
[{"$f":"'B1'!S13","v":"<X>4500</X>"}]
[{"$f":"'B1'!U19","v":"<Y>10500</Y>"}]
["<Z>0</Z>"]
["<Number>1355</Number>"]
[{"$f":"'B1'!S13","v":"<X>4500</X>"}]
[{"$f":"'B1'!U22","v":"<Y>13500</Y>"}]
["<Z>0</Z>"]
["<Number>1461</Number>"]
[{"$f":"'B1'!S14","v":"<X>5000</X>"}]
[{"$f":"'B1'!U9","v":"<Y>1000</Y>"}]
["<Z>0</Z>"]
["<Number>1467</Number>"]
[{"$f":"'B1'!S14","v":"<X>5000</X>"}]
[{"$f":"'B1'!U11","v":"<Y>2000</Y>"}]
["<Z>0</Z>"]
["<Number>1479</Number>"]
[{"$f":"'B1'!S14","v":"<X>5000</X>"}]
[{"$f":"'B1'!U12","v":"<Y>4000</Y>"}]
["<Z>0</Z>"]
["<Number>1485</Number>"]
[{"$f":"'B1'!S14","v":"<X>5000</X>"}]
[{"$f":"'B1'!U14","v":"<Y>5000</Y>"}]
["<Z>0</Z>"]
["<Number>1486</Number>"]
[{"$f":"'B1'!S14","v":"<X>5000</X>"}]
[{"$f":"'B1'!U15","v":"<Y>7000</Y>"}]
["<Z>0</Z>"]
["<Number>1492</Number>"]
[{"$f":"'B1'!S14","v":"<X>5000</X>"}]
[{"$f":"'B1'!U17","v":"<Y>8000</Y>"}]
["<Z>0</Z>"]
["<Number>1493</Number>"]
[{"$f":"'B1'!S14","v":"<X>5000</X>"}]
[{"$f":"'B1'!U18","v":"<Y>10000</Y>"}]
["<Z>0</Z>"]
["<Number>1499</Number>"]
[{"$f":"'B1'!S14","v":"<X>5000</X>"}]
[{"$f":"'B1'!U20","v":"<Y>11000</Y>"}]
["<Z>0</Z>"]
["<Number>1500</Number>"]
[{"$f":"'B1'!S14","v":"<X>5000</X>"}]
[{"$f":"'B1'!U21","v":"<Y>13000</Y>"}]
["<Z>0</Z>"]
["<Number>1504</Number>"]
[{"$f":"'B1'!S14","v":"<X>5000</X>"}]
[{"$f":"'B1'!U22","v":"<Y>13500</Y>"}]
["<Z>0</Z>"]
["<Number>1802</Number>"]
["<X>5757,4</X>"]
["<Y>5632,6</Y>"]
["<Z>0</Z>"]
["<Number>1981</Number>"]
[{"$f":"'B1'!S15","v":"<X>7000</X>"}]
[{"$f":"'B1'!U9","v":"<Y>1000</Y>"}]
["<Z>0</Z>"]
["<Number>1987</Number>"]
[{"$f":"'B1'!S15","v":"<X>7000</X>"}]
[{"$f":"'B1'!U11","v":"<Y>2000</Y>"}]
["<Z>0</Z>"]
["<Number>1999</Number>"]
[{"$f":"'B1'!S15","v":"<X>7000</X>"}]
[{"$f":"'B1'!U12","v":"<Y>4000</Y>"}]
["<Z>0</Z>"]
["<Number>2005</Number>"]
[{"$f":"'B1'!S15","v":"<X>7000</X>"}]
[{"$f":"'B1'!U14","v":"<Y>5000</Y>"}]
["<Z>0</Z>"]
["<Number>2006</Number>"]
[{"$f":"'B1'!S15","v":"<X>7000</X>"}]
[{"$f":"'B1'!U15","v":"<Y>7000</Y>"}]
["<Z>0</Z>"]
["<Number>2012</Number>"]
[{"$f":"'B1'!S15","v":"<X>7000</X>"}]
[{"$f":"'B1'!U17","v":"<Y>8000</Y>"}]
["<Z>0</Z>"]
["<Number>2013</Number>"]
[{"$f":"'B1'!S15","v":"<X>7000</X>"}]
[{"$f":"'B1'!U18","v":"<Y>10000</Y>"}]
["<Z>0</Z>"]
["<Number>2019</Number>"]
[{"$f":"'B1'!S15","v":"<X>7000</X>"}]
[{"$f":"'B1'!U20","v":"<Y>11000</Y>"}]
["<Z>0</Z>"]
["<Number>2020</Number>"]
[{"$f":"'B1'!S15","v":"<X>7000</X>"}]
[{"$f":"'B1'!U21","v":"<Y>13000</Y>"}]
["<Z>0</Z>"]
["<Number>2024</Number>"]
[{"$f":"'B1'!S15","v":"<X>7000</X>"}]
[{"$f":"'B1'!U22","v":"<Y>13500</Y>"}]
["<Z>0</Z>"]
["<Number>2133</Number>"]
[{"$f":"'B1'!S16","v":"<X>7500</X>"}]
[{"$f":"'B1'!U10","v":"<Y>1500</Y>"}]
["<Z>0</Z>"]
["<Number>2151</Number>"]
[{"$f":"'B1'!S16","v":"<X>7500</X>"}]
[{"$f":"'B1'!U13","v":"<Y>4500</Y>"}]
["<Z>0</Z>"]
["<Number>2158</Number>"]
[{"$f":"'B1'!S16","v":"<X>7500</X>"}]
[{"$f":"'B1'!U16","v":"<Y>7500</Y>"}]
["<Z>0</Z>"]
["<Number>2165</Number>"]
[{"$f":"'B1'!S16","v":"<X>7500</X>"}]
[{"$f":"'B1'!U19","v":"<Y>10500</Y>"}]
["<Z>0</Z>"]
["<Number>2173</Number>"]
[{"$f":"'B1'!S16","v":"<X>7500</X>"}]
[{"$f":"'B1'!U22","v":"<Y>13500</Y>"}]
["<Z>0</Z>"]
["<Number>2276</Number>"]
[{"$f":"'B1'!S17","v":"<X>8000</X>"}]
[{"$f":"'B1'!U9","v":"<Y>1000</Y>"}]
["<Z>0</Z>"]
["<Number>2282</Number>"]
[{"$f":"'B1'!S17","v":"<X>8000</X>"}]
[{"$f":"'B1'!U11","v":"<Y>2000</Y>"}]
["<Z>0</Z>"]
["<Number>2294</Number>"]
[{"$f":"'B1'!S17","v":"<X>8000</X>"}]
[{"$f":"'B1'!U12","v":"<Y>4000</Y>"}]
["<Z>0</Z>"]
["<Number>2300</Number>"]
[{"$f":"'B1'!S17","v":"<X>8000</X>"}]
[{"$f":"'B1'!U14","v":"<Y>5000</Y>"}]
["<Z>0</Z>"]
["<Number>2301</Number>"]
[{"$f":"'B1'!S17","v":"<X>8000</X>"}]
[{"$f":"'B1'!U15","v":"<Y>7000</Y>"}]
["<Z>0</Z>"]
["<Number>2307</Number>"]
[{"$f":"'B1'!S17","v":"<X>8000</X>"}]
[{"$f":"'B1'!U17","v":"<Y>8000</Y>"}]
["<Z>0</Z>"]
["<Number>2308</Number>"]
[{"$f":"'B1'!S17","v":"<X>8000</X>"}]
[{"$f":"'B1'!U18","v":"<Y>10000</Y>"}]
["<Z>0</Z>"]
["<Number>2314</Number>"]
[{"$f":"'B1'!S17","v":"<X>8000</X>"}]
[{"$f":"'B1'!U20","v":"<Y>11000</Y>"}]
["<Z>0</Z>"]
["<Number>2315</Number>"]
[{"$f":"'B1'!S17","v":"<X>8000</X>"}]
[{"$f":"'B1'!U21","v":"<Y>13000</Y>"}]
["<Z>0</Z>"]
["<Number>2319</Number>"]
[{"$f":"'B1'!S17","v":"<X>8000</X>"}]
[{"$f":"'B1'!U22","v":"<Y>13500</Y>"}]
["<Z>0</Z>"]
["<Number>2809</Number>"]
[{"$f":"'B1'!S18","v":"<X>10000</X>"}]
[{"$f":"'B1'!U9","v":"<Y>1000</Y>"}]
["<Z>0</Z>"]
["<Number>2815</Number>"]
[{"$f":"'B1'!S18","v":"<X>10000</X>"}]
[{"$f":"'B1'!U11","v":"<Y>2000</Y>"}]
["<Z>0</Z>"]
["<Number>2816</Number>"]
[{"$f":"'B1'!S18","v":"<X>10000</X>"}]
[{"$f":"'B1'!U12","v":"<Y>4000</Y>"}]
["<Z>0</Z>"]
["<Number>2822</Number>"]
[{"$f":"'B1'!S18","v":"<X>10000</X>"}]
[{"$f":"'B1'!U14","v":"<Y>5000</Y>"}]
["<Z>0</Z>"]
["<Number>2823</Number>"]
[{"$f":"'B1'!S18","v":"<X>10000</X>"}]
[{"$f":"'B1'!U15","v":"<Y>7000</Y>"}]
["<Z>0</Z>"]
["<Number>2829</Number>"]
[{"$f":"'B1'!S18","v":"<X>10000</X>"}]
[{"$f":"'B1'!U17","v":"<Y>8000</Y>"}]
["<Z>0</Z>"]
["<Number>2830</Number>"]
[{"$f":"'B1'!S18","v":"<X>10000</X>"}]
[{"$f":"'B1'!U18","v":"<Y>10000</Y>"}]
["<Z>0</Z>"]
["<Number>2836</Number>"]
[{"$f":"'B1'!S18","v":"<X>10000</X>"}]
[{"$f":"'B1'!U20","v":"<Y>11000</Y>"}]
["<Z>0</Z>"]
["<Number>2837</Number>"]
[{"$f":"'B1'!S18","v":"<X>10000</X>"}]
[{"$f":"'B1'!U21","v":"<Y>13000</Y>"}]
["<Z>0</Z>"]
["<Number>2841</Number>"]
[{"$f":"'B1'!S18","v":"<X>10000</X>"}]
[{"$f":"'B1'!U22","v":"<Y>13500</Y>"}]
["<Z>0</Z>"]
["<Number>2959</Number>"]
[{"$f":"'B1'!S19","v":"<X>10500</X>"}]
[{"$f":"'B1'!U10","v":"<Y>1500</Y>"}]
["<Z>0</Z>"]
["<Number>2966</Number>"]
[{"$f":"'B1'!S19","v":"<X>10500</X>"}]
[{"$f":"'B1'!U13","v":"<Y>4500</Y>"}]
["<Z>0</Z>"]
["<Number>2973</Number>"]
[{"$f":"'B1'!S19","v":"<X>10500</X>"}]
[{"$f":"'B1'!U16","v":"<Y>7500</Y>"}]
["<Z>0</Z>"]
["<Number>2980</Number>"]
[{"$f":"'B1'!S19","v":"<X>10500</X>"}]
[{"$f":"'B1'!U19","v":"<Y>10500</Y>"}]
["<Z>0</Z>"]
["<Number>2988</Number>"]
[{"$f":"'B1'!S19","v":"<X>10500</X>"}]
[{"$f":"'B1'!U22","v":"<Y>13500</Y>"}]
["<Z>0</Z>"]
["<Number>3105</Number>"]
[{"$f":"'B1'!S20","v":"<X>11000</X>"}]
[{"$f":"'B1'!U9","v":"<Y>1000</Y>"}]
["<Z>0</Z>"]
["<Number>3111</Number>"]
[{"$f":"'B1'!S20","v":"<X>11000</X>"}]
[{"$f":"'B1'!U11","v":"<Y>2000</Y>"}]
["<Z>0</Z>"]
["<Number>3112</Number>"]
[{"$f":"'B1'!S20","v":"<X>11000</X>"}]
[{"$f":"'B1'!U12","v":"<Y>4000</Y>"}]
["<Z>0</Z>"]
["<Number>3118</Number>"]
[{"$f":"'B1'!S20","v":"<X>11000</X>"}]
[{"$f":"'B1'!U14","v":"<Y>5000</Y>"}]
["<Z>0</Z>"]
["<Number>3119</Number>"]
[{"$f":"'B1'!S20","v":"<X>11000</X>"}]
[{"$f":"'B1'!U15","v":"<Y>7000</Y>"}]
["<Z>0</Z>"]
["<Number>3125</Number>"]
[{"$f":"'B1'!S20","v":"<X>11000</X>"}]
[{"$f":"'B1'!U17","v":"<Y>8000</Y>"}]
["<Z>0</Z>"]
["<Number>3126</Number>"]
[{"$f":"'B1'!S20","v":"<X>11000</X>"}]
[{"$f":"'B1'!U18","v":"<Y>10000</Y>"}]
["<Z>0</Z>"]
["<Number>3132</Number>"]
[{"$f":"'B1'!S20","v":"<X>11000</X>"}]
[{"$f":"'B1'!U20","v":"<Y>11000</Y>"}]
["<Z>0</Z>"]
["<Number>3133</Number>"]
[{"$f":"'B1'!S20","v":"<X>11000</X>"}]
[{"$f":"'B1'!U21","v":"<Y>13000</Y>"}]
["<Z>0</Z>"]
["<Number>3137</Number>"]
[{"$f":"'B1'!S20","v":"<X>11000</X>"}]
[{"$f":"'B1'!U22","v":"<Y>13500</Y>"}]
["<Z>0</Z>"]
["<Number>3798</Number>"]
[{"$f":"'B1'!S21","v":"<X>13000</X>"}]
[{"$f":"'B1'!U9","v":"<Y>1000</Y>"}]
["<Z>0</Z>"]
["<Number>3806</Number>"]
[{"$f":"'B1'!S21","v":"<X>13000</X>"}]
[{"$f":"'B1'!U11","v":"<Y>2000</Y>"}]
["<Z>0</Z>"]
["<Number>3807</Number>"]
[{"$f":"'B1'!S21","v":"<X>13000</X>"}]
[{"$f":"'B1'!U12","v":"<Y>4000</Y>"}]
["<Z>0</Z>"]
["<Number>3815</Number>"]
[{"$f":"'B1'!S21","v":"<X>13000</X>"}]
[{"$f":"'B1'!U14","v":"<Y>5000</Y>"}]
["<Z>0</Z>"]
["<Number>3816</Number>"]
[{"$f":"'B1'!S21","v":"<X>13000</X>"}]
[{"$f":"'B1'!U15","v":"<Y>7000</Y>"}]
["<Z>0</Z>"]
["<Number>3824</Number>"]
[{"$f":"'B1'!S21","v":"<X>13000</X>"}]
[{"$f":"'B1'!U17","v":"<Y>8000</Y>"}]
["<Z>0</Z>"]
["<Number>3825</Number>"]
[{"$f":"'B1'!S21","v":"<X>13000</X>"}]
[{"$f":"'B1'!U18","v":"<Y>10000</Y>"}]
["<Z>0</Z>"]
["<Number>3833</Number>"]
[{"$f":"'B1'!S21","v":"<X>13000</X>"}]
[{"$f":"'B1'!U20","v":"<Y>11000</Y>"}]
["<Z>0</Z>"]
["<Number>3834</Number>"]
[{"$f":"'B1'!S21","v":"<X>13000</X>"}]
[{"$f":"'B1'!U21","v":"<Y>13000</Y>"}]
["<Z>0</Z>"]
["<Number>3838</Number>"]
[{"$f":"'B1'!S21","v":"<X>13000</X>"}]
[{"$f":"'B1'!U22","v":"<Y>13500</Y>"}]
["<Z>0</Z>"]
["<Number>4046</Number>"]
[{"$f":"'B1'!S22","v":"<X>13500</X>"}]
["<Y>0</Y>"]
["<Z>0</Z>"]
["<Number>4050</Number>"]
[{"$f":"'B1'!S22","v":"<X>13500</X>"}]
[{"$f":"'B1'!U9","v":"<Y>1000</Y>"}]
["<Z>0</Z>"]
["<Number>4054</Number>"]
[{"$f":"'B1'!S22","v":"<X>13500</X>"}]
[{"$f":"'B1'!U10","v":"<Y>1500</Y>"}]
["<Z>0</Z>"]
["<Number>4058</Number>"]
[{"$f":"'B1'!S22","v":"<X>13500</X>"}]
[{"$f":"'B1'!U11","v":"<Y>2000</Y>"}]
["<Z>0</Z>"]
["<Number>4076</Number>"]
[{"$f":"'B1'!S22","v":"<X>13500</X>"}]
[{"$f":"'B1'!U12","v":"<Y>4000</Y>"}]
["<Z>0</Z>"]
["<Number>4080</Number>"]
[{"$f":"'B1'!S22","v":"<X>13500</X>"}]
[{"$f":"'B1'!U13","v":"<Y>4500</Y>"}]
["<Z>0</Z>"]
["<Number>4084</Number>"]
[{"$f":"'B1'!S22","v":"<X>13500</X>"}]
[{"$f":"'B1'!U14","v":"<Y>5000</Y>"}]
["<Z>0</Z>"]
["<Number>4085</Number>"]
[{"$f":"'B1'!S22","v":"<X>13500</X>"}]
[{"$f":"'B1'!U15","v":"<Y>7000</Y>"}]
["<Z>0</Z>"]
["<Number>4089</Number>"]
[{"$f":"'B1'!S22","v":"<X>13500</X>"}]
[{"$f":"'B1'!U16","v":"<Y>7500</Y>"}]
["<Z>0</Z>"]
["<Number>4093</Number>"]
[{"$f":"'B1'!S22","v":"<X>13500</X>"}]
[{"$f":"'B1'!U17","v":"<Y>8000</Y>"}]
["<Z>0</Z>"]
["<Number>4094</Number>"]
[{"$f":"'B1'!S22","v":"<X>13500</X>"}]
[{"$f":"'B1'!U18","v":"<Y>10000</Y>"}]
["<Z>0</Z>"]
["<Number>4098</Number>"]
[{"$f":"'B1'!S22","v":"<X>13500</X>"}]
[{"$f":"'B1'!U19","v":"<Y>10500</Y>"}]
["<Z>0</Z>"]
["<Number>4102</Number>"]
[{"$f":"'B1'!S22","v":"<X>13500</X>"}]
[{"$f":"'B1'!U20","v":"<Y>11000</Y>"}]
["<Z>0</Z>"]
["<Number>4103</Number>"]
[{"$f":"'B1'!S22","v":"<X>13500</X>"}]
[{"$f":"'B1'!U21","v":"<Y>13000</Y>"}]
["<Z>0</Z>"]
["<Number>4107</Number>"]
[{"$f":"'B1'!S22","v":"<X>13500</X>"}]
[{"$f":"'B1'!U22","v":"<Y>13500</Y>"}]
["<Z>0</Z>"]
["</Nodes>"]
["<Supports>"]
["<Number>1</Number>"]
["<Nodenumber>89</Nodenumber>"]
["<Tx>A</Tx>"]
["<Ty>A</Ty>"]
["<Tz> </Tz>"]
["<Rx> </Rx>"]
["<Ry> </Ry>"]
["<Rz> </Rz>"]
["<Kx>0</Kx>"]
["<Ky>0</Ky>"]
["<Kz>0</Kz>"]
["<Cx>0</Cx>"]
["<Cy>0</Cy>"]
["<Cz>0</Cz>"]
["<dx>0</dx>"]
["<dy>0</dy>"]
["<dz>0</dz>"]
["<Number>2</Number>"]
["<Nodenumber>525</Nodenumber>"]
["<Tx> </Tx>"]
["<Ty> </Ty>"]
["<Tz>S</Tz>"]
["<Rx> </Rx>"]
["<Ry> </Ry>"]
["<Rz> </Rz>"]
["<Kx>0</Kx>"]
["<Ky>0</Ky>"]
[{"$f":"'B1'!R26","v":"<Kz>35000</Kz>"}]
["<Cx>0</Cx>"]
["<Cy>0</Cy>"]
["<Cz>0</Cz>"]
["<dx>0</dx>"]
["<dy>0</dy>"]
["<dz>0</dz>"]
["<Number>3</Number>"]
["<Nodenumber>526</Nodenumber>"]
["<Tx> </Tx>"]
["<Ty> </Ty>"]
["<Tz>S</Tz>"]
["<Rx> </Rx>"]
["<Ry> </Ry>"]
["<Rz> </Rz>"]
["<Kx>0</Kx>"]
["<Ky>0</Ky>"]
[{"$f":"'B1'!R26","v":"<Kz>35000</Kz>"}]
["<Cx>0</Cx>"]
["<Cy>0</Cy>"]
["<Cz>0</Cz>"]
["<dx>0</dx>"]
["<dy>0</dy>"]
["<dz>0</dz>"]
["<Number>4</Number>"]
["<Nodenumber>527</Nodenumber>"]
["<Tx> </Tx>"]
["<Ty> </Ty>"]
["<Tz>S</Tz>"]
["<Rx> </Rx>"]
["<Ry> </Ry>"]
["<Rz> </Rz>"]
["<Kx>0</Kx>"]
["<Ky>0</Ky>"]
[{"$f":"'B1'!R26","v":"<Kz>35000</Kz>"}]
["<Cx>0</Cx>"]
["<Cy>0</Cy>"]
["<Cz>0</Cz>"]
["<dx>0</dx>"]
["<dy>0</dy>"]
["<dz>0</dz>"]
["<Number>5</Number>"]
["<Nodenumber>528</Nodenumber>"]
["<Tx> </Tx>"]
["<Ty> </Ty>"]
["<Tz>S</Tz>"]
["<Rx> </Rx>"]
["<Ry> </Ry>"]
["<Rz> </Rz>"]
["<Kx>0</Kx>"]
["<Ky>0</Ky>"]
[{"$f":"'B1'!R26","v":"<Kz>35000</Kz>"}]
["<Cx>0</Cx>"]
["<Cy>0</Cy>"]
["<Cz>0</Cz>"]
["<dx>0</dx>"]
["<dy>0</dy>"]
["<dz>0</dz>"]
["<Number>6</Number>"]
["<Nodenumber>530</Nodenumber>"]
["<Tx> </Tx>"]
["<Ty> </Ty>"]
["<Tz>S</Tz>"]
["<Rx> </Rx>"]
["<Ry> </Ry>"]
["<Rz> </Rz>"]
["<Kx>0</Kx>"]
["<Ky>0</Ky>"]
[{"$f":"'B1'!R26","v":"<Kz>35000</Kz>"}]
["<Cx>0</Cx>"]
["<Cy>0</Cy>"]
["<Cz>0</Cz>"]
["<dx>0</dx>"]
["<dy>0</dy>"]
["<dz>0</dz>"]
["<Number>7</Number>"]
["<Nodenumber>1315</Nodenumber>"]
["<Tx> </Tx>"]
["<Ty> </Ty>"]
["<Tz>S</Tz>"]
["<Rx> </Rx>"]
["<Ry> </Ry>"]
["<Rz> </Rz>"]
["<Kx>0</Kx>"]
["<Ky>0</Ky>"]
[{"$f":"'B1'!R26","v":"<Kz>35000</Kz>"}]
["<Cx>0</Cx>"]
["<Cy>0</Cy>"]
["<Cz>0</Cz>"]
["<dx>0</dx>"]
["<dy>0</dy>"]
["<dz>0</dz>"]
["<Number>8</Number>"]
["<Nodenumber>1333</Nodenumber>"]
["<Tx> </Tx>"]
["<Ty> </Ty>"]
["<Tz>S</Tz>"]
["<Rx> </Rx>"]
["<Ry> </Ry>"]
["<Rz> </Rz>"]
["<Kx>0</Kx>"]
["<Ky>0</Ky>"]
[{"$f":"'B1'!R26","v":"<Kz>35000</Kz>"}]
["<Cx>0</Cx>"]
["<Cy>0</Cy>"]
["<Cz>0</Cz>"]
["<dx>0</dx>"]
["<dy>0</dy>"]
["<dz>0</dz>"]
["<Number>9</Number>"]
["<Nodenumber>1340</Nodenumber>"]
["<Tx> </Tx>"]
["<Ty> </Ty>"]
["<Tz>S</Tz>"]
["<Rx> </Rx>"]
["<Ry> </Ry>"]
["<Rz> </Rz>"]
["<Kx>0</Kx>"]
["<Ky>0</Ky>"]
[{"$f":"'B1'!R26","v":"<Kz>35000</Kz>"}]
["<Cx>0</Cx>"]
["<Cy>0</Cy>"]
["<Cz>0</Cz>"]
["<dx>0</dx>"]
["<dy>0</dy>"]
["<dz>0</dz>"]
["<Number>10</Number>"]
["<Nodenumber>1347</Nodenumber>"]
["<Tx> </Tx>"]
["<Ty> </Ty>"]
["<Tz>S</Tz>"]
["<Rx> </Rx>"]
["<Ry> </Ry>"]
["<Rz> </Rz>"]
["<Kx>0</Kx>"]
["<Ky>0</Ky>"]
[{"$f":"'B1'!R26","v":"<Kz>35000</Kz>"}]
["<Cx>0</Cx>"]
["<Cy>0</Cy>"]
["<Cz>0</Cz>"]
["<dx>0</dx>"]
["<dy>0</dy>"]
["<dz>0</dz>"]
["<Number>11</Number>"]
["<Nodenumber>1355</Nodenumber>"]
["<Tx> </Tx>"]
["<Ty> </Ty>"]
["<Tz>S</Tz>"]
["<Rx> </Rx>"]
["<Ry> </Ry>"]
["<Rz> </Rz>"]
["<Kx>0</Kx>"]
["<Ky>0</Ky>"]
[{"$f":"'B1'!R26","v":"<Kz>35000</Kz>"}]
["<Cx>0</Cx>"]
["<Cy>0</Cy>"]
["<Cz>0</Cz>"]
["<dx>0</dx>"]
["<dy>0</dy>"]
["<dz>0</dz>"]
["<Number>12</Number>"]
["<Nodenumber>2133</Nodenumber>"]
["<Tx> </Tx>"]
["<Ty> </Ty>"]
["<Tz>S</Tz>"]
["<Rx> </Rx>"]
["<Ry> </Ry>"]
["<Rz> </Rz>"]
["<Kx>0</Kx>"]
["<Ky>0</Ky>"]
[{"$f":"'B1'!R26","v":"<Kz>35000</Kz>"}]
["<Cx>0</Cx>"]
["<Cy>0</Cy>"]
["<Cz>0</Cz>"]
["<dx>0</dx>"]
["<dy>0</dy>"]
["<dz>0</dz>"]
["<Number>13</Number>"]
["<Nodenumber>2151</Nodenumber>"]
["<Tx> </Tx>"]
["<Ty> </Ty>"]
["<Tz>S</Tz>"]
["<Rx> </Rx>"]
["<Ry> </Ry>"]
["<Rz> </Rz>"]
["<Kx>0</Kx>"]
["<Ky>0</Ky>"]
[{"$f":"'B1'!R26","v":"<Kz>35000</Kz>"}]
["<Cx>0</Cx>"]
["<Cy>0</Cy>"]
["<Cz>0</Cz>"]
["<dx>0</dx>"]
["<dy>0</dy>"]
["<dz>0</dz>"]
["<Number>14</Number>"]
["<Nodenumber>2158</Nodenumber>"]
["<Tx> </Tx>"]
["<Ty> </Ty>"]
["<Tz>S</Tz>"]
["<Rx> </Rx>"]
["<Ry> </Ry>"]
["<Rz> </Rz>"]
["<Kx>0</Kx>"]
["<Ky>0</Ky>"]
[{"$f":"'B1'!R26","v":"<Kz>35000</Kz>"}]
["<Cx>0</Cx>"]
["<Cy>0</Cy>"]
["<Cz>0</Cz>"]
["<dx>0</dx>"]
["<dy>0</dy>"]
["<dz>0</dz>"]
["<Number>15</Number>"]
["<Nodenumber>2165</Nodenumber>"]
["<Tx> </Tx>"]
["<Ty> </Ty>"]
["<Tz>S</Tz>"]
["<Rx> </Rx>"]
["<Ry> </Ry>"]
["<Rz> </Rz>"]
["<Kx>0</Kx>"]
["<Ky>0</Ky>"]
[{"$f":"'B1'!R26","v":"<Kz>35000</Kz>"}]
["<Cx>0</Cx>"]
["<Cy>0</Cy>"]
["<Cz>0</Cz>"]
["<dx>0</dx>"]
["<dy>0</dy>"]
["<dz>0</dz>"]
["<Number>16</Number>"]
["<Nodenumber>2173</Nodenumber>"]
["<Tx> </Tx>"]
["<Ty> </Ty>"]
["<Tz>S</Tz>"]
["<Rx> </Rx>"]
["<Ry> </Ry>"]
["<Rz> </Rz>"]
["<Kx>0</Kx>"]
["<Ky>0</Ky>"]
[{"$f":"'B1'!R26","v":"<Kz>35000</Kz>"}]
["<Cx>0</Cx>"]
["<Cy>0</Cy>"]
["<Cz>0</Cz>"]
["<dx>0</dx>"]
["<dy>0</dy>"]
["<dz>0</dz>"]
["<Number>17</Number>"]
["<Nodenumber>2959</Nodenumber>"]
["<Tx> </Tx>"]
["<Ty> </Ty>"]
["<Tz>S</Tz>"]
["<Rx> </Rx>"]
["<Ry> </Ry>"]
["<Rz> </Rz>"]
["<Kx>0</Kx>"]
["<Ky>0</Ky>"]
[{"$f":"'B1'!R26","v":"<Kz>35000</Kz>"}]
["<Cx>0</Cx>"]
["<Cy>0</Cy>"]
["<Cz>0</Cz>"]
["<dx>0</dx>"]
["<dy>0</dy>"]
["<dz>0</dz>"]
["<Number>18</Number>"]
["<Nodenumber>2966</Nodenumber>"]
["<Tx> </Tx>"]
["<Ty> </Ty>"]
["<Tz>S</Tz>"]
["<Rx> </Rx>"]
["<Ry> </Ry>"]
["<Rz> </Rz>"]
["<Kx>0</Kx>"]
["<Ky>0</Ky>"]
[{"$f":"'B1'!R26","v":"<Kz>35000</Kz>"}]
["<Cx>0</Cx>"]
["<Cy>0</Cy>"]
["<Cz>0</Cz>"]
["<dx>0</dx>"]
["<dy>0</dy>"]
["<dz>0</dz>"]
["<Number>19</Number>"]
["<Nodenumber>2973</Nodenumber>"]
["<Tx> </Tx>"]
["<Ty> </Ty>"]
["<Tz>S</Tz>"]
["<Rx> </Rx>"]
["<Ry> </Ry>"]
["<Rz> </Rz>"]
["<Kx>0</Kx>"]
["<Ky>0</Ky>"]
[{"$f":"'B1'!R26","v":"<Kz>35000</Kz>"}]
["<Cx>0</Cx>"]
["<Cy>0</Cy>"]
["<Cz>0</Cz>"]
["<dx>0</dx>"]
["<dy>0</dy>"]
["<dz>0</dz>"]
["<Number>20</Number>"]
["<Nodenumber>2980</Nodenumber>"]
["<Tx> </Tx>"]
["<Ty> </Ty>"]
["<Tz>S</Tz>"]
["<Rx> </Rx>"]
["<Ry> </Ry>"]
["<Rz> </Rz>"]
["<Kx>0</Kx>"]
["<Ky>0</Ky>"]
[{"$f":"'B1'!R26","v":"<Kz>35000</Kz>"}]
["<Cx>0</Cx>"]
["<Cy>0</Cy>"]
["<Cz>0</Cz>"]
["<dx>0</dx>"]
["<dy>0</dy>"]
["<dz>0</dz>"]
["<Number>21</Number>"]
["<Nodenumber>2988</Nodenumber>"]
["<Tx> </Tx>"]
["<Ty> </Ty>"]
["<Tz>S</Tz>"]
["<Rx> </Rx>"]
["<Ry> </Ry>"]
["<Rz> </Rz>"]
["<Kx>0</Kx>"]
["<Ky>0</Ky>"]
[{"$f":"'B1'!R26","v":"<Kz>35000</Kz>"}]
["<Cx>0</Cx>"]
["<Cy>0</Cy>"]
["<Cz>0</Cz>"]
["<dx>0</dx>"]
["<dy>0</dy>"]
["<dz>0</dz>"]
["<Number>22</Number>"]
["<Nodenumber>4054</Nodenumber>"]
["<Tx> </Tx>"]
["<Ty> </Ty>"]
["<Tz>S</Tz>"]
["<Rx> </Rx>"]
["<Ry> </Ry>"]
["<Rz> </Rz>"]
["<Kx>0</Kx>"]
["<Ky>0</Ky>"]
[{"$f":"'B1'!R26","v":"<Kz>35000</Kz>"}]
["<Cx>0</Cx>"]
["<Cy>0</Cy>"]
["<Cz>0</Cz>"]
["<dx>0</dx>"]
["<dy>0</dy>"]
["<dz>0</dz>"]
["<Number>23</Number>"]
["<Nodenumber>4080</Nodenumber>"]
["<Tx> </Tx>"]
["<Ty> </Ty>"]
["<Tz>S</Tz>"]
["<Rx> </Rx>"]
["<Ry> </Ry>"]
["<Rz> </Rz>"]
["<Kx>0</Kx>"]
["<Ky>0</Ky>"]
[{"$f":"'B1'!R26","v":"<Kz>35000</Kz>"}]
["<Cx>0</Cx>"]
["<Cy>0</Cy>"]
["<Cz>0</Cz>"]
["<dx>0</dx>"]
["<dy>0</dy>"]
["<dz>0</dz>"]
["<Number>24</Number>"]
["<Nodenumber>4089</Nodenumber>"]
["<Tx> </Tx>"]
["<Ty> </Ty>"]
["<Tz>S</Tz>"]
["<Rx> </Rx>"]
["<Ry> </Ry>"]
["<Rz> </Rz>"]
["<Kx>0</Kx>"]
["<Ky>0</Ky>"]
[{"$f":"'B1'!R26","v":"<Kz>35000</Kz>"}]
["<Cx>0</Cx>"]
["<Cy>0</Cy>"]
["<Cz>0</Cz>"]
["<dx>0</dx>"]
["<dy>0</dy>"]
["<dz>0</dz>"]
["<Number>25</Number>"]
["<Nodenumber>4098</Nodenumber>"]
["<Tx> </Tx>"]
["<Ty> </Ty>"]
["<Tz>S</Tz>"]
["<Rx> </Rx>"]
["<Ry> </Ry>"]
["<Rz> </Rz>"]
["<Kx>0</Kx>"]
["<Ky>0</Ky>"]
[{"$f":"'B1'!R26","v":"<Kz>35000</Kz>"}]
["<Cx>0</Cx>"]
["<Cy>0</Cy>"]
["<Cz>0</Cz>"]
["<dx>0</dx>"]
["<dy>0</dy>"]
["<dz>0</dz>"]
["<Number>26</Number>"]
["<Nodenumber>4107</Nodenumber>"]
["<Tx> </Tx>"]
["<Ty> </Ty>"]
["<Tz>S</Tz>"]
["<Rx> </Rx>"]
["<Ry> </Ry>"]
["<Rz> </Rz>"]
["<Kx>0</Kx>"]
["<Ky>0</Ky>"]
[{"$f":"'B1'!R26","v":"<Kz>35000</Kz>"}]
["<Cx>0</Cx>"]
["<Cy>0</Cy>"]
["<Cz>0</Cz>"]
["<dx>0</dx>"]
["<dy>0</dy>"]
["<dz>0</dz>"]
["</Supports>"]
["<Grids>"]
[{"$f":"'B1'!R27","v":"<X>0 1500 4x3000</X>"}]
["<X_Lable>"]
["A B C D E F G H I J K L M N O P Q R S T U V W X Y Z"]
["</X_Lable>"]
[{"$f":"'B1'!R28","v":"<Y>0 1500 4x3000</Y>"}]
["<Y_Lable>"]
["1 2 3 4 5 6 7 8 9 10 11 12 13 14 15 16 17 18 19 20 21 22 23 24 25"]
["</Y_Lable>"]
["<Z>0</Z>"]
["<Z_Lable>+0</Z_Lable>"]
["</Grids>"]
["<Profiles>"]
["<Number>1</Number>"]
["<Profile_name>Profile 1</Profile_name>"]
["<Material_type>1</Material_type>"]
[{"$f":"'B1'!R29","v":"<Material>C20/25</Material>"}]
["<Angle>0</Angle>"]
["<Profile_shape>1</Profile_shape>"]
[{"$f":"'B1'!R30","v":"<h>500</h>"}]
[{"$f":"'B1'!R31","v":"<b>400</b>"}]
["<h1>50</h1>"]
["<b1>50</b1>"]
["<h2>50</h2>"]
["<b2>50</b2>"]
["<h3>50</h3>"]
["<b3>50</b3>"]
["<h4>50</h4>"]
["<b4>50</b4>"]
["</Profiles>"]
["<Beamgroup>"]
["<Number>1</Number>"]
["<Startnode>1</Startnode>"]
["<Endnode>89</Endnode>"]
["<Number>2</Number>"]
["<Startnode>1</Startnode>"]
["<Endnode>4046</Endnode>"]
["</Beamgroup>"]
["<Beams>"]
["<Number>1</Number>"]
["<Beamgroupnumber>1</Beamgroupnumber>"]
["<From_node_number>1</From_node_number>"]
["<To_node_number>89</To_node_number>"]
["<Angle>0</Angle>"]
["<Angle_profile>0</Angle_profile>"]
["<Profile_number>1</Profile_number>"]
["<Z>0</Z>"]
["<Top_Center_Bottom>Center</Top_Center_Bottom>"]
["<Number>2</Number>"]
["<Beamgroupnumber>2</Beamgroupnumber>"]
["<From_node_number>1</From_node_number>"]
["<To_node_number>4046</To_node_number>"]
["<Angle>0</Angle>"]
["<Angle_profile>0</Angle_profile>"]
["<Profile_number>1</Profile_number>"]
["<Z>0</Z>"]
["<Top_Center_Bottom>Center</Top_Center_Bottom>"]
["</Beams>"]
["<Plates>"]
["<Number>1</Number>"]
["<Node>1</Node>"]
["<Node>3</Node>"]
["<Node>312</Node>"]
["<Node>654</Node>"]
["<Node>1159</Node>"]
["<Node>1461</Node>"]
["<Node>1981</Node>"]
["<Node>2276</Node>"]
["<Node>2809</Node>"]
["<Node>3105</Node>"]
["<Node>3798</Node>"]
["<Node>4050</Node>"]
["<Node>4046</Node>"]
[{"$f":"'B1'!R32","v":"<h>250</h>"}]
["<Material_type>Concrete</Material_type>"]
[{"$f":"'B1'!R34","v":"<Material>C30/37</Material>"}]
["<Z>0</Z>"]
["<Top_Center_Bottom>Center</Top_Center_Bottom>"]
["<Number>2</Number>"]
["<Node>3</Node>"]
["<Node>89</Node>"]
["<Node>388</Node>"]
["<Node>384</Node>"]
["<Node>382</Node>"]
["<Node>372</Node>"]
["<Node>366</Node>"]
["<Node>354</Node>"]
["<Node>348</Node>"]
["<Node>336</Node>"]
["<Node>330</Node>"]
["<Node>318</Node>"]
["<Node>312</Node>"]
[{"$f":"'B1'!R32","v":"<h>250</h>"}]
["<Material_type>Concrete</Material_type>"]
[{"$f":"'B1'!R34","v":"<Material>C30/37</Material>"}]
["<Z>0</Z>"]
["<Top_Center_Bottom>Center</Top_Center_Bottom>"]
["<Number>3</Number>"]
["<Node>312</Node>"]
["<Node>318</Node>"]
["<Node>660</Node>"]
["<Node>654</Node>"]
[{"$f":"'B1'!R33","v":"<h>300</h>"}]
["<Material_type>Concrete</Material_type>"]
[{"$f":"'B1'!R34","v":"<Material>C30/37</Material>"}]
["<Z>0</Z>"]
["<Top_Center_Bottom>Center</Top_Center_Bottom>"]
["<Number>4</Number>"]
["<Node>330</Node>"]
["<Node>336</Node>"]
["<Node>667</Node>"]
["<Node>661</Node>"]
[{"$f":"'B1'!R33","v":"<h>300</h>"}]
["<Material_type>Concrete</Material_type>"]
[{"$f":"'B1'!R34","v":"<Material>C30/37</Material>"}]
["<Z>0</Z>"]
["<Top_Center_Bottom>Center</Top_Center_Bottom>"]
["<Number>5</Number>"]
["<Node>348</Node>"]
["<Node>354</Node>"]
["<Node>674</Node>"]
["<Node>668</Node>"]
[{"$f":"'B1'!R33","v":"<h>300</h>"}]
["<Material_type>Concrete</Material_type>"]
[{"$f":"'B1'!R34","v":"<Material>C30/37</Material>"}]
["<Z>0</Z>"]
["<Top_Center_Bottom>Center</Top_Center_Bottom>"]
["<Number>6</Number>"]
["<Node>366</Node>"]
["<Node>372</Node>"]
["<Node>681</Node>"]
["<Node>675</Node>"]
[{"$f":"'B1'!R33","v":"<h>300</h>"}]
["<Material_type>Concrete</Material_type>"]
[{"$f":"'B1'!R34","v":"<Material>C30/37</Material>"}]
["<Z>0</Z>"]
["<Top_Center_Bottom>Center</Top_Center_Bottom>"]
["<Number>7</Number>"]
["<Node>1159</Node>"]
["<Node>1165</Node>"]
["<Node>1467</Node>"]
["<Node>1461</Node>"]
[{"$f":"'B1'!R33","v":"<h>300</h>"}]
["<Material_type>Concrete</Material_type>"]
[{"$f":"'B1'!R34","v":"<Material>C30/37</Material>"}]
["<Z>0</Z>"]
["<Top_Center_Bottom>Center</Top_Center_Bottom>"]
["<Number>8</Number>"]
["<Node>1177</Node>"]
["<Node>1183</Node>"]
["<Node>1485</Node>"]
["<Node>1479</Node>"]
[{"$f":"'B1'!R33","v":"<h>300</h>"}]
["<Material_type>Concrete</Material_type>"]
[{"$f":"'B1'!R34","v":"<Material>C30/37</Material>"}]
["<Z>0</Z>"]
["<Top_Center_Bottom>Center</Top_Center_Bottom>"]
["<Number>9</Number>"]
["<Node>1184</Node>"]
["<Node>1190</Node>"]
["<Node>1492</Node>"]
["<Node>1486</Node>"]
[{"$f":"'B1'!R33","v":"<h>300</h>"}]
["<Material_type>Concrete</Material_type>"]
[{"$f":"'B1'!R34","v":"<Material>C30/37</Material>"}]
["<Z>0</Z>"]
["<Top_Center_Bottom>Center</Top_Center_Bottom>"]
["<Number>10</Number>"]
["<Node>1191</Node>"]
["<Node>1197</Node>"]
["<Node>1499</Node>"]
["<Node>1493</Node>"]
[{"$f":"'B1'!R33","v":"<h>300</h>"}]
["<Material_type>Concrete</Material_type>"]
[{"$f":"'B1'!R34","v":"<Material>C30/37</Material>"}]
["<Z>0</Z>"]
["<Top_Center_Bottom>Center</Top_Center_Bottom>"]
["<Number>11</Number>"]
["<Node>1981</Node>"]
["<Node>1987</Node>"]
["<Node>2282</Node>"]
["<Node>2276</Node>"]
[{"$f":"'B1'!R33","v":"<h>300</h>"}]
["<Material_type>Concrete</Material_type>"]
[{"$f":"'B1'!R34","v":"<Material>C30/37</Material>"}]
["<Z>0</Z>"]
["<Top_Center_Bottom>Center</Top_Center_Bottom>"]
["<Number>12</Number>"]
["<Node>1999</Node>"]
["<Node>2005</Node>"]
["<Node>2300</Node>"]
["<Node>2294</Node>"]
[{"$f":"'B1'!R33","v":"<h>300</h>"}]
["<Material_type>Concrete</Material_type>"]
[{"$f":"'B1'!R34","v":"<Material>C30/37</Material>"}]
["<Z>0</Z>"]
["<Top_Center_Bottom>Center</Top_Center_Bottom>"]
["<Number>13</Number>"]
["<Node>2006</Node>"]
["<Node>2012</Node>"]
["<Node>2307</Node>"]
["<Node>2301</Node>"]
[{"$f":"'B1'!R33","v":"<h>300</h>"}]
["<Material_type>Concrete</Material_type>"]
[{"$f":"'B1'!R34","v":"<Material>C30/37</Material>"}]
["<Z>0</Z>"]
["<Top_Center_Bottom>Center</Top_Center_Bottom>"]
["<Number>14</Number>"]
["<Node>2013</Node>"]
["<Node>2019</Node>"]
["<Node>2314</Node>"]
["<Node>2308</Node>"]
[{"$f":"'B1'!R33","v":"<h>300</h>"}]
["<Material_type>Concrete</Material_type>"]
[{"$f":"'B1'!R34","v":"<Material>C30/37</Material>"}]
["<Z>0</Z>"]
["<Top_Center_Bottom>Center</Top_Center_Bottom>"]
["<Number>15</Number>"]
["<Node>2809</Node>"]
["<Node>2815</Node>"]
["<Node>3111</Node>"]
["<Node>3105</Node>"]
[{"$f":"'B1'!R33","v":"<h>300</h>"}]
["<Material_type>Concrete</Material_type>"]
[{"$f":"'B1'!R34","v":"<Material>C30/37</Material>"}]
["<Z>0</Z>"]
["<Top_Center_Bottom>Center</Top_Center_Bottom>"]
["<Number>16</Number>"]
["<Node>2816</Node>"]
["<Node>2822</Node>"]
["<Node>3118</Node>"]
["<Node>3112</Node>"]
[{"$f":"'B1'!R33","v":"<h>300</h>"}]
["<Material_type>Concrete</Material_type>"]
[{"$f":"'B1'!R34","v":"<Material>C30/37</Material>"}]
["<Z>0</Z>"]
["<Top_Center_Bottom>Center</Top_Center_Bottom>"]
["<Number>17</Number>"]
["<Node>2823</Node>"]
["<Node>2829</Node>"]
["<Node>3125</Node>"]
["<Node>3119</Node>"]
[{"$f":"'B1'!R33","v":"<h>300</h>"}]
["<Material_type>Concrete</Material_type>"]
[{"$f":"'B1'!R34","v":"<Material>C30/37</Material>"}]
["<Z>0</Z>"]
["<Top_Center_Bottom>Center</Top_Center_Bottom>"]
["<Number>18</Number>"]
["<Node>2830</Node>"]
["<Node>2836</Node>"]
["<Node>3132</Node>"]
["<Node>3126</Node>"]
[{"$f":"'B1'!R33","v":"<h>300</h>"}]
["<Material_type>Concrete</Material_type>"]
[{"$f":"'B1'!R34","v":"<Material>C30/37</Material>"}]
["<Z>0</Z>"]
["<Top_Center_Bottom>Center</Top_Center_Bottom>"]
["<Number>19</Number>"]
["<Node>388</Node>"]
["<Node>530</Node>"]
["<Node>686</Node>"]
["<Node>682</Node>"]
["<Node>384</Node>"]
[{"$f":"'B1'!R33","v":"<h>300</h>"}]
["<Material_type>Concrete</Material_type>"]
[{"$f":"'B1'!R34","v":"<Material>C30/37</Material>"}]
["<Z>0</Z>"]
["<Top_Center_Bottom>Center</Top_Center_Bottom>"]
["<Number>20</Number>"]
["<Node>1202</Node>"]
["<Node>1355</Node>"]
["<Node>1504</Node>"]
["<Node>1500</Node>"]
["<Node>1198</Node>"]
[{"$f":"'B1'!R33","v":"<h>300</h>"}]
["<Material_type>Concrete</Material_type>"]
[{"$f":"'B1'!R34","v":"<Material>C30/37</Material>"}]
["<Z>0</Z>"]
["<Top_Center_Bottom>Center</Top_Center_Bottom>"]
["<Number>21</Number>"]
["<Node>2024</Node>"]
["<Node>2173</Node>"]
["<Node>2319</Node>"]
["<Node>2315</Node>"]
["<Node>2020</Node>"]
[{"$f":"'B1'!R33","v":"<h>300</h>"}]
["<Material_type>Concrete</Material_type>"]
[{"$f":"'B1'!R34","v":"<Material>C30/37</Material>"}]
["<Z>0</Z>"]
["<Top_Center_Bottom>Center</Top_Center_Bottom>"]
["<Number>22</Number>"]
["<Node>2841</Node>"]
["<Node>2988</Node>"]
["<Node>3137</Node>"]
["<Node>3133</Node>"]
["<Node>2837</Node>"]
[{"$f":"'B1'!R33","v":"<h>300</h>"}]
["<Material_type>Concrete</Material_type>"]
[{"$f":"'B1'!R34","v":"<Material>C30/37</Material>"}]
["<Z>0</Z>"]
["<Top_Center_Bottom>Center</Top_Center_Bottom>"]
["<Number>23</Number>"]
["<Node>4050</Node>"]
["<Node>3798</Node>"]
["<Node>3806</Node>"]
["<Node>4058</Node>"]
["<Node>4054</Node>"]
[{"$f":"'B1'!R33","v":"<h>300</h>"}]
["<Material_type>Concrete</Material_type>"]
[{"$f":"'B1'!R34","v":"<Material>C30/37</Material>"}]
["<Z>0</Z>"]
["<Top_Center_Bottom>Center</Top_Center_Bottom>"]
["<Number>24</Number>"]
["<Node>4076</Node>"]
["<Node>3807</Node>"]
["<Node>3815</Node>"]
["<Node>4084</Node>"]
["<Node>4080</Node>"]
[{"$f":"'B1'!R33","v":"<h>300</h>"}]
["<Material_type>Concrete</Material_type>"]
[{"$f":"'B1'!R34","v":"<Material>C30/37</Material>"}]
["<Z>0</Z>"]
["<Top_Center_Bottom>Center</Top_Center_Bottom>"]
["<Number>25</Number>"]
["<Node>4085</Node>"]
["<Node>3816</Node>"]
["<Node>3824</Node>"]
["<Node>4093</Node>"]
["<Node>4089</Node>"]
[{"$f":"'B1'!R33","v":"<h>300</h>"}]
["<Material_type>Concrete</Material_type>"]
[{"$f":"'B1'!R34","v":"<Material>C30/37</Material>"}]
["<Z>0</Z>"]
["<Top_Center_Bottom>Center</Top_Center_Bottom>"]
["<Number>26</Number>"]
["<Node>4094</Node>"]
["<Node>3825</Node>"]
["<Node>3833</Node>"]
["<Node>4102</Node>"]
["<Node>4098</Node>"]
[{"$f":"'B1'!R33","v":"<h>300</h>"}]
["<Material_type>Concrete</Material_type>"]
[{"$f":"'B1'!R34","v":"<Material>C30/37</Material>"}]
["<Z>0</Z>"]
["<Top_Center_Bottom>Center</Top_Center_Bottom>"]
["<Number>27</Number>"]
["<Node>4107</Node>"]
["<Node>3838</Node>"]
["<Node>3834</Node>"]
["<Node>4103</Node>"]
[{"$f":"'B1'!R33","v":"<h>300</h>"}]
["<Material_type>Concrete</Material_type>"]
[{"$f":"'B1'!R34","v":"<Material>C30/37</Material>"}]
["<Z>0</Z>"]
["<Top_Center_Bottom>Center</Top_Center_Bottom>"]
["<Number>28</Number>"]
["<Node>4058</Node>"]
["<Node>3806</Node>"]
["<Node>3111</Node>"]
["<Node>2815</Node>"]
["<Node>2282</Node>"]
["<Node>1987</Node>"]
["<Node>1467</Node>"]
["<Node>1165</Node>"]
["<Node>660</Node>"]
["<Node>318</Node>"]
["<Node>330</Node>"]
["<Node>661</Node>"]
["<Node>1177</Node>"]
["<Node>1479</Node>"]
["<Node>1999</Node>"]
["<Node>2294</Node>"]
["<Node>2816</Node>"]
["<Node>3112</Node>"]
["<Node>3807</Node>"]
["<Node>4076</Node>"]
[{"$f":"'B1'!R32","v":"<h>250</h>"}]
["<Material_type>Concrete</Material_type>"]
[{"$f":"'B1'!R34","v":"<Material>C30/37</Material>"}]
["<Z>0</Z>"]
["<Top_Center_Bottom>Center</Top_Center_Bottom>"]
["<Number>29</Number>"]
["<Node>3798</Node>"]
["<Node>3105</Node>"]
["<Node>3111</Node>"]
["<Node>3806</Node>"]
[{"$f":"'B1'!R32","v":"<h>250</h>"}]
["<Material_type>Concrete</Material_type>"]
[{"$f":"'B1'!R34","v":"<Material>C30/37</Material>"}]
["<Z>0</Z>"]
["<Top_Center_Bottom>Center</Top_Center_Bottom>"]
["<Number>30</Number>"]
["<Node>2809</Node>"]
["<Node>2276</Node>"]
["<Node>2282</Node>"]
["<Node>2815</Node>"]
[{"$f":"'B1'!R32","v":"<h>250</h>"}]
["<Material_type>Concrete</Material_type>"]
[{"$f":"'B1'!R34","v":"<Material>C30/37</Material>"}]
["<Z>0</Z>"]
["<Top_Center_Bottom>Center</Top_Center_Bottom>"]
["<Number>31</Number>"]
["<Node>1981</Node>"]
["<Node>1461</Node>"]
["<Node>1467</Node>"]
["<Node>1987</Node>"]
[{"$f":"'B1'!R32","v":"<h>250</h>"}]
["<Material_type>Concrete</Material_type>"]
[{"$f":"'B1'!R34","v":"<Material>C30/37</Material>"}]
["<Z>0</Z>"]
["<Top_Center_Bottom>Center</Top_Center_Bottom>"]
["<Number>32</Number>"]
["<Node>1159</Node>"]
["<Node>654</Node>"]
["<Node>660</Node>"]
["<Node>1165</Node>"]
[{"$f":"'B1'!R32","v":"<h>250</h>"}]
["<Material_type>Concrete</Material_type>"]
[{"$f":"'B1'!R34","v":"<Material>C30/37</Material>"}]
["<Z>0</Z>"]
["<Top_Center_Bottom>Center</Top_Center_Bottom>"]
["<Number>33</Number>"]
["<Node>3807</Node>"]
["<Node>3112</Node>"]
["<Node>3118</Node>"]
["<Node>3815</Node>"]
[{"$f":"'B1'!R32","v":"<h>250</h>"}]
["<Material_type>Concrete</Material_type>"]
[{"$f":"'B1'!R34","v":"<Material>C30/37</Material>"}]
["<Z>0</Z>"]
["<Top_Center_Bottom>Center</Top_Center_Bottom>"]
["<Number>34</Number>"]
["<Node>2816</Node>"]
["<Node>2294</Node>"]
["<Node>2300</Node>"]
["<Node>2822</Node>"]
[{"$f":"'B1'!R32","v":"<h>250</h>"}]
["<Material_type>Concrete</Material_type>"]
[{"$f":"'B1'!R34","v":"<Material>C30/37</Material>"}]
["<Z>0</Z>"]
["<Top_Center_Bottom>Center</Top_Center_Bottom>"]
["<Number>35</Number>"]
["<Node>1999</Node>"]
["<Node>1479</Node>"]
["<Node>1485</Node>"]
["<Node>2005</Node>"]
[{"$f":"'B1'!R32","v":"<h>250</h>"}]
["<Material_type>Concrete</Material_type>"]
[{"$f":"'B1'!R34","v":"<Material>C30/37</Material>"}]
["<Z>0</Z>"]
["<Top_Center_Bottom>Center</Top_Center_Bottom>"]
["<Number>36</Number>"]
["<Node>1177</Node>"]
["<Node>661</Node>"]
["<Node>667</Node>"]
["<Node>1183</Node>"]
[{"$f":"'B1'!R32","v":"<h>250</h>"}]
["<Material_type>Concrete</Material_type>"]
[{"$f":"'B1'!R34","v":"<Material>C30/37</Material>"}]
["<Z>0</Z>"]
["<Top_Center_Bottom>Center</Top_Center_Bottom>"]
["<Number>37</Number>"]
["<Node>3816</Node>"]
["<Node>3119</Node>"]
["<Node>3125</Node>"]
["<Node>3824</Node>"]
[{"$f":"'B1'!R32","v":"<h>250</h>"}]
["<Material_type>Concrete</Material_type>"]
[{"$f":"'B1'!R34","v":"<Material>C30/37</Material>"}]
["<Z>0</Z>"]
["<Top_Center_Bottom>Center</Top_Center_Bottom>"]
["<Number>38</Number>"]
["<Node>2823</Node>"]
["<Node>2301</Node>"]
["<Node>2307</Node>"]
["<Node>2829</Node>"]
[{"$f":"'B1'!R32","v":"<h>250</h>"}]
["<Material_type>Concrete</Material_type>"]
[{"$f":"'B1'!R34","v":"<Material>C30/37</Material>"}]
["<Z>0</Z>"]
["<Top_Center_Bottom>Center</Top_Center_Bottom>"]
["<Number>39</Number>"]
["<Node>2006</Node>"]
["<Node>1486</Node>"]
["<Node>1492</Node>"]
["<Node>2012</Node>"]
[{"$f":"'B1'!R32","v":"<h>250</h>"}]
["<Material_type>Concrete</Material_type>"]
[{"$f":"'B1'!R34","v":"<Material>C30/37</Material>"}]
["<Z>0</Z>"]
["<Top_Center_Bottom>Center</Top_Center_Bottom>"]
["<Number>40</Number>"]
["<Node>1184</Node>"]
["<Node>668</Node>"]
["<Node>674</Node>"]
["<Node>1190</Node>"]
[{"$f":"'B1'!R32","v":"<h>250</h>"}]
["<Material_type>Concrete</Material_type>"]
[{"$f":"'B1'!R34","v":"<Material>C30/37</Material>"}]
["<Z>0</Z>"]
["<Top_Center_Bottom>Center</Top_Center_Bottom>"]
["<Number>41</Number>"]
["<Node>3825</Node>"]
["<Node>3126</Node>"]
["<Node>3132</Node>"]
["<Node>3833</Node>"]
[{"$f":"'B1'!R32","v":"<h>250</h>"}]
["<Material_type>Concrete</Material_type>"]
[{"$f":"'B1'!R34","v":"<Material>C30/37</Material>"}]
["<Z>0</Z>"]
["<Top_Center_Bottom>Center</Top_Center_Bottom>"]
["<Number>42</Number>"]
["<Node>2830</Node>"]
["<Node>2308</Node>"]
["<Node>2314</Node>"]
["<Node>2836</Node>"]
[{"$f":"'B1'!R32","v":"<h>250</h>"}]
["<Material_type>Concrete</Material_type>"]
[{"$f":"'B1'!R34","v":"<Material>C30/37</Material>"}]
["<Z>0</Z>"]
["<Top_Center_Bottom>Center</Top_Center_Bottom>"]
["<Number>43</Number>"]
["<Node>2013</Node>"]
["<Node>1493</Node>"]
["<Node>1499</Node>"]
["<Node>2019</Node>"]
[{"$f":"'B1'!R32","v":"<h>250</h>"}]
["<Material_type>Concrete</Material_type>"]
[{"$f":"'B1'!R34","v":"<Material>C30/37</Material>"}]
["<Z>0</Z>"]
["<Top_Center_Bottom>Center</Top_Center_Bottom>"]
["<Number>44</Number>"]
["<Node>1191</Node>"]
["<Node>675</Node>"]
["<Node>681</Node>"]
["<Node>1197</Node>"]
[{"$f":"'B1'!R32","v":"<h>250</h>"}]
["<Material_type>Concrete</Material_type>"]
[{"$f":"'B1'!R34","v":"<Material>C30/37</Material>"}]
["<Z>0</Z>"]
["<Top_Center_Bottom>Center</Top_Center_Bottom>"]
["<Number>45</Number>"]
["<Node>4084</Node>"]
["<Node>3815</Node>"]
["<Node>3118</Node>"]
["<Node>2822</Node>"]
["<Node>2300</Node>"]
["<Node>2005</Node>"]
["<Node>1485</Node>"]
["<Node>1183</Node>"]
["<Node>667</Node>"]
["<Node>336</Node>"]
["<Node>348</Node>"]
["<Node>668</Node>"]
["<Node>1184</Node>"]
["<Node>1486</Node>"]
["<Node>2006</Node>"]
["<Node>2301</Node>"]
["<Node>2823</Node>"]
["<Node>3119</Node>"]
["<Node>3816</Node>"]
["<Node>4085</Node>"]
[{"$f":"'B1'!R32","v":"<h>250</h>"}]
["<Material_type>Concrete</Material_type>"]
[{"$f":"'B1'!R34","v":"<Material>C30/37</Material>"}]
["<Z>0</Z>"]
["<Top_Center_Bottom>Center</Top_Center_Bottom>"]
["<Number>46</Number>"]
["<Node>4093</Node>"]
["<Node>3824</Node>"]
["<Node>3125</Node>"]
["<Node>2829</Node>"]
["<Node>2307</Node>"]
["<Node>2012</Node>"]
["<Node>1492</Node>"]
["<Node>1190</Node>"]
["<Node>674</Node>"]
["<Node>354</Node>"]
["<Node>366</Node>"]
["<Node>675</Node>"]
["<Node>1191</Node>"]
["<Node>1493</Node>"]
["<Node>2013</Node>"]
["<Node>2308</Node>"]
["<Node>2830</Node>"]
["<Node>3126</Node>"]
["<Node>3825</Node>"]
["<Node>4094</Node>"]
[{"$f":"'B1'!R32","v":"<h>250</h>"}]
["<Material_type>Concrete</Material_type>"]
[{"$f":"'B1'!R34","v":"<Material>C30/37</Material>"}]
["<Z>0</Z>"]
["<Top_Center_Bottom>Center</Top_Center_Bottom>"]
["<Number>47</Number>"]
["<Node>372</Node>"]
["<Node>382</Node>"]
["<Node>384</Node>"]
["<Node>682</Node>"]
["<Node>1198</Node>"]
["<Node>1500</Node>"]
["<Node>2020</Node>"]
["<Node>2315</Node>"]
["<Node>2837</Node>"]
["<Node>3133</Node>"]
["<Node>3834</Node>"]
["<Node>4103</Node>"]
["<Node>4102</Node>"]
["<Node>3833</Node>"]
["<Node>3132</Node>"]
["<Node>2836</Node>"]
["<Node>2314</Node>"]
["<Node>2019</Node>"]
["<Node>1499</Node>"]
["<Node>1197</Node>"]
["<Node>681</Node>"]
[{"$f":"'B1'!R32","v":"<h>250</h>"}]
["<Material_type>Concrete</Material_type>"]
[{"$f":"'B1'!R34","v":"<Material>C30/37</Material>"}]
["<Z>0</Z>"]
["<Top_Center_Bottom>Center</Top_Center_Bottom>"]
["<Number>48</Number>"]
["<Node>3834</Node>"]
["<Node>3133</Node>"]
["<Node>3137</Node>"]
["<Node>3838</Node>"]
[{"$f":"'B1'!R32","v":"<h>250</h>"}]
["<Material_type>Concrete</Material_type>"]
[{"$f":"'B1'!R34","v":"<Material>C30/37</Material>"}]
["<Z>0</Z>"]
["<Top_Center_Bottom>Center</Top_Center_Bottom>"]
["<Number>49</Number>"]
["<Node>2837</Node>"]
["<Node>2315</Node>"]
["<Node>2319</Node>"]
["<Node>2841</Node>"]
[{"$f":"'B1'!R32","v":"<h>250</h>"}]
["<Material_type>Concrete</Material_type>"]
[{"$f":"'B1'!R34","v":"<Material>C30/37</Material>"}]
["<Z>0</Z>"]
["<Top_Center_Bottom>Center</Top_Center_Bottom>"]
["<Number>50</Number>"]
["<Node>2020</Node>"]
["<Node>1500</Node>"]
["<Node>1504</Node>"]
["<Node>2024</Node>"]
[{"$f":"'B1'!R32","v":"<h>250</h>"}]
["<Material_type>Concrete</Material_type>"]
[{"$f":"'B1'!R34","v":"<Material>C30/37</Material>"}]
["<Z>0</Z>"]
["<Top_Center_Bottom>Center</Top_Center_Bottom>"]
["<Number>51</Number>"]
["<Node>1198</Node>"]
["<Node>682</Node>"]
["<Node>686</Node>"]
["<Node>1202</Node>"]
[{"$f":"'B1'!R32","v":"<h>250</h>"}]
["<Material_type>Concrete</Material_type>"]
[{"$f":"'B1'!R34","v":"<Material>C30/37</Material>"}]
["<Z>0</Z>"]
["<Top_Center_Bottom>Center</Top_Center_Bottom>"]
["</Plates>"]
["<LoadCases>"]
["<Number>1</Number>"]
["<Description>Permanente belasting</Description>"]
["<Type>0</Type>"]
["<psi0>1</psi0>"]
["<psi1>1</psi1>"]
["<psi2>1</psi2>"]
["<Number>2</Number>"]
["<Description>Veranderlijke belasting</Description>"]
["<Type>5</Type>"]
["<psi0>1</psi0>"]
["<psi1>0,9</psi1>"]
["<psi2>0,8</psi2>"]
["<Number>3</Number>"]
["<Description>Schaakbord 1</Description>"]
["<Type>5</Type>"]
["<psi0>1</psi0>"]
["<psi1>0,9</psi1>"]
["<psi2>0,8</psi2>"]
["<Number>4</Number>"]
["<Description>Schaakbord 2</Description>"]
["<Type>5</Type>"]
["<psi0>1</psi0>"]
["<psi1>0,9</psi1>"]
["<psi2>0,8</psi2>"]
["<Number>5</Number>"]
["<Description>Puntlasten 1</Description>"]
["<Type>5</Type>"]
["<psi0>1</psi0>"]
["<psi1>0,9</psi1>"]
["<psi2>0,8</psi2>"]
["<Number>6</Number>"]
["<Description>Puntlasten 2</Description>"]
["<Type>5</Type>"]
["<psi0>1</psi0>"]
["<psi1>0,9</psi1>"]
["<psi2>0,8</psi2>"]
["</LoadCases>"]
["<NodeLoads>"]
["<LoadCaseNumber>5</LoadCaseNumber>"]
["<NodeNumber>902</NodeNumber>"]
["<Description/>"]
["<Fx>0</Fx>"]
["<Fy>0</Fy>"]
[{"$f":"'B1'!R36","v":"<Fz>-50</Fz>"}]
["<Mx>0</Mx>"]
["<My>0</My>"]
["<Mz>0</Mz>"]
["<LoadCaseNumber>5</LoadCaseNumber>"]
["<NodeNumber>1802</NodeNumber>"]
["<Description/>"]
["<Fx>0</Fx>"]
["<Fy>0</Fy>"]
[{"$f":"'B1'!R36","v":"<Fz>-50</Fz>"}]
["<Mx>0</Mx>"]
["<My>0</My>"]
["<Mz>0</Mz>"]
["</NodeLoads>"]
["<SurfaceLoads>"]
["<LoadCaseNumber>2</LoadCaseNumber>"]
["<Number>1</Number>"]
["<Description/>"]
["<NodeX>0</NodeX>"]
["<NodeY>0</NodeY>"]
["<NodeZ>0</NodeZ>"]
["<NodeX>0</NodeX>"]
[{"$f":"'B1'!W22","v":"<NodeY>13500</NodeY>"}]
["<NodeZ>0</NodeZ>"]
[{"$f":"'B1'!V10","v":"<NodeX>1500</NodeX>"}]
[{"$f":"'B1'!W22","v":"<NodeY>13500</NodeY>"}]
["<NodeZ>0</NodeZ>"]
[{"$f":"'B1'!V13","v":"<NodeX>4500</NodeX>"}]
[{"$f":"'B1'!W22","v":"<NodeY>13500</NodeY>"}]
["<NodeZ>0</NodeZ>"]
[{"$f":"'B1'!V16","v":"<NodeX>7500</NodeX>"}]
[{"$f":"'B1'!W22","v":"<NodeY>13500</NodeY>"}]
["<NodeZ>0</NodeZ>"]
[{"$f":"'B1'!V19","v":"<NodeX>10500</NodeX>"}]
[{"$f":"'B1'!W22","v":"<NodeY>13500</NodeY>"}]
["<NodeZ>0</NodeZ>"]
[{"$f":"'B1'!V19","v":"<NodeX>10500</NodeX>"}]
[{"$f":"'B1'!W22","v":"<NodeY>13500</NodeY>"}]
["<NodeZ>0</NodeZ>"]
[{"$f":"'B1'!V19","v":"<NodeX>10500</NodeX>"}]
[{"$f":"'B1'!W19","v":"<NodeY>10500</NodeY>"}]
["<NodeZ>0</NodeZ>"]
[{"$f":"'B1'!V19","v":"<NodeX>10500</NodeX>"}]
[{"$f":"'B1'!W16","v":"<NodeY>7500</NodeY>"}]
["<NodeZ>0</NodeZ>"]
[{"$f":"'B1'!V19","v":"<NodeX>10500</NodeX>"}]
[{"$f":"'B1'!W13","v":"<NodeY>4500</NodeY>"}]
["<NodeZ>0</NodeZ>"]
[{"$f":"'B1'!V19","v":"<NodeX>10500</NodeX>"}]
[{"$f":"'B1'!W10","v":"<NodeY>1500</NodeY>"}]
["<NodeZ>0</NodeZ>"]
[{"$f":"'B1'!V19","v":"<NodeX>10500</NodeX>"}]
["<NodeY>0</NodeY>"]
["<NodeZ>0</NodeZ>"]
["<Coordinate_system>Local</Coordinate_system>"]
["<Direction>Z</Direction>"]
["<LoadBearingDirection>X</LoadBearingDirection>"]
[{"$f":"'B1'!R35","v":"<q1>-10</q1>"}]
["<q2>-2,5</q2>"]
["<q3>-2,5</q3>"]
["<LoadConstantOrLinear>constant</LoadConstantOrLinear>"]
["<iq1>-1</iq1>"]
["<iq2>-1</iq2>"]
["<iq3>-1</iq3>"]
["<LoadCaseNumber>3</LoadCaseNumber>"]
["<Number>1</Number>"]
["<Description/>"]
["<NodeX>0</NodeX>"]
[{"$f":"'B1'!W22","v":"<NodeY>13500</NodeY>"}]
["<NodeZ>0</NodeZ>"]
[{"$f":"'B1'!V10","v":"<NodeX>1500</NodeX>"}]
[{"$f":"'B1'!W22","v":"<NodeY>13500</NodeY>"}]
["<NodeZ>0</NodeZ>"]
[{"$f":"'B1'!V10","v":"<NodeX>1500</NodeX>"}]
[{"$f":"'B1'!W19","v":"<NodeY>10500</NodeY>"}]
["<NodeZ>0</NodeZ>"]
["<NodeX>0</NodeX>"]
[{"$f":"'B1'!W19","v":"<NodeY>10500</NodeY>"}]
["<NodeZ>0</NodeZ>"]
["<Coordinate_system>Local</Coordinate_system>"]
["<Direction>Z</Direction>"]
["<LoadBearingDirection>X</LoadBearingDirection>"]
[{"$f":"'B1'!R35","v":"<q1>-10</q1>"}]
["<q2>-2,5</q2>"]
["<q3>-2,5</q3>"]
["<LoadConstantOrLinear>constant</LoadConstantOrLinear>"]
["<iq1>-1</iq1>"]
["<iq2>-1</iq2>"]
["<iq3>-1</iq3>"]
["<LoadCaseNumber>3</LoadCaseNumber>"]
["<Number>2</Number>"]
["<Description/>"]
[{"$f":"'B1'!V10","v":"<NodeX>1500</NodeX>"}]
[{"$f":"'B1'!W19","v":"<NodeY>10500</NodeY>"}]
["<NodeZ>0</NodeZ>"]
[{"$f":"'B1'!V13","v":"<NodeX>4500</NodeX>"}]
[{"$f":"'B1'!W19","v":"<NodeY>10500</NodeY>"}]
["<NodeZ>0</NodeZ>"]
[{"$f":"'B1'!V13","v":"<NodeX>4500</NodeX>"}]
[{"$f":"'B1'!W16","v":"<NodeY>7500</NodeY>"}]
["<NodeZ>0</NodeZ>"]
[{"$f":"'B1'!V10","v":"<NodeX>1500</NodeX>"}]
[{"$f":"'B1'!W16","v":"<NodeY>7500</NodeY>"}]
["<NodeZ>0</NodeZ>"]
["<Coordinate_system>Local</Coordinate_system>"]
["<Direction>Z</Direction>"]
["<LoadBearingDirection>X</LoadBearingDirection>"]
[{"$f":"'B1'!R35","v":"<q1>-10</q1>"}]
["<q2>-2,5</q2>"]
["<q3>-2,5</q3>"]
["<LoadConstantOrLinear>constant</LoadConstantOrLinear>"]
["<iq1>-1</iq1>"]
["<iq2>-1</iq2>"]
["<iq3>-1</iq3>"]
["<LoadCaseNumber>3</LoadCaseNumber>"]
["<Number>3</Number>"]
["<Description/>"]
[{"$f":"'B1'!V13","v":"<NodeX>4500</NodeX>"}]
[{"$f":"'B1'!W16","v":"<NodeY>7500</NodeY>"}]
["<NodeZ>0</NodeZ>"]
[{"$f":"'B1'!V16","v":"<NodeX>7500</NodeX>"}]
[{"$f":"'B1'!W16","v":"<NodeY>7500</NodeY>"}]
["<NodeZ>0</NodeZ>"]
[{"$f":"'B1'!V16","v":"<NodeX>7500</NodeX>"}]
[{"$f":"'B1'!W13","v":"<NodeY>4500</NodeY>"}]
["<NodeZ>0</NodeZ>"]
[{"$f":"'B1'!V13","v":"<NodeX>4500</NodeX>"}]
[{"$f":"'B1'!W13","v":"<NodeY>4500</NodeY>"}]
["<NodeZ>0</NodeZ>"]
["<Coordinate_system>Local</Coordinate_system>"]
["<Direction>Z</Direction>"]
["<LoadBearingDirection>X</LoadBearingDirection>"]
[{"$f":"'B1'!R35","v":"<q1>-10</q1>"}]
["<q2>-2,5</q2>"]
["<q3>-2,5</q3>"]
["<LoadConstantOrLinear>constant</LoadConstantOrLinear>"]
["<iq1>-1</iq1>"]
["<iq2>-1</iq2>"]
["<iq3>-1</iq3>"]
["<LoadCaseNumber>3</LoadCaseNumber>"]
["<Number>4</Number>"]
["<Description/>"]
[{"$f":"'B1'!V16","v":"<NodeX>7500</NodeX>"}]
[{"$f":"'B1'!W13","v":"<NodeY>4500</NodeY>"}]
["<NodeZ>0</NodeZ>"]
[{"$f":"'B1'!V19","v":"<NodeX>10500</NodeX>"}]
[{"$f":"'B1'!W13","v":"<NodeY>4500</NodeY>"}]
["<NodeZ>0</NodeZ>"]
[{"$f":"'B1'!V19","v":"<NodeX>10500</NodeX>"}]
[{"$f":"'B1'!W10","v":"<NodeY>1500</NodeY>"}]
["<NodeZ>0</NodeZ>"]
[{"$f":"'B1'!V16","v":"<NodeX>7500</NodeX>"}]
[{"$f":"'B1'!W10","v":"<NodeY>1500</NodeY>"}]
["<NodeZ>0</NodeZ>"]
["<Coordinate_system>Local</Coordinate_system>"]
["<Direction>Z</Direction>"]
["<LoadBearingDirection>X</LoadBearingDirection>"]
[{"$f":"'B1'!R35","v":"<q1>-10</q1>"}]
["<q2>-2,5</q2>"]
["<q3>-2,5</q3>"]
["<LoadConstantOrLinear>constant</LoadConstantOrLinear>"]
["<iq1>-1</iq1>"]
["<iq2>-1</iq2>"]
["<iq3>-1</iq3>"]
["<LoadCaseNumber>3</LoadCaseNumber>"]
["<Number>5</Number>"]
["<Description/>"]
[{"$f":"'B1'!V10","v":"<NodeX>1500</NodeX>"}]
[{"$f":"'B1'!W13","v":"<NodeY>4500</NodeY>"}]
["<NodeZ>0</NodeZ>"]
[{"$f":"'B1'!V13","v":"<NodeX>4500</NodeX>"}]
[{"$f":"'B1'!W13","v":"<NodeY>4500</NodeY>"}]
["<NodeZ>0</NodeZ>"]
[{"$f":"'B1'!V13","v":"<NodeX>4500</NodeX>"}]
[{"$f":"'B1'!W10","v":"<NodeY>1500</NodeY>"}]
["<NodeZ>0</NodeZ>"]
[{"$f":"'B1'!V10","v":"<NodeX>1500</NodeX>"}]
[{"$f":"'B1'!W10","v":"<NodeY>1500</NodeY>"}]
["<NodeZ>0</NodeZ>"]
["<Coordinate_system>Local</Coordinate_system>"]
["<Direction>Z</Direction>"]
["<LoadBearingDirection>X</LoadBearingDirection>"]
[{"$f":"'B1'!R35","v":"<q1>-10</q1>"}]
["<q2>-2,5</q2>"]
["<q3>-2,5</q3>"]
["<LoadConstantOrLinear>constant</LoadConstantOrLinear>"]
["<iq1>-1</iq1>"]
["<iq2>-1</iq2>"]
["<iq3>-1</iq3>"]
["<LoadCaseNumber>3</LoadCaseNumber>"]
["<Number>6</Number>"]
["<Description/>"]
[{"$f":"'B1'!V16","v":"<NodeX>7500</NodeX>"}]
[{"$f":"'B1'!W19","v":"<NodeY>10500</NodeY>"}]
["<NodeZ>0</NodeZ>"]
[{"$f":"'B1'!V19","v":"<NodeX>10500</NodeX>"}]
[{"$f":"'B1'!W19","v":"<NodeY>10500</NodeY>"}]
["<NodeZ>0</NodeZ>"]
[{"$f":"'B1'!V19","v":"<NodeX>10500</NodeX>"}]
[{"$f":"'B1'!W16","v":"<NodeY>7500</NodeY>"}]
["<NodeZ>0</NodeZ>"]
[{"$f":"'B1'!V16","v":"<NodeX>7500</NodeX>"}]
[{"$f":"'B1'!W16","v":"<NodeY>7500</NodeY>"}]
["<NodeZ>0</NodeZ>"]
["<Coordinate_system>Local</Coordinate_system>"]
["<Direction>Z</Direction>"]
["<LoadBearingDirection>X</LoadBearingDirection>"]
[{"$f":"'B1'!R35","v":"<q1>-10</q1>"}]
["<q2>-2,5</q2>"]
["<q3>-2,5</q3>"]
["<LoadConstantOrLinear>constant</LoadConstantOrLinear>"]
["<iq1>-1</iq1>"]
["<iq2>-1</iq2>"]
["<iq3>-1</iq3>"]
["<LoadCaseNumber>3</LoadCaseNumber>"]
["<Number>7</Number>"]
["<Description/>"]
[{"$f":"'B1'!V13","v":"<NodeX>4500</NodeX>"}]
[{"$f":"'B1'!W22","v":"<NodeY>13500</NodeY>"}]
["<NodeZ>0</NodeZ>"]
["<Coordinate_system>Local</Coordinate_system>"]
["<Direction>Z</Direction>"]
["<LoadBearingDirection>X</LoadBearingDirection>"]
[{"$f":"'B1'!R35","v":"<q1>-10</q1>"}]
["<q2>-2,5</q2>"]
["<q3>-2,5</q3>"]
["<LoadConstantOrLinear>constant</LoadConstantOrLinear>"]
["<iq1>-1</iq1>"]
["<iq2>-1</iq2>"]
["<iq3>-1</iq3>"]
["<LoadCaseNumber>3</LoadCaseNumber>"]
["<Number>8</Number>"]
["<Description/>"]
[{"$f":"'B1'!V13","v":"<NodeX>4500</NodeX>"}]
[{"$f":"'B1'!W22","v":"<NodeY>13500</NodeY>"}]
["<NodeZ>0</NodeZ>"]
[{"$f":"'B1'!V16","v":"<NodeX>7500</NodeX>"}]
[{"$f":"'B1'!W22","v":"<NodeY>13500</NodeY>"}]
["<NodeZ>0</NodeZ>"]
[{"$f":"'B1'!V16","v":"<NodeX>7500</NodeX>"}]
[{"$f":"'B1'!W19","v":"<NodeY>10500</NodeY>"}]
["<NodeZ>0</NodeZ>"]
[{"$f":"'B1'!V13","v":"<NodeX>4500</NodeX>"}]
[{"$f":"'B1'!W19","v":"<NodeY>10500</NodeY>"}]
["<NodeZ>0</NodeZ>"]
["<Coordinate_system>Local</Coordinate_system>"]
["<Direction>Z</Direction>"]
["<LoadBearingDirection>X</LoadBearingDirection>"]
[{"$f":"'B1'!R35","v":"<q1>-10</q1>"}]
["<q2>-2,5</q2>"]
["<q3>-2,5</q3>"]
["<LoadConstantOrLinear>constant</LoadConstantOrLinear>"]
["<iq1>-1</iq1>"]
["<iq2>-1</iq2>"]
["<iq3>-1</iq3>"]
["<LoadCaseNumber>3</LoadCaseNumber>"]
["<Number>9</Number>"]
["<Description/>"]
[{"$f":"'B1'!V19","v":"<NodeX>10500</NodeX>"}]
[{"$f":"'B1'!W22","v":"<NodeY>13500</NodeY>"}]
["<NodeZ>0</NodeZ>"]
[{"$f":"'B1'!V19","v":"<NodeX>10500</NodeX>"}]
[{"$f":"'B1'!W22","v":"<NodeY>13500</NodeY>"}]
["<NodeZ>0</NodeZ>"]
[{"$f":"'B1'!V19","v":"<NodeX>10500</NodeX>"}]
[{"$f":"'B1'!W19","v":"<NodeY>10500</NodeY>"}]
["<NodeZ>0</NodeZ>"]
[{"$f":"'B1'!V19","v":"<NodeX>10500</NodeX>"}]
[{"$f":"'B1'!W19","v":"<NodeY>10500</NodeY>"}]
["<NodeZ>0</NodeZ>"]
["<Coordinate_system>Local</Coordinate_system>"]
["<Direction>Z</Direction>"]
["<LoadBearingDirection>X</LoadBearingDirection>"]
[{"$f":"'B1'!R35","v":"<q1>-10</q1>"}]
["<q2>-2,5</q2>"]
["<q3>-2,5</q3>"]
["<LoadConstantOrLinear>constant</LoadConstantOrLinear>"]
["<iq1>-1</iq1>"]
["<iq2>-1</iq2>"]
["<iq3>-1</iq3>"]
["<LoadCaseNumber>3</LoadCaseNumber>"]
["<Number>10</Number>"]
["<Description/>"]
[{"$f":"'B1'!V19","v":"<NodeX>10500</NodeX>"}]
[{"$f":"'B1'!W16","v":"<NodeY>7500</NodeY>"}]
["<NodeZ>0</NodeZ>"]
[{"$f":"'B1'!V19","v":"<NodeX>10500</NodeX>"}]
[{"$f":"'B1'!W16","v":"<NodeY>7500</NodeY>"}]
["<NodeZ>0</NodeZ>"]
[{"$f":"'B1'!V19","v":"<NodeX>10500</NodeX>"}]
[{"$f":"'B1'!W13","v":"<NodeY>4500</NodeY>"}]
["<NodeZ>0</NodeZ>"]
[{"$f":"'B1'!V19","v":"<NodeX>10500</NodeX>"}]
[{"$f":"'B1'!W13","v":"<NodeY>4500</NodeY>"}]
["<NodeZ>0</NodeZ>"]
["<Coordinate_system>Local</Coordinate_system>"]
["<Direction>Z</Direction>"]
["<LoadBearingDirection>X</LoadBearingDirection>"]
[{"$f":"'B1'!R35","v":"<q1>-10</q1>"}]
["<q2>-2,5</q2>"]
["<q3>-2,5</q3>"]
["<LoadConstantOrLinear>constant</LoadConstantOrLinear>"]
["<iq1>-1</iq1>"]
["<iq2>-1</iq2>"]
["<iq3>-1</iq3>"]
["<LoadCaseNumber>3</LoadCaseNumber>"]
["<Number>11</Number>"]
["<Description/>"]
[{"$f":"'B1'!V13","v":"<NodeX>4500</NodeX>"}]
[{"$f":"'B1'!W10","v":"<NodeY>1500</NodeY>"}]
["<NodeZ>0</NodeZ>"]
[{"$f":"'B1'!V16","v":"<NodeX>7500</NodeX>"}]
[{"$f":"'B1'!W10","v":"<NodeY>1500</NodeY>"}]
["<NodeZ>0</NodeZ>"]
[{"$f":"'B1'!V16","v":"<NodeX>7500</NodeX>"}]
["<NodeY>0</NodeY>"]
["<NodeZ>0</NodeZ>"]
[{"$f":"'B1'!V13","v":"<NodeX>4500</NodeX>"}]
["<NodeY>0</NodeY>"]
["<NodeZ>0</NodeZ>"]
["<Coordinate_system>Local</Coordinate_system>"]
["<Direction>Z</Direction>"]
["<LoadBearingDirection>X</LoadBearingDirection>"]
[{"$f":"'B1'!R35","v":"<q1>-10</q1>"}]
["<q2>-2,5</q2>"]
["<q3>-2,5</q3>"]
["<LoadConstantOrLinear>constant</LoadConstantOrLinear>"]
["<iq1>-1</iq1>"]
["<iq2>-1</iq2>"]
["<iq3>-1</iq3>"]
["<LoadCaseNumber>3</LoadCaseNumber>"]
["<Number>12</Number>"]
["<Description/>"]
["<NodeX>0</NodeX>"]
[{"$f":"'B1'!W16","v":"<NodeY>7500</NodeY>"}]
["<NodeZ>0</NodeZ>"]
[{"$f":"'B1'!V10","v":"<NodeX>1500</NodeX>"}]
[{"$f":"'B1'!W16","v":"<NodeY>7500</NodeY>"}]
["<NodeZ>0</NodeZ>"]
[{"$f":"'B1'!V10","v":"<NodeX>1500</NodeX>"}]
[{"$f":"'B1'!W13","v":"<NodeY>4500</NodeY>"}]
["<NodeZ>0</NodeZ>"]
["<NodeX>0</NodeX>"]
[{"$f":"'B1'!W13","v":"<NodeY>4500</NodeY>"}]
["<NodeZ>0</NodeZ>"]
["<Coordinate_system>Local</Coordinate_system>"]
["<Direction>Z</Direction>"]
["<LoadBearingDirection>X</LoadBearingDirection>"]
[{"$f":"'B1'!R35","v":"<q1>-10</q1>"}]
["<q2>-2,5</q2>"]
["<q3>-2,5</q3>"]
["<LoadConstantOrLinear>constant</LoadConstantOrLinear>"]
["<iq1>-1</iq1>"]
["<iq2>-1</iq2>"]
["<iq3>-1</iq3>"]
["<LoadCaseNumber>3</LoadCaseNumber>"]
["<Number>13</Number>"]
["<Description/>"]
[{"$f":"'B1'!V19","v":"<NodeX>10500</NodeX>"}]
[{"$f":"'B1'!W10","v":"<NodeY>1500</NodeY>"}]
["<NodeZ>0</NodeZ>"]
[{"$f":"'B1'!V19","v":"<NodeX>10500</NodeX>"}]
[{"$f":"'B1'!W10","v":"<NodeY>1500</NodeY>"}]
["<NodeZ>0</NodeZ>"]
[{"$f":"'B1'!V19","v":"<NodeX>10500</NodeX>"}]
["<NodeY>0</NodeY>"]
["<NodeZ>0</NodeZ>"]
[{"$f":"'B1'!V19","v":"<NodeX>10500</NodeX>"}]
["<NodeY>0</NodeY>"]
["<NodeZ>0</NodeZ>"]
["<Coordinate_system>Local</Coordinate_system>"]
["<Direction>Z</Direction>"]
["<LoadBearingDirection>X</LoadBearingDirection>"]
[{"$f":"'B1'!R35","v":"<q1>-10</q1>"}]
["<q2>-2,5</q2>"]
["<q3>-2,5</q3>"]
["<LoadConstantOrLinear>constant</LoadConstantOrLinear>"]
["<iq1>-1</iq1>"]
["<iq2>-1</iq2>"]
["<iq3>-1</iq3>"]
["<LoadCaseNumber>4</LoadCaseNumber>"]
["<Number>1</Number>"]
["<Description/>"]
[{"$f":"'B1'!V10","v":"<NodeX>1500</NodeX>"}]
[{"$f":"'B1'!W22","v":"<NodeY>13500</NodeY>"}]
["<NodeZ>0</NodeZ>"]
[{"$f":"'B1'!V13","v":"<NodeX>4500</NodeX>"}]
[{"$f":"'B1'!W22","v":"<NodeY>13500</NodeY>"}]
["<NodeZ>0</NodeZ>"]
[{"$f":"'B1'!V13","v":"<NodeX>4500</NodeX>"}]
[{"$f":"'B1'!W19","v":"<NodeY>10500</NodeY>"}]
["<NodeZ>0</NodeZ>"]
[{"$f":"'B1'!V10","v":"<NodeX>1500</NodeX>"}]
[{"$f":"'B1'!W19","v":"<NodeY>10500</NodeY>"}]
["<NodeZ>0</NodeZ>"]
["<Coordinate_system>Local</Coordinate_system>"]
["<Direction>Z</Direction>"]
["<LoadBearingDirection>X</LoadBearingDirection>"]
[{"$f":"'B1'!R35","v":"<q1>-10</q1>"}]
["<q2>-2,5</q2>"]
["<q3>-2,5</q3>"]
["<LoadConstantOrLinear>constant</LoadConstantOrLinear>"]
["<iq1>-1</iq1>"]
["<iq2>-1</iq2>"]
["<iq3>-1</iq3>"]
["<LoadCaseNumber>4</LoadCaseNumber>"]
["<Number>2</Number>"]
["<Description/>"]
[{"$f":"'B1'!V13","v":"<NodeX>4500</NodeX>"}]
[{"$f":"'B1'!W19","v":"<NodeY>10500</NodeY>"}]
["<NodeZ>0</NodeZ>"]
[{"$f":"'B1'!V16","v":"<NodeX>7500</NodeX>"}]
[{"$f":"'B1'!W19","v":"<NodeY>10500</NodeY>"}]
["<NodeZ>0</NodeZ>"]
[{"$f":"'B1'!V16","v":"<NodeX>7500</NodeX>"}]
[{"$f":"'B1'!W16","v":"<NodeY>7500</NodeY>"}]
["<NodeZ>0</NodeZ>"]
[{"$f":"'B1'!V13","v":"<NodeX>4500</NodeX>"}]
[{"$f":"'B1'!W16","v":"<NodeY>7500</NodeY>"}]
["<NodeZ>0</NodeZ>"]
["<Coordinate_system>Local</Coordinate_system>"]
["<Direction>Z</Direction>"]
["<LoadBearingDirection>X</LoadBearingDirection>"]
[{"$f":"'B1'!R35","v":"<q1>-10</q1>"}]
["<q2>-2,5</q2>"]
["<q3>-2,5</q3>"]
["<LoadConstantOrLinear>constant</LoadConstantOrLinear>"]
["<iq1>-1</iq1>"]
["<iq2>-1</iq2>"]
["<iq3>-1</iq3>"]
["<LoadCaseNumber>4</LoadCaseNumber>"]
["<Number>3</Number>"]
["<Description/>"]
[{"$f":"'B1'!V16","v":"<NodeX>7500</NodeX>"}]
[{"$f":"'B1'!W19","v":"<NodeY>10500</NodeY>"}]
["<NodeZ>0</NodeZ>"]
[{"$f":"'B1'!V16","v":"<NodeX>7500</NodeX>"}]
[{"$f":"'B1'!W22","v":"<NodeY>13500</NodeY>"}]
["<NodeZ>0</NodeZ>"]
[{"$f":"'B1'!V19","v":"<NodeX>10500</NodeX>"}]
[{"$f":"'B1'!W22","v":"<NodeY>13500</NodeY>"}]
["<NodeZ>0</NodeZ>"]
[{"$f":"'B1'!V19","v":"<NodeX>10500</NodeX>"}]
[{"$f":"'B1'!W19","v":"<NodeY>10500</NodeY>"}]
["<NodeZ>0</NodeZ>"]
["<Coordinate_system>Local</Coordinate_system>"]
["<Direction>Z</Direction>"]
["<LoadBearingDirection>X</LoadBearingDirection>"]
[{"$f":"'B1'!R35","v":"<q1>-10</q1>"}]
["<q2>-2,5</q2>"]
["<q3>-2,5</q3>"]
["<LoadConstantOrLinear>constant</LoadConstantOrLinear>"]
["<iq1>-1</iq1>"]
["<iq2>-1</iq2>"]
["<iq3>-1</iq3>"]
["<LoadCaseNumber>4</LoadCaseNumber>"]
["<Number>4</Number>"]
["<Description/>"]
[{"$f":"'B1'!V19","v":"<NodeX>10500</NodeX>"}]
[{"$f":"'B1'!W19","v":"<NodeY>10500</NodeY>"}]
["<NodeZ>0</NodeZ>"]
[{"$f":"'B1'!V19","v":"<NodeX>10500</NodeX>"}]
[{"$f":"'B1'!W19","v":"<NodeY>10500</NodeY>"}]
["<NodeZ>0</NodeZ>"]
[{"$f":"'B1'!V19","v":"<NodeX>10500</NodeX>"}]
[{"$f":"'B1'!W16","v":"<NodeY>7500</NodeY>"}]
["<NodeZ>0</NodeZ>"]
[{"$f":"'B1'!V19","v":"<NodeX>10500</NodeX>"}]
[{"$f":"'B1'!W16","v":"<NodeY>7500</NodeY>"}]
["<NodeZ>0</NodeZ>"]
["<Coordinate_system>Local</Coordinate_system>"]
["<Direction>Z</Direction>"]
["<LoadBearingDirection>X</LoadBearingDirection>"]
[{"$f":"'B1'!R35","v":"<q1>-10</q1>"}]
["<q2>-2,5</q2>"]
["<q3>-2,5</q3>"]
["<LoadConstantOrLinear>constant</LoadConstantOrLinear>"]
["<iq1>-1</iq1>"]
["<iq2>-1</iq2>"]
["<iq3>-1</iq3>"]
["<LoadCaseNumber>4</LoadCaseNumber>"]
["<Number>5</Number>"]
["<Description/>"]
[{"$f":"'B1'!V16","v":"<NodeX>7500</NodeX>"}]
[{"$f":"'B1'!W16","v":"<NodeY>7500</NodeY>"}]
["<NodeZ>0</NodeZ>"]
[{"$f":"'B1'!V19","v":"<NodeX>10500</NodeX>"}]
[{"$f":"'B1'!W16","v":"<NodeY>7500</NodeY>"}]
["<NodeZ>0</NodeZ>"]
[{"$f":"'B1'!V19","v":"<NodeX>10500</NodeX>"}]
[{"$f":"'B1'!W13","v":"<NodeY>4500</NodeY>"}]
["<NodeZ>0</NodeZ>"]
[{"$f":"'B1'!V16","v":"<NodeX>7500</NodeX>"}]
[{"$f":"'B1'!W13","v":"<NodeY>4500</NodeY>"}]
["<NodeZ>0</NodeZ>"]
["<Coordinate_system>Local</Coordinate_system>"]
["<Direction>Z</Direction>"]
["<LoadBearingDirection>X</LoadBearingDirection>"]
[{"$f":"'B1'!R35","v":"<q1>-10</q1>"}]
["<q2>-2,5</q2>"]
["<q3>-2,5</q3>"]
["<LoadConstantOrLinear>constant</LoadConstantOrLinear>"]
["<iq1>-1</iq1>"]
["<iq2>-1</iq2>"]
["<iq3>-1</iq3>"]
["<LoadCaseNumber>4</LoadCaseNumber>"]
["<Number>6</Number>"]
["<Description/>"]
[{"$f":"'B1'!V10","v":"<NodeX>1500</NodeX>"}]
[{"$f":"'B1'!W16","v":"<NodeY>7500</NodeY>"}]
["<NodeZ>0</NodeZ>"]
[{"$f":"'B1'!V13","v":"<NodeX>4500</NodeX>"}]
[{"$f":"'B1'!W16","v":"<NodeY>7500</NodeY>"}]
["<NodeZ>0</NodeZ>"]
[{"$f":"'B1'!V13","v":"<NodeX>4500</NodeX>"}]
[{"$f":"'B1'!W13","v":"<NodeY>4500</NodeY>"}]
["<NodeZ>0</NodeZ>"]
[{"$f":"'B1'!V10","v":"<NodeX>1500</NodeX>"}]
[{"$f":"'B1'!W13","v":"<NodeY>4500</NodeY>"}]
["<NodeZ>0</NodeZ>"]
["<Coordinate_system>Local</Coordinate_system>"]
["<Direction>Z</Direction>"]
["<LoadBearingDirection>X</LoadBearingDirection>"]
[{"$f":"'B1'!R35","v":"<q1>-10</q1>"}]
["<q2>-2,5</q2>"]
["<q3>-2,5</q3>"]
["<LoadConstantOrLinear>constant</LoadConstantOrLinear>"]
["<iq1>-1</iq1>"]
["<iq2>-1</iq2>"]
["<iq3>-1</iq3>"]
["<LoadCaseNumber>4</LoadCaseNumber>"]
["<Number>7</Number>"]
["<Description/>"]
[{"$f":"'B1'!V10","v":"<NodeX>1500</NodeX>"}]
[{"$f":"'B1'!W16","v":"<NodeY>7500</NodeY>"}]
["<NodeZ>0</NodeZ>"]
["<NodeX>0</NodeX>"]
[{"$f":"'B1'!W16","v":"<NodeY>7500</NodeY>"}]
["<NodeZ>0</NodeZ>"]
["<NodeX>0</NodeX>"]
[{"$f":"'B1'!W19","v":"<NodeY>10500</NodeY>"}]
["<NodeZ>0</NodeZ>"]
[{"$f":"'B1'!V10","v":"<NodeX>1500</NodeX>"}]
[{"$f":"'B1'!W19","v":"<NodeY>10500</NodeY>"}]
["<NodeZ>0</NodeZ>"]
["<Coordinate_system>Local</Coordinate_system>"]
["<Direction>Z</Direction>"]
["<LoadBearingDirection>X</LoadBearingDirection>"]
[{"$f":"'B1'!R35","v":"<q1>-10</q1>"}]
["<q2>-2,5</q2>"]
["<q3>-2,5</q3>"]
["<LoadConstantOrLinear>constant</LoadConstantOrLinear>"]
["<iq1>-1</iq1>"]
["<iq2>-1</iq2>"]
["<iq3>-1</iq3>"]
["<LoadCaseNumber>4</LoadCaseNumber>"]
["<Number>8</Number>"]
["<Description/>"]
["<NodeX>0</NodeX>"]
["<NodeY>0</NodeY>"]
["<NodeZ>0</NodeZ>"]
["<NodeX>0</NodeX>"]
[{"$f":"'B1'!W13","v":"<NodeY>4500</NodeY>"}]
["<NodeZ>0</NodeZ>"]
[{"$f":"'B1'!V10","v":"<NodeX>1500</NodeX>"}]
[{"$f":"'B1'!W13","v":"<NodeY>4500</NodeY>"}]
["<NodeZ>0</NodeZ>"]
[{"$f":"'B1'!V10","v":"<NodeX>1500</NodeX>"}]
["<NodeY>0</NodeY>"]
["<NodeZ>0</NodeZ>"]
["<Coordinate_system>Local</Coordinate_system>"]
["<Direction>Z</Direction>"]
["<LoadBearingDirection>X</LoadBearingDirection>"]
[{"$f":"'B1'!R35","v":"<q1>-10</q1>"}]
["<q2>-2,5</q2>"]
["<q3>-2,5</q3>"]
["<LoadConstantOrLinear>constant</LoadConstantOrLinear>"]
["<iq1>-1</iq1>"]
["<iq2>-1</iq2>"]
["<iq3>-1</iq3>"]
["<LoadCaseNumber>4</LoadCaseNumber>"]
["<Number>9</Number>"]
["<Description/>"]
[{"$f":"'B1'!V13","v":"<NodeX>4500</NodeX>"}]
[{"$f":"'B1'!W13","v":"<NodeY>4500</NodeY>"}]
["<NodeZ>0</NodeZ>"]
[{"$f":"'B1'!V16","v":"<NodeX>7500</NodeX>"}]
[{"$f":"'B1'!W13","v":"<NodeY>4500</NodeY>"}]
["<NodeZ>0</NodeZ>"]
[{"$f":"'B1'!V16","v":"<NodeX>7500</NodeX>"}]
[{"$f":"'B1'!W10","v":"<NodeY>1500</NodeY>"}]
["<NodeZ>0</NodeZ>"]
[{"$f":"'B1'!V13","v":"<NodeX>4500</NodeX>"}]
[{"$f":"'B1'!W10","v":"<NodeY>1500</NodeY>"}]
["<NodeZ>0</NodeZ>"]
["<Coordinate_system>Local</Coordinate_system>"]
["<Direction>Z</Direction>"]
["<LoadBearingDirection>X</LoadBearingDirection>"]
[{"$f":"'B1'!R35","v":"<q1>-10</q1>"}]
["<q2>-2,5</q2>"]
["<q3>-2,5</q3>"]
["<LoadConstantOrLinear>constant</LoadConstantOrLinear>"]
["<iq1>-1</iq1>"]
["<iq2>-1</iq2>"]
["<iq3>-1</iq3>"]
["<LoadCaseNumber>4</LoadCaseNumber>"]
["<Number>10</Number>"]
["<Description/>"]
[{"$f":"'B1'!V19","v":"<NodeX>10500</NodeX>"}]
[{"$f":"'B1'!W10","v":"<NodeY>1500</NodeY>"}]
["<NodeZ>0</NodeZ>"]
[{"$f":"'B1'!V19","v":"<NodeX>10500</NodeX>"}]
[{"$f":"'B1'!W13","v":"<NodeY>4500</NodeY>"}]
["<NodeZ>0</NodeZ>"]
[{"$f":"'B1'!V19","v":"<NodeX>10500</NodeX>"}]
[{"$f":"'B1'!W13","v":"<NodeY>4500</NodeY>"}]
["<NodeZ>0</NodeZ>"]
[{"$f":"'B1'!V19","v":"<NodeX>10500</NodeX>"}]
[{"$f":"'B1'!W10","v":"<NodeY>1500</NodeY>"}]
["<NodeZ>0</NodeZ>"]
["<Coordinate_system>Local</Coordinate_system>"]
["<Direction>Z</Direction>"]
["<LoadBearingDirection>X</LoadBearingDirection>"]
[{"$f":"'B1'!R35","v":"<q1>-10</q1>"}]
["<q2>-2,5</q2>"]
["<q3>-2,5</q3>"]
["<LoadConstantOrLinear>constant</LoadConstantOrLinear>"]
["<iq1>-1</iq1>"]
["<iq2>-1</iq2>"]
["<iq3>-1</iq3>"]
["<LoadCaseNumber>4</LoadCaseNumber>"]
["<Number>11</Number>"]
["<Description/>"]
[{"$f":"'B1'!V16","v":"<NodeX>7500</NodeX>"}]
["<NodeY>0</NodeY>"]
["<NodeZ>0</NodeZ>"]
[{"$f":"'B1'!V16","v":"<NodeX>7500</NodeX>"}]
[{"$f":"'B1'!W10","v":"<NodeY>1500</NodeY>"}]
["<NodeZ>0</NodeZ>"]
[{"$f":"'B1'!V19","v":"<NodeX>10500</NodeX>"}]
[{"$f":"'B1'!W10","v":"<NodeY>1500</NodeY>"}]
["<NodeZ>0</NodeZ>"]
[{"$f":"'B1'!V19","v":"<NodeX>10500</NodeX>"}]
["<NodeY>0</NodeY>"]
["<NodeZ>0</NodeZ>"]
["<Coordinate_system>Local</Coordinate_system>"]
["<Direction>Z</Direction>"]
["<LoadBearingDirection>X</LoadBearingDirection>"]
[{"$f":"'B1'!R35","v":"<q1>-10</q1>"}]
["<q2>-2,5</q2>"]
["<q3>-2,5</q3>"]
["<LoadConstantOrLinear>constant</LoadConstantOrLinear>"]
["<iq1>-1</iq1>"]
["<iq2>-1</iq2>"]
["<iq3>-1</iq3>"]
["<LoadCaseNumber>4</LoadCaseNumber>"]
["<Number>12</Number>"]
["<Description/>"]
[{"$f":"'B1'!V10","v":"<NodeX>1500</NodeX>"}]
["<NodeY>0</NodeY>"]
["<NodeZ>0</NodeZ>"]
[{"$f":"'B1'!V10","v":"<NodeX>1500</NodeX>"}]
[{"$f":"'B1'!W10","v":"<NodeY>1500</NodeY>"}]
["<NodeZ>0</NodeZ>"]
[{"$f":"'B1'!V13","v":"<NodeX>4500</NodeX>"}]
[{"$f":"'B1'!W10","v":"<NodeY>1500</NodeY>"}]
["<NodeZ>0</NodeZ>"]
[{"$f":"'B1'!V13","v":"<NodeX>4500</NodeX>"}]
["<NodeY>0</NodeY>"]
["<NodeZ>0</NodeZ>"]
["<Coordinate_system>Local</Coordinate_system>"]
["<Direction>Z</Direction>"]
["<LoadBearingDirection>X</LoadBearingDirection>"]
[{"$f":"'B1'!R35","v":"<q1>-10</q1>"}]
["<q2>-2,5</q2>"]
["<q3>-2,5</q3>"]
["<LoadConstantOrLinear>constant</LoadConstantOrLinear>"]
["<iq1>-1</iq1>"]
["<iq2>-1</iq2>"]
["<iq3>-1</iq3>"]
["</SurfaceLoads>"]
["<Combinations>"]
["<LoadCombinationNumber>1</LoadCombinationNumber>"]
["<Description>Dead load</Description>"]
["<CombTyp>0</CombTyp>"]
["<Case>1</Case>"]
["<Psi>1</Psi>"]
["<Gamma>1,22</Gamma>"]
["<Case>2</Case>"]
["<Psi>1</Psi>"]
["<Gamma>1,35</Gamma>"]
["<LoadCombinationNumber>2</LoadCombinationNumber>"]
["<Description>Live load</Description>"]
["<CombTyp>0</CombTyp>"]
["<Case>1</Case>"]
["<Psi>1</Psi>"]
["<Gamma>1,08</Gamma>"]
["<Case>2</Case>"]
["<Psi>1</Psi>"]
["<Gamma>1,35</Gamma>"]
["<LoadCombinationNumber>3</LoadCombinationNumber>"]
["<Description>Schaakbord 1</Description>"]
["<CombTyp>0</CombTyp>"]
["<Case>1</Case>"]
["<Psi>1</Psi>"]
["<Gamma>1,22</Gamma>"]
["<Case>3</Case>"]
["<Psi>1</Psi>"]
["<Gamma>1,35</Gamma>"]
["<LoadCombinationNumber>4</LoadCombinationNumber>"]
["<Description>Schaakbord 2</Description>"]
["<CombTyp>0</CombTyp>"]
["<Case>1</Case>"]
["<Psi>1</Psi>"]
["<Gamma>1,22</Gamma>"]
["<Case>4</Case>"]
["<Psi>1</Psi>"]
["<Gamma>1,35</Gamma>"]
["<LoadCombinationNumber>5</LoadCombinationNumber>"]
["<Description>Schaakbord 1 + 2</Description>"]
["<CombTyp>0</CombTyp>"]
["<Case>1</Case>"]
["<Psi>1</Psi>"]
["<Gamma>1,22</Gamma>"]
["<Case>3</Case>"]
["<Psi>1</Psi>"]
["<Gamma>1,35</Gamma>"]
["<Case>4</Case>"]
["<Psi>1</Psi>"]
["<Gamma>1,35</Gamma>"]
["</Combinations>"]
["<RebarLongitudinal/>"]
["<RebarStirrup/>"]
["<Layers>"]
["<Layer_number>1</Layer_number>"]
["<Layer_description>Layer 1</Layer_description>"]
["<Layer_number>2</Layer_number>"]
["<Layer_description>Layer 2</Layer_description>"]
["<Layer_number>3</Layer_number>"]
["<Layer_description>Layer 3</Layer_description>"]
["<Layer_number>4</Layer_number>"]
["<Layer_description>Layer 4</Layer_description>"]
["<Layer_number>5</Layer_number>"]
["<Layer_description>Layer 5</Layer_description>"]
["<Layer_number>6</Layer_number>"]
["<Layer_description>Layer 6</Layer_description>"]
["<Layer_number>7</Layer_number>"]
["<Layer_description>Layer 7</Layer_description>"]
["<Layer_number>8</Layer_number>"]
["<Layer_description>Layer 8</Layer_description>"]
["<Layer_number>9</Layer_number>"]
["<Layer_description>Layer 9</Layer_description>"]
["<Layer_number>10</Layer_number>"]
["<Layer_description>Layer 10</Layer_description>"]
["<Layer_number>11</Layer_number>"]
["<Layer_description>Layer 11</Layer_description>"]
["<Layer_number>12</Layer_number>"]
["<Layer_description>Layer 12</Layer_description>"]
["<Layer_number>13</Layer_number>"]
["<Layer_description>Layer 13</Layer_description>"]
["<Layer_number>14</Layer_number>"]
["<Layer_description>Layer 14</Layer_description>"]
["<Layer_number>15</Layer_number>"]
["<Layer_description>Layer 15</Layer_description>"]
["<Layer_number>16</Layer_number>"]
["<Layer_description>Layer 16</Layer_description>"]
["<Layer_number>17</Layer_number>"]
["<Layer_description>Layer 17</Layer_description>"]
["<Layer_number>18</Layer_number>"]
["<Layer_description>Layer 18</Layer_description>"]
["<Layer_number>19</Layer_number>"]
["<Layer_description>Layer 19</Layer_description>"]
["<Layer_number>20</Layer_number>"]
["<Layer_description>Layer 20</Layer_description>"]
["<Layer_number>21</Layer_number>"]
["<Layer_description>Layer 21</Layer_description>"]
["<Layer_number>22</Layer_number>"]
["<Layer_description>Layer 22</Layer_description>"]
["<Layer_number>23</Layer_number>"]
["<Layer_description>Layer 23</Layer_description>"]
["<Layer_number>24</Layer_number>"]
["<Layer_description>Layer 24</Layer_description>"]
["<Layer_number>25</Layer_number>"]
["<Layer_description>Layer 25</Layer_description>"]
["</Layers>"]
["</Frame>"]

{"sheet":"HSB1_XML","index":24,"n_rows":723,"n_cols":1,"rows_kept":723,"cut":false,"hidden":true,"merged":[]}
["<Frame>"]
[{"$f":"\"<ProjectName>\" & INHOUD!C13 & \"</ProjectName>\"","v":"<ProjectName>Test project</ProjectName>"}]
[{"$f":"\"<ProjectNumber>\" & INHOUD!C12 & \"</ProjectNumber>\"","v":"<ProjectNumber>0</ProjectNumber>"}]
[{"$f":"\"<ConsequenceClass>\"& INHOUD!C14 & \"</ConsequenceClass>\"","v":"<ConsequenceClass>CC2</ConsequenceClass>"}]
["<DesignWorkingLife>50</DesignWorkingLife>"]
["<ExportDateTime>2024-05-17 22:37:09Z</ExportDateTime>"]
["<XMLExportVersion>v4.0.30319</XMLExportVersion>"]
["<Nodes>"]
["<Number>1</Number>"]
["<X>0</X>"]
["<Y>0</Y>"]
["<Z>0</Z>"]
["<Number>2</Number>"]
[{"$f":"'HSB1'!S8","v":"<X>610</X>"}]
["<Y>0</Y>"]
["<Z>0</Z>"]
["<Number>3</Number>"]
[{"$f":"'HSB1'!S9","v":"<X>1220</X>"}]
["<Y>0</Y>"]
["<Z>0</Z>"]
["<Number>4</Number>"]
[{"$f":"'HSB1'!S10","v":"<X>1970</X>"}]
["<Y>0</Y>"]
["<Z>0</Z>"]
["<Number>5</Number>"]
[{"$f":"'HSB1'!S11","v":"<X>2720</X>"}]
["<Y>0</Y>"]
["<Z>0</Z>"]
["<Number>6</Number>"]
[{"$f":"'HSB1'!S12","v":"<X>3330</X>"}]
["<Y>0</Y>"]
["<Z>0</Z>"]
["<Number>7</Number>"]
[{"$f":"'HSB1'!S13","v":"<X>3940</X>"}]
["<Y>0</Y>"]
["<Z>0</Z>"]
["<Number>8</Number>"]
[{"$f":"A18","v":"<X>1220</X>"}]
["<Y>0</Y>"]
[{"$f":"'HSB1'!T14","v":"<Z>850</Z>"}]
["<Number>9</Number>"]
[{"$f":"A22","v":"<X>1970</X>"}]
["<Y>0</Y>"]
[{"$f":"A40","v":"<Z>850</Z>"}]
["<Number>10</Number>"]
[{"$f":"A26","v":"<X>2720</X>"}]
["<Y>0</Y>"]
[{"$f":"A40","v":"<Z>850</Z>"}]
["<Number>11</Number>"]
[{"$f":"A38","v":"<X>1220</X>"}]
["<Y>0</Y>"]
[{"$f":"'HSB1'!T17","v":"<Z>2100</Z>"}]
["<Number>12</Number>"]
[{"$f":"A42","v":"<X>1970</X>"}]
["<Y>0</Y>"]
[{"$f":"A52","v":"<Z>2100</Z>"}]
["<Number>13</Number>"]
[{"$f":"A46","v":"<X>2720</X>"}]
["<Y>0</Y>"]
[{"$f":"A56","v":"<Z>2100</Z>"}]
["<Number>14</Number>"]
["<X>0</X>"]
["<Y>0</Y>"]
[{"$f":"'HSB1'!T20","v":"<Z>3000</Z>"}]
["<Number>15</Number>"]
[{"$f":"A14","v":"<X>610</X>"}]
["<Y>0</Y>"]
[{"$f":"A64","v":"<Z>3000</Z>"}]
["<Number>16</Number>"]
[{"$f":"A50","v":"<X>1220</X>"}]
["<Y>0</Y>"]
[{"$f":"A68","v":"<Z>3000</Z>"}]
["<Number>17</Number>"]
[{"$f":"A54","v":"<X>1970</X>"}]
["<Y>0</Y>"]
[{"$f":"A72","v":"<Z>3000</Z>"}]
["<Number>18</Number>"]
[{"$f":"A58","v":"<X>2720</X>"}]
["<Y>0</Y>"]
[{"$f":"A76","v":"<Z>3000</Z>"}]
["<Number>19</Number>"]
[{"$f":"A30","v":"<X>3330</X>"}]
["<Y>0</Y>"]
[{"$f":"A80","v":"<Z>3000</Z>"}]
["<Number>20</Number>"]
[{"$f":"A34","v":"<X>3940</X>"}]
["<Y>0</Y>"]
[{"$f":"A84","v":"<Z>3000</Z>"}]
["</Nodes>"]
["<Supports>"]
["<Number>1</Number>"]
["<Nodenumber>1</Nodenumber>"]
["<Tx> </Tx>"]
["<Ty>A</Ty>"]
["<Tz>A</Tz>"]
["<Rx> </Rx>"]
["<Ry> </Ry>"]
["<Rz> </Rz>"]
["<Kx>0</Kx>"]
["<Ky>0</Ky>"]
["<Kz>0</Kz>"]
["<Cx>0</Cx>"]
["<Cy>0</Cy>"]
["<Cz>0</Cz>"]
["<dx>0</dx>"]
["<dy>0</dy>"]
["<dz>0</dz>"]
["<Number>2</Number>"]
["<Nodenumber>2</Nodenumber>"]
["<Tx> </Tx>"]
["<Ty>A</Ty>"]
["<Tz>A</Tz>"]
["<Rx> </Rx>"]
["<Ry> </Ry>"]
["<Rz> </Rz>"]
["<Kx>0</Kx>"]
["<Ky>0</Ky>"]
["<Kz>0</Kz>"]
["<Cx>0</Cx>"]
["<Cy>0</Cy>"]
["<Cz>0</Cz>"]
["<dx>0</dx>"]
["<dy>0</dy>"]
["<dz>0</dz>"]
["<Number>3</Number>"]
["<Nodenumber>3</Nodenumber>"]
["<Tx> </Tx>"]
["<Ty>A</Ty>"]
["<Tz>A</Tz>"]
["<Rx> </Rx>"]
["<Ry> </Ry>"]
["<Rz> </Rz>"]
["<Kx>0</Kx>"]
["<Ky>0</Ky>"]
["<Kz>0</Kz>"]
["<Cx>0</Cx>"]
["<Cy>0</Cy>"]
["<Cz>0</Cz>"]
["<dx>0</dx>"]
["<dy>0</dy>"]
["<dz>0</dz>"]
["<Number>4</Number>"]
["<Nodenumber>4</Nodenumber>"]
["<Tx> </Tx>"]
["<Ty>A</Ty>"]
["<Tz>A</Tz>"]
["<Rx> </Rx>"]
["<Ry> </Ry>"]
["<Rz> </Rz>"]
["<Kx>0</Kx>"]
["<Ky>0</Ky>"]
["<Kz>0</Kz>"]
["<Cx>0</Cx>"]
["<Cy>0</Cy>"]
["<Cz>0</Cz>"]
["<dx>0</dx>"]
["<dy>0</dy>"]
["<dz>0</dz>"]
["<Number>5</Number>"]
["<Nodenumber>5</Nodenumber>"]
["<Tx> </Tx>"]
["<Ty>A</Ty>"]
["<Tz>A</Tz>"]
["<Rx> </Rx>"]
["<Ry> </Ry>"]
["<Rz> </Rz>"]
["<Kx>0</Kx>"]
["<Ky>0</Ky>"]
["<Kz>0</Kz>"]
["<Cx>0</Cx>"]
["<Cy>0</Cy>"]
["<Cz>0</Cz>"]
["<dx>0</dx>"]
["<dy>0</dy>"]
["<dz>0</dz>"]
["<Number>6</Number>"]
["<Nodenumber>6</Nodenumber>"]
["<Tx> </Tx>"]
["<Ty>A</Ty>"]
["<Tz>A</Tz>"]
["<Rx> </Rx>"]
["<Ry> </Ry>"]
["<Rz> </Rz>"]
["<Kx>0</Kx>"]
["<Ky>0</Ky>"]
["<Kz>0</Kz>"]
["<Cx>0</Cx>"]
["<Cy>0</Cy>"]
["<Cz>0</Cz>"]
["<dx>0</dx>"]
["<dy>0</dy>"]
["<dz>0</dz>"]
["<Number>7</Number>"]
["<Nodenumber>7</Nodenumber>"]
["<Tx>A</Tx>"]
["<Ty>A</Ty>"]
["<Tz>A</Tz>"]
["<Rx> </Rx>"]
["<Ry> </Ry>"]
["<Rz> </Rz>"]
["<Kx>0</Kx>"]
["<Ky>0</Ky>"]
["<Kz>0</Kz>"]
["<Cx>0</Cx>"]
["<Cy>0</Cy>"]
["<Cz>0</Cz>"]
["<dx>0</dx>"]
["<dy>0</dy>"]
["<dz>0</dz>"]
["<Number>8</Number>"]
["<Nodenumber>14</Nodenumber>"]
["<Tx> </Tx>"]
["<Ty>A</Ty>"]
["<Tz> </Tz>"]
["<Rx> </Rx>"]
["<Ry> </Ry>"]
["<Rz> </Rz>"]
["<Kx>0</Kx>"]
["<Ky>0</Ky>"]
["<Kz>0</Kz>"]
["<Cx>0</Cx>"]
["<Cy>0</Cy>"]
["<Cz>0</Cz>"]
["<dx>0</dx>"]
["<dy>0</dy>"]
["<dz>0</dz>"]
["<Number>9</Number>"]
["<Nodenumber>15</Nodenumber>"]
["<Tx> </Tx>"]
["<Ty>A</Ty>"]
["<Tz> </Tz>"]
["<Rx> </Rx>"]
["<Ry> </Ry>"]
["<Rz> </Rz>"]
["<Kx>0</Kx>"]
["<Ky>0</Ky>"]
["<Kz>0</Kz>"]
["<Cx>0</Cx>"]
["<Cy>0</Cy>"]
["<Cz>0</Cz>"]
["<dx>0</dx>"]
["<dy>0</dy>"]
["<dz>0</dz>"]
["<Number>10</Number>"]
["<Nodenumber>16</Nodenumber>"]
["<Tx> </Tx>"]
["<Ty>A</Ty>"]
["<Tz> </Tz>"]
["<Rx> </Rx>"]
["<Ry> </Ry>"]
["<Rz> </Rz>"]
["<Kx>0</Kx>"]
["<Ky>0</Ky>"]
["<Kz>0</Kz>"]
["<Cx>0</Cx>"]
["<Cy>0</Cy>"]
["<Cz>0</Cz>"]
["<dx>0</dx>"]
["<dy>0</dy>"]
["<dz>0</dz>"]
["<Number>11</Number>"]
["<Nodenumber>17</Nodenumber>"]
["<Tx> </Tx>"]
["<Ty>A</Ty>"]
["<Tz> </Tz>"]
["<Rx> </Rx>"]
["<Ry> </Ry>"]
["<Rz> </Rz>"]
["<Kx>0</Kx>"]
["<Ky>0</Ky>"]
["<Kz>0</Kz>"]
["<Cx>0</Cx>"]
["<Cy>0</Cy>"]
["<Cz>0</Cz>"]
["<dx>0</dx>"]
["<dy>0</dy>"]
["<dz>0</dz>"]
["<Number>12</Number>"]
["<Nodenumber>18</Nodenumber>"]
["<Tx> </Tx>"]
["<Ty>A</Ty>"]
["<Tz> </Tz>"]
["<Rx> </Rx>"]
["<Ry> </Ry>"]
["<Rz> </Rz>"]
["<Kx>0</Kx>"]
["<Ky>0</Ky>"]
["<Kz>0</Kz>"]
["<Cx>0</Cx>"]
["<Cy>0</Cy>"]
["<Cz>0</Cz>"]
["<dx>0</dx>"]
["<dy>0</dy>"]
["<dz>0</dz>"]
["<Number>13</Number>"]
["<Nodenumber>19</Nodenumber>"]
["<Tx> </Tx>"]
["<Ty>A</Ty>"]
["<Tz> </Tz>"]
["<Rx> </Rx>"]
["<Ry> </Ry>"]
["<Rz> </Rz>"]
["<Kx>0</Kx>"]
["<Ky>0</Ky>"]
["<Kz>0</Kz>"]
["<Cx>0</Cx>"]
["<Cy>0</Cy>"]
["<Cz>0</Cz>"]
["<dx>0</dx>"]
["<dy>0</dy>"]
["<dz>0</dz>"]
["<Number>14</Number>"]
["<Nodenumber>20</Nodenumber>"]
["<Tx>A</Tx>"]
["<Ty>A</Ty>"]
["<Tz> </Tz>"]
["<Rx> </Rx>"]
["<Ry> </Ry>"]
["<Rz> </Rz>"]
["<Kx>0</Kx>"]
["<Ky>0</Ky>"]
["<Kz>0</Kz>"]
["<Cx>0</Cx>"]
["<Cy>0</Cy>"]
["<Cz>0</Cz>"]
["<dx>0</dx>"]
["<dy>0</dy>"]
["<dz>0</dz>"]
["</Supports>"]
["<Grids>"]
[{"$f":"'HSB1'!R38","v":"<X>0 610 610 1500 610 610</X>"}]
["<X_Lable>"]
["A B C D E F G H I J K L M N O P Q R S T U V W X Y Z"]
["</X_Lable>"]
["<Y>0</Y>"]
["<Y_Lable>"]
["1 2 3 4 5 6 7 8 9 10 11 12 13 14 15 16 17 18 19 20 21 22 23 24 25"]
["</Y_Lable>"]
[{"$f":"'HSB1'!R39","v":"<Z>+0 +850 +2100 +3000</Z>"}]
["<Z_Lable>+0</Z_Lable>"]
["</Grids>"]
["<Profiles>"]
["<Number>1</Number>"]
[{"$f":"'HSB1'!T28","v":"<Profile_name>38 x 184</Profile_name>"}]
["<Material_type>2</Material_type>"]
[{"$f":"'HSB1'!T29","v":"<Material>C24</Material>"}]
["<Angle>0</Angle>"]
["<ServiceClass>0</ServiceClass>"]
["<Profile_shape>6</Profile_shape>"]
[{"$f":"'HSB1'!R28","v":"<h>184</h>"}]
[{"$f":"'HSB1'!R29","v":"<b>38</b>"}]
["<tf>184</tf>"]
["<tw>8,5</tw>"]
["<r1>0</r1>"]
["<r2>27</r2>"]
["<slope>0</slope>"]
["<Number>2</Number>"]
[{"$f":"'HSB1'!T31","v":"<Profile_name>76 x 184</Profile_name>"}]
["<Material_type>2</Material_type>"]
[{"$f":"'HSB1'!T32","v":"<Material>C24</Material>"}]
["<Angle>0</Angle>"]
["<ServiceClass>0</ServiceClass>"]
["<Profile_shape>6</Profile_shape>"]
[{"$f":"'HSB1'!R31","v":"<h>184</h>"}]
[{"$f":"'HSB1'!R32","v":"<b>76</b>"}]
["<tf>184</tf>"]
["<tw>8,5</tw>"]
["<r1>0</r1>"]
["<r2>27</r2>"]
["<slope>0</slope>"]
["<Number>3</Number>"]
[{"$f":"'HSB1'!T34","v":"<Profile_name>76 x 184</Profile_name>"}]
["<Material_type>2</Material_type>"]
[{"$f":"'HSB1'!T35","v":"<Material>C24</Material>"}]
["<Angle>0</Angle>"]
["<ServiceClass>0</ServiceClass>"]
["<Profile_shape>6</Profile_shape>"]
[{"$f":"'HSB1'!R34","v":"<h>184</h>"}]
[{"$f":"'HSB1'!R35","v":"<b>76</b>"}]
["<tf>184</tf>"]
["<tw>8,5</tw>"]
["<r1>0</r1>"]
["<r2>27</r2>"]
["<slope>0</slope>"]
["</Profiles>"]
["<Beamgroup>"]
["<Number>1</Number>"]
["<Startnode>1</Startnode>"]
["<Endnode>7</Endnode>"]
["<Number>2</Number>"]
["<Startnode>7</Startnode>"]
["<Endnode>20</Endnode>"]
["<Number>3</Number>"]
["<Startnode>20</Startnode>"]
["<Endnode>14</Endnode>"]
["<Number>4</Number>"]
["<Startnode>6</Startnode>"]
["<Endnode>19</Endnode>"]
["<Number>5</Number>"]
["<Startnode>5</Startnode>"]
["<Endnode>18</Endnode>"]
["<Number>6</Number>"]
["<Startnode>3</Startnode>"]
["<Endnode>16</Endnode>"]
["<Number>7</Number>"]
["<Startnode>2</Startnode>"]
["<Endnode>15</Endnode>"]
["<Number>8</Number>"]
["<Startnode>1</Startnode>"]
["<Endnode>14</Endnode>"]
["<Number>9</Number>"]
["<Startnode>13</Startnode>"]
["<Endnode>11</Endnode>"]
["<Number>10</Number>"]
["<Startnode>10</Startnode>"]
["<Endnode>8</Endnode>"]
["<Number>11</Number>"]
["<Startnode>12</Startnode>"]
["<Endnode>17</Endnode>"]
["<Number>12</Number>"]
["<Startnode>4</Startnode>"]
["<Endnode>9</Endnode>"]
["</Beamgroup>"]
["<Beams>"]
["<Number>1</Number>"]
["<Beamgroupnumber>1</Beamgroupnumber>"]
["<From_node_number>1</From_node_number>"]
["<To_node_number>7</To_node_number>"]
["<BeamRestraintsBegin>aaaaaa</BeamRestraintsBegin>"]
["<BeamRestraintsEnd>aaaaaa</BeamRestraintsEnd>"]
["<NumbLateralRestraints>0</NumbLateralRestraints>"]
["<Angle>0</Angle>"]
["<Angle_profile>90</Angle_profile>"]
["<Profile_number>1</Profile_number>"]
["<Z>0</Z>"]
["<Top_Center_Bottom>Center</Top_Center_Bottom>"]
["<Number>2</Number>"]
["<Beamgroupnumber>2</Beamgroupnumber>"]
["<From_node_number>7</From_node_number>"]
["<To_node_number>20</To_node_number>"]
["<BeamRestraintsBegin>aaa </BeamRestraintsBegin>"]
["<BeamRestraintsEnd>aaa </BeamRestraintsEnd>"]
["<NumbLateralRestraints>0</NumbLateralRestraints>"]
["<Angle>0</Angle>"]
["<Angle_profile>0</Angle_profile>"]
["<Profile_number>1</Profile_number>"]
["<Z>0</Z>"]
["<Top_Center_Bottom>Center</Top_Center_Bottom>"]
["<Number>3</Number>"]
["<Beamgroupnumber>3</Beamgroupnumber>"]
["<From_node_number>20</From_node_number>"]
["<To_node_number>14</To_node_number>"]
["<BeamRestraintsBegin>aaaaaa</BeamRestraintsBegin>"]
["<BeamRestraintsEnd>aaaaaa</BeamRestraintsEnd>"]
["<NumbLateralRestraints>0</NumbLateralRestraints>"]
["<Angle>0</Angle>"]
["<Angle_profile>90</Angle_profile>"]
["<Profile_number>1</Profile_number>"]
["<Z>0</Z>"]
["<Top_Center_Bottom>Center</Top_Center_Bottom>"]
["<Number>4</Number>"]
["<Beamgroupnumber>4</Beamgroupnumber>"]
["<From_node_number>6</From_node_number>"]
["<To_node_number>19</To_node_number>"]
["<BeamRestraintsBegin>aaa </BeamRestraintsBegin>"]
["<BeamRestraintsEnd>aaa </BeamRestraintsEnd>"]
["<NumbLateralRestraints>0</NumbLateralRestraints>"]
["<Angle>0</Angle>"]
["<Angle_profile>0</Angle_profile>"]
["<Profile_number>1</Profile_number>"]
["<Z>0</Z>"]
["<Top_Center_Bottom>Center</Top_Center_Bottom>"]
["<Number>5</Number>"]
["<Beamgroupnumber>5</Beamgroupnumber>"]
["<From_node_number>5</From_node_number>"]
["<To_node_number>18</To_node_number>"]
["<BeamRestraintsBegin>aaa </BeamRestraintsBegin>"]
["<BeamRestraintsEnd>aaa </BeamRestraintsEnd>"]
["<NumbLateralRestraints>6</NumbLateralRestraints>"]
["<Angle>0</Angle>"]
["<Angle_profile>0</Angle_profile>"]
["<Profile_number>3</Profile_number>"]
["<Z>0</Z>"]
["<Top_Center_Bottom>Center</Top_Center_Bottom>"]
["<Number>6</Number>"]
["<Beamgroupnumber>6</Beamgroupnumber>"]
["<From_node_number>3</From_node_number>"]
["<To_node_number>16</To_node_number>"]
["<BeamRestraintsBegin>aaa </BeamRestraintsBegin>"]
["<BeamRestraintsEnd>aaa </BeamRestraintsEnd>"]
["<NumbLateralRestraints>0</NumbLateralRestraints>"]
["<Angle>0</Angle>"]
["<Angle_profile>0</Angle_profile>"]
["<Profile_number>3</Profile_number>"]
["<Z>0</Z>"]
["<Top_Center_Bottom>Center</Top_Center_Bottom>"]
["<Number>7</Number>"]
["<Beamgroupnumber>7</Beamgroupnumber>"]
["<From_node_number>2</From_node_number>"]
["<To_node_number>15</To_node_number>"]
["<BeamRestraintsBegin>aaa </BeamRestraintsBegin>"]
["<BeamRestraintsEnd>aaa </BeamRestraintsEnd>"]
["<NumbLateralRestraints>0</NumbLateralRestraints>"]
["<Angle>0</Angle>"]
["<Angle_profile>0</Angle_profile>"]
["<Profile_number>1</Profile_number>"]
["<Z>0</Z>"]
["<Top_Center_Bottom>Center</Top_Center_Bottom>"]
["<Number>8</Number>"]
["<Beamgroupnumber>8</Beamgroupnumber>"]
["<From_node_number>1</From_node_number>"]
["<To_node_number>14</To_node_number>"]
["<BeamRestraintsBegin>aaa </BeamRestraintsBegin>"]
["<BeamRestraintsEnd>aaa </BeamRestraintsEnd>"]
["<NumbLateralRestraints>0</NumbLateralRestraints>"]
["<Angle>0</Angle>"]
["<Angle_profile>0</Angle_profile>"]
["<Profile_number>1</Profile_number>"]
["<Z>0</Z>"]
["<Top_Center_Bottom>Center</Top_Center_Bottom>"]
["<Number>9</Number>"]
["<Beamgroupnumber>9</Beamgroupnumber>"]
["<From_node_number>13</From_node_number>"]
["<To_node_number>11</To_node_number>"]
["<BeamRestraintsBegin>aaa </BeamRestraintsBegin>"]
["<BeamRestraintsEnd>aaa </BeamRestraintsEnd>"]
["<NumbLateralRestraints>4</NumbLateralRestraints>"]
["<Angle>0</Angle>"]
["<Angle_profile>90</Angle_profile>"]
["<Profile_number>2</Profile_number>"]
["<Z>0</Z>"]
["<Top_Center_Bottom>Center</Top_Center_Bottom>"]
["<Number>10</Number>"]
["<Beamgroupnumber>10</Beamgroupnumber>"]
["<From_node_number>10</From_node_number>"]
["<To_node_number>8</To_node_number>"]
["<BeamRestraintsBegin>aaa </BeamRestraintsBegin>"]
["<BeamRestraintsEnd>aaa </BeamRestraintsEnd>"]
["<NumbLateralRestraints>4</NumbLateralRestraints>"]
["<Angle>0</Angle>"]
["<Angle_profile>90</Angle_profile>"]
["<Profile_number>2</Profile_number>"]
["<Z>0</Z>"]
["<Top_Center_Bottom>Center</Top_Center_Bottom>"]
["<Number>11</Number>"]
["<Beamgroupnumber>11</Beamgroupnumber>"]
["<From_node_number>12</From_node_number>"]
["<To_node_number>17</To_node_number>"]
["<BeamRestraintsBegin>aaa </BeamRestraintsBegin>"]
["<BeamRestraintsEnd>aaa </BeamRestraintsEnd>"]
["<NumbLateralRestraints>4</NumbLateralRestraints>"]
["<Angle>0</Angle>"]
["<Angle_profile>0</Angle_profile>"]
["<Profile_number>1</Profile_number>"]
["<Z>0</Z>"]
["<Top_Center_Bottom>Center</Top_Center_Bottom>"]
["<Number>12</Number>"]
["<Beamgroupnumber>12</Beamgroupnumber>"]
["<From_node_number>4</From_node_number>"]
["<To_node_number>9</To_node_number>"]
["<BeamRestraintsBegin>aaa </BeamRestraintsBegin>"]
["<BeamRestraintsEnd>aaa </BeamRestraintsEnd>"]
["<NumbLateralRestraints>4</NumbLateralRestraints>"]
["<Angle>0</Angle>"]
["<Angle_profile>0</Angle_profile>"]
["<Profile_number>1</Profile_number>"]
["<Z>0</Z>"]
["<Top_Center_Bottom>Center</Top_Center_Bottom>"]
["</Beams>"]
["<LoadCases>"]
["<Number>1</Number>"]
["<Description>Dead load</Description>"]
["<Type>0</Type>"]
["<psi0>1</psi0>"]
["<psi1>1</psi1>"]
["<psi2>1</psi2>"]
["<Number>2</Number>"]
["<Description>Wind</Description>"]
["<Type>10</Type>"]
["<psi0>0</psi0>"]
["<psi1>0,2</psi1>"]
["<psi2>0</psi2>"]
["</LoadCases>"]
["<BeamLoads>"]
["<LoadCaseNumber>1</LoadCaseNumber>"]
["<BeamNumber>3</BeamNumber>"]
["<Description/>"]
["<Type>1</Type>"]
["<Coordinate_system>Local</Coordinate_system>"]
["<Direction>Z</Direction>"]
[{"$f":"'HSB1'!R41","v":"<Load1>-2,5</Load1>"}]
[{"$f":"'HSB1'!R42","v":"<Load2>-2,5</Load2>"}]
["<a>0</a>"]
["<bL>False</bL>"]
["<L>3940</L>"]
["<angle>0</angle>"]
["</BeamLoads>"]
["<SurfaceLoads>"]
["<LoadCaseNumber>2</LoadCaseNumber>"]
["<Number>1</Number>"]
["<Description/>"]
[{"$f":"'HSB1'!R44","v":"<NodeX>3940</NodeX>"}]
["<NodeY>0</NodeY>"]
[{"$f":"'HSB1'!R45","v":"<NodeZ>3000</NodeZ>"}]
["<NodeX>0</NodeX>"]
["<NodeY>0</NodeY>"]
[{"$f":"A604","v":"<NodeZ>3000</NodeZ>"}]
["<NodeX>0</NodeX>"]
["<NodeY>0</NodeY>"]
["<NodeZ>0</NodeZ>"]
[{"$f":"A602","v":"<NodeX>3940</NodeX>"}]
["<NodeY>0</NodeY>"]
["<NodeZ>0</NodeZ>"]
["<Coordinate_system>Local</Coordinate_system>"]
["<Direction>Z</Direction>"]
["<LoadBearingDirection>all</LoadBearingDirection>"]
[{"$f":"'HSB1'!R46","v":"<q1>-0,728</q1>"}]
["<q2>-2,5</q2>"]
["<q3>-2,5</q3>"]
["<LoadConstantOrLinear>constant</LoadConstantOrLinear>"]
["<iq1>-1</iq1>"]
["<iq2>-1</iq2>"]
["<iq3>-1</iq3>"]
["</SurfaceLoads>"]
["<Combinations>"]
["<LoadCombinationNumber>1</LoadCombinationNumber>"]
["<Description>Dead load</Description>"]
["<CombTyp>0</CombTyp>"]
["<Case>1</Case>"]
["<Psi>1</Psi>"]
["<Gamma>1,22</Gamma>"]
["<LoadCombinationNumber>2</LoadCombinationNumber>"]
["<Description>Wind</Description>"]
["<CombTyp>0</CombTyp>"]
["<Case>1</Case>"]
["<Psi>1</Psi>"]
["<Gamma>1,08</Gamma>"]
["<Case>2</Case>"]
["<Psi>1</Psi>"]
["<Gamma>1,35</Gamma>"]
["<LoadCombinationNumber>3</LoadCombinationNumber>"]
["<Description>Dead load</Description>"]
["<CombTyp>3</CombTyp>"]
["<Case>1</Case>"]
["<Psi>1</Psi>"]
["<Gamma>1</Gamma>"]
["<LoadCombinationNumber>4</LoadCombinationNumber>"]
["<Description>Wind</Description>"]
["<CombTyp>3</CombTyp>"]
["<Case>1</Case>"]
["<Psi>1</Psi>"]
["<Gamma>1</Gamma>"]
["<Case>2</Case>"]
["<Psi>1</Psi>"]
["<Gamma>1</Gamma>"]
["<LoadCombinationNumber>5</LoadCombinationNumber>"]
["<Description>SLS Permanent</Description>"]
["<CombTyp>4</CombTyp>"]
["<Case>1</Case>"]
["<Psi>1</Psi>"]
["<Gamma>1</Gamma>"]
["<LoadCombinationNumber>6</LoadCombinationNumber>"]
["<Description>SLS Quasi-permanent</Description>"]
["<CombTyp>2</CombTyp>"]
["<Case>1</Case>"]
["<Psi>1</Psi>"]
["<Gamma>1</Gamma>"]
["</Combinations>"]
["<RebarLongitudinal/>"]
["<RebarStirrup/>"]
["<Layers>"]
["<Layer_number>1</Layer_number>"]
["<Layer_description>Layer 1</Layer_description>"]
["<Layer_number>2</Layer_number>"]
["<Layer_description>Layer 2</Layer_description>"]
["<Layer_number>3</Layer_number>"]
["<Layer_description>Layer 3</Layer_description>"]
["<Layer_number>4</Layer_number>"]
["<Layer_description>Layer 4</Layer_description>"]
["<Layer_number>5</Layer_number>"]
["<Layer_description>Layer 5</Layer_description>"]
["<Layer_number>6</Layer_number>"]
["<Layer_description>Layer 6</Layer_description>"]
["<Layer_number>7</Layer_number>"]
["<Layer_description>Layer 7</Layer_description>"]
["<Layer_number>8</Layer_number>"]
["<Layer_description>Layer 8</Layer_description>"]
["<Layer_number>9</Layer_number>"]
["<Layer_description>Layer 9</Layer_description>"]
["<Layer_number>10</Layer_number>"]
["<Layer_description>Layer 10</Layer_description>"]
["<Layer_number>11</Layer_number>"]
["<Layer_description>Layer 11</Layer_description>"]
["<Layer_number>12</Layer_number>"]
["<Layer_description>Layer 12</Layer_description>"]
["<Layer_number>13</Layer_number>"]
["<Layer_description>Layer 13</Layer_description>"]
["<Layer_number>14</Layer_number>"]
["<Layer_description>Layer 14</Layer_description>"]
["<Layer_number>15</Layer_number>"]
["<Layer_description>Layer 15</Layer_description>"]
["<Layer_number>16</Layer_number>"]
["<Layer_description>Layer 16</Layer_description>"]
["<Layer_number>17</Layer_number>"]
["<Layer_description>Layer 17</Layer_description>"]
["<Layer_number>18</Layer_number>"]
["<Layer_description>Layer 18</Layer_description>"]
["<Layer_number>19</Layer_number>"]
["<Layer_description>Layer 19</Layer_description>"]
["<Layer_number>20</Layer_number>"]
["<Layer_description>Layer 20</Layer_description>"]
["<Layer_number>21</Layer_number>"]
["<Layer_description>Layer 21</Layer_description>"]
["<Layer_number>22</Layer_number>"]
["<Layer_description>Layer 22</Layer_description>"]
["<Layer_number>23</Layer_number>"]
["<Layer_description>Layer 23</Layer_description>"]
["<Layer_number>24</Layer_number>"]
["<Layer_description>Layer 24</Layer_description>"]
["<Layer_number>25</Layer_number>"]
["<Layer_description>Layer 25</Layer_description>"]
["</Layers>"]
["</Frame>"]

{"sheet":"HEK1_XML","index":25,"n_rows":457,"n_cols":1,"rows_kept":457,"cut":false,"hidden":true,"merged":[]}
["<Frame>"]
[{"$f":"\"<ProjectName>\" & INHOUD!C13 & \"</ProjectName>\"","v":"<ProjectName>Test project</ProjectName>"}]
[{"$f":"\"<ProjectNumber>\" & INHOUD!C12 & \"</ProjectNumber>\"","v":"<ProjectNumber>0</ProjectNumber>"}]
[{"$f":"\"<ConsequenceClass>\"& INHOUD!C14 & \"</ConsequenceClass>\"","v":"<ConsequenceClass>CC2</ConsequenceClass>"}]
["<DesignWorkingLife>50</DesignWorkingLife>"]
["<ExportDateTime>2024-05-16 23:52:25Z</ExportDateTime>"]
["<XMLExportVersion>v4.0.30319</XMLExportVersion>"]
["<Nodes>"]
["<Number>1</Number>"]
["<X>0</X>"]
["<Y>0</Y>"]
["<Z>0</Z>"]
["<Number>2</Number>"]
["<X>0</X>"]
[{"$f":"'HEK1'!R6","v":"<Y>2000</Y>"}]
["<Z>0</Z>"]
["<Number>3</Number>"]
["<X>0</X>"]
[{"$f":"'HEK1'!R7","v":"<Y>4000</Y>"}]
["<Z>0</Z>"]
["<Number>4</Number>"]
["<X>0</X>"]
["<Y>0</Y>"]
[{"$f":"'HEK1'!R9","v":"<Z>1200</Z>"}]
["<Number>5</Number>"]
["<X>0</X>"]
[{"$f":"A15","v":"<Y>2000</Y>"}]
[{"$f":"A24","v":"<Z>1200</Z>"}]
["<Number>6</Number>"]
["<X>0</X>"]
[{"$f":"A19","v":"<Y>4000</Y>"}]
[{"$f":"A28","v":"<Z>1200</Z>"}]
["<Number>7</Number>"]
["<X>0</X>"]
[{"$f":"'HEK1'!R8","v":"<Y>6000</Y>"}]
["<Z>0</Z>"]
["<Number>8</Number>"]
["<X>0</X>"]
[{"$f":"A35","v":"<Y>6000</Y>"}]
[{"$f":"A32","v":"<Z>1200</Z>"}]
["</Nodes>"]
["<Supports>"]
["<Number>1</Number>"]
["<Nodenumber>1</Nodenumber>"]
["<Tx>A</Tx>"]
["<Ty>A</Ty>"]
["<Tz>A</Tz>"]
["<Rx>A</Rx>"]
["<Ry>A</Ry>"]
["<Rz>A</Rz>"]
["<Kx>0</Kx>"]
["<Ky>0</Ky>"]
["<Kz>0</Kz>"]
["<Cx>0</Cx>"]
["<Cy>0</Cy>"]
["<Cz>0</Cz>"]
["<dx>0</dx>"]
["<dy>0</dy>"]
["<dz>0</dz>"]
["<Number>2</Number>"]
["<Nodenumber>2</Nodenumber>"]
["<Tx>A</Tx>"]
["<Ty>A</Ty>"]
["<Tz>A</Tz>"]
["<Rx>A</Rx>"]
["<Ry>A</Ry>"]
["<Rz>A</Rz>"]
["<Kx>0</Kx>"]
["<Ky>0</Ky>"]
["<Kz>0</Kz>"]
["<Cx>0</Cx>"]
["<Cy>0</Cy>"]
["<Cz>0</Cz>"]
["<dx>0</dx>"]
["<dy>0</dy>"]
["<dz>0</dz>"]
["<Number>3</Number>"]
["<Nodenumber>3</Nodenumber>"]
["<Tx>A</Tx>"]
["<Ty>A</Ty>"]
["<Tz>A</Tz>"]
["<Rx>A</Rx>"]
["<Ry>A</Ry>"]
["<Rz>A</Rz>"]
["<Kx>0</Kx>"]
["<Ky>0</Ky>"]
["<Kz>0</Kz>"]
["<Cx>0</Cx>"]
["<Cy>0</Cy>"]
["<Cz>0</Cz>"]
["<dx>0</dx>"]
["<dy>0</dy>"]
["<dz>0</dz>"]
["<Number>4</Number>"]
["<Nodenumber>7</Nodenumber>"]
["<Tx>A</Tx>"]
["<Ty>A</Ty>"]
["<Tz>A</Tz>"]
["<Rx>A</Rx>"]
["<Ry>A</Ry>"]
["<Rz>A</Rz>"]
["<Kx>0</Kx>"]
["<Ky>0</Ky>"]
["<Kz>0</Kz>"]
["<Cx>0</Cx>"]
["<Cy>0</Cy>"]
["<Cz>0</Cz>"]
["<dx>0</dx>"]
["<dy>0</dy>"]
["<dz>0</dz>"]
["</Supports>"]
["<Grids>"]
["<X>0</X>"]
["<X_Lable>"]
["A B C D E F G H I J K L M N O P Q R S T U V W X Y Z"]
["</X_Lable>"]
[{"$f":"'HEK1'!R13","v":"<Y> 0 2000 2000 2000</Y>"}]
["<Y_Lable>"]
["1 2 3 4 5 6 7 8 9 10 11 12 13 14 15 16 17 18 19 20 21 22 23 24 25"]
["</Y_Lable>"]
[{"$f":"'HEK1'!R14","v":"<Z>+0 +1200</Z>"}]
["<Z_Lable>+0</Z_Lable>"]
["</Grids>"]
["<Profiles>"]
["<Number>1</Number>"]
[{"$f":"'HEK1'!R10","v":"<Profile_name>S80x8</Profile_name>"}]
["<Material_type>0</Material_type>"]
[{"$f":"'HEK1'!R12","v":"<Material>S235</Material>"}]
["<Angle>0</Angle>"]
["<Profile_shape>6</Profile_shape>"]
["<h>0</h>"]
["<b>80</b>"]
["<tf>8</tf>"]
["<tw>0</tw>"]
["<r1>0</r1>"]
["<r2>0</r2>"]
["<slope>0</slope>"]
["<Number>2</Number>"]
[{"$f":"'HEK1'!R11","v":"<Profile_name>HFCHS_I603X29</Profile_name>"}]
["<Material_type>0</Material_type>"]
[{"$f":"'HEK1'!R12","v":"<Material>S235</Material>"}]
["<Angle>0</Angle>"]
["<Profile_shape>5</Profile_shape>"]
["<h>60</h>"]
["<b>60</b>"]
["<tf>2,9</tf>"]
["<tw>2,9</tw>"]
["<r1>0</r1>"]
["<r2>0</r2>"]
["<slope>0</slope>"]
["</Profiles>"]
["<Beamgroup>"]
["<Number>1</Number>"]
["<Startnode>3</Startnode>"]
["<Endnode>6</Endnode>"]
["<Number>2</Number>"]
["<Startnode>6</Startnode>"]
["<Endnode>5</Endnode>"]
["<Number>3</Number>"]
["<Startnode>5</Startnode>"]
["<Endnode>4</Endnode>"]
["<Number>4</Number>"]
["<Startnode>4</Startnode>"]
["<Endnode>1</Endnode>"]
["<Number>5</Number>"]
["<Startnode>2</Startnode>"]
["<Endnode>5</Endnode>"]
["<Number>6</Number>"]
["<Startnode>7</Startnode>"]
["<Endnode>8</Endnode>"]
["<Number>7</Number>"]
["<Startnode>8</Startnode>"]
["<Endnode>6</Endnode>"]
["</Beamgroup>"]
["<Beams>"]
["<Number>1</Number>"]
["<Beamgroupnumber>1</Beamgroupnumber>"]
["<From_node_number>3</From_node_number>"]
["<To_node_number>6</To_node_number>"]
["<BeamRestraintsBegin>aaaaaa</BeamRestraintsBegin>"]
["<BeamRestraintsEnd>aaaaaa</BeamRestraintsEnd>"]
["<NumbLateralRestraints>0</NumbLateralRestraints>"]
["<Angle>0</Angle>"]
["<Angle_profile>0</Angle_profile>"]
["<Profile_number>1</Profile_number>"]
["<Z>0</Z>"]
["<Top_Center_Bottom>Center</Top_Center_Bottom>"]
["<Number>2</Number>"]
["<Beamgroupnumber>2</Beamgroupnumber>"]
["<From_node_number>6</From_node_number>"]
["<To_node_number>5</To_node_number>"]
["<BeamRestraintsBegin>aaaaaa</BeamRestraintsBegin>"]
["<BeamRestraintsEnd>aaaaaa</BeamRestraintsEnd>"]
["<NumbLateralRestraints>0</NumbLateralRestraints>"]
["<Angle>0</Angle>"]
["<Angle_profile>0</Angle_profile>"]
["<Profile_number>2</Profile_number>"]
["<Z>0</Z>"]
["<Top_Center_Bottom>Center</Top_Center_Bottom>"]
["<Number>3</Number>"]
["<Beamgroupnumber>3</Beamgroupnumber>"]
["<From_node_number>5</From_node_number>"]
["<To_node_number>4</To_node_number>"]
["<BeamRestraintsBegin>aaaaaa</BeamRestraintsBegin>"]
["<BeamRestraintsEnd>aaaaaa</BeamRestraintsEnd>"]
["<NumbLateralRestraints>0</NumbLateralRestraints>"]
["<Angle>0</Angle>"]
["<Angle_profile>0</Angle_profile>"]
["<Profile_number>2</Profile_number>"]
["<Z>0</Z>"]
["<Top_Center_Bottom>Center</Top_Center_Bottom>"]
["<Number>4</Number>"]
["<Beamgroupnumber>4</Beamgroupnumber>"]
["<From_node_number>4</From_node_number>"]
["<To_node_number>1</To_node_number>"]
["<BeamRestraintsBegin>aaaaaa</BeamRestraintsBegin>"]
["<BeamRestraintsEnd>aaaaaa</BeamRestraintsEnd>"]
["<NumbLateralRestraints>0</NumbLateralRestraints>"]
["<Angle>0</Angle>"]
["<Angle_profile>0</Angle_profile>"]
["<Profile_number>1</Profile_number>"]
["<Z>0</Z>"]
["<Top_Center_Bottom>Center</Top_Center_Bottom>"]
["<Number>5</Number>"]
["<Beamgroupnumber>5</Beamgroupnumber>"]
["<From_node_number>2</From_node_number>"]
["<To_node_number>5</To_node_number>"]
["<BeamRestraintsBegin>aaaaaa</BeamRestraintsBegin>"]
["<BeamRestraintsEnd>aaaaaa</BeamRestraintsEnd>"]
["<NumbLateralRestraints>0</NumbLateralRestraints>"]
["<Angle>0</Angle>"]
["<Angle_profile>0</Angle_profile>"]
["<Profile_number>1</Profile_number>"]
["<Z>0</Z>"]
["<Top_Center_Bottom>Center</Top_Center_Bottom>"]
["<Number>6</Number>"]
["<Beamgroupnumber>6</Beamgroupnumber>"]
["<From_node_number>7</From_node_number>"]
["<To_node_number>8</To_node_number>"]
["<BeamRestraintsBegin>aaaaaa</BeamRestraintsBegin>"]
["<BeamRestraintsEnd>aaaaaa</BeamRestraintsEnd>"]
["<NumbLateralRestraints>0</NumbLateralRestraints>"]
["<Angle>0</Angle>"]
["<Angle_profile>0</Angle_profile>"]
["<Profile_number>1</Profile_number>"]
["<Z>0</Z>"]
["<Top_Center_Bottom>Center</Top_Center_Bottom>"]
["<Number>7</Number>"]
["<Beamgroupnumber>7</Beamgroupnumber>"]
["<From_node_number>8</From_node_number>"]
["<To_node_number>6</To_node_number>"]
["<BeamRestraintsBegin>aaaaaa</BeamRestraintsBegin>"]
["<BeamRestraintsEnd>aaaaaa</BeamRestraintsEnd>"]
["<NumbLateralRestraints>0</NumbLateralRestraints>"]
["<Angle>0</Angle>"]
["<Angle_profile>0</Angle_profile>"]
["<Profile_number>2</Profile_number>"]
["<Z>0</Z>"]
["<Top_Center_Bottom>Center</Top_Center_Bottom>"]
["</Beams>"]
["<LoadCases>"]
["<Number>1</Number>"]
["<Description>Dead load</Description>"]
["<Type>0</Type>"]
["<psi0>1</psi0>"]
["<psi1>1</psi1>"]
["<psi2>1</psi2>"]
["<Number>2</Number>"]
["<Description>Q rand q</Description>"]
["<Type>1</Type>"]
["<psi0>0,4</psi0>"]
["<psi1>0,5</psi1>"]
["<psi2>0,3</psi2>"]
["<Number>3</Number>"]
["<Description>Q rand F</Description>"]
["<Type>1</Type>"]
["<psi0>0,4</psi0>"]
["<psi1>0,5</psi1>"]
["<psi2>0,3</psi2>"]
["</LoadCases>"]
["<BeamLoads>"]
["<LoadCaseNumber>2</LoadCaseNumber>"]
["<BeamNumber>3</BeamNumber>"]
["<Description/>"]
["<Type>1</Type>"]
["<Coordinate_system>Local</Coordinate_system>"]
["<Direction>Y</Direction>"]
[{"$f":"'HEK1'!R15","v":"<Load1>-0,5</Load1>"}]
[{"$f":"'HEK1'!R16","v":"<Load2>-0,5</Load2>"}]
["<a>0</a>"]
["<bL>False</bL>"]
[{"$f":"'HEK1'!R17","v":"<L>2000</L>"}]
["<angle>0</angle>"]
["<LoadCaseNumber>2</LoadCaseNumber>"]
["<BeamNumber>2</BeamNumber>"]
["<Description/>"]
["<Type>1</Type>"]
["<Coordinate_system>Local</Coordinate_system>"]
["<Direction>Y</Direction>"]
[{"$f":"A288","v":"<Load1>-0,5</Load1>"}]
[{"$f":"A289","v":"<Load2>-0,5</Load2>"}]
["<a>0</a>"]
["<bL>False</bL>"]
[{"$f":"A292","v":"<L>2000</L>"}]
["<angle>0</angle>"]
["<LoadCaseNumber>2</LoadCaseNumber>"]
["<BeamNumber>7</BeamNumber>"]
["<Description/>"]
["<Type>1</Type>"]
["<Coordinate_system>Local</Coordinate_system>"]
["<Direction>Y</Direction>"]
[{"$f":"A300","v":"<Load1>-0,5</Load1>"}]
[{"$f":"A301","v":"<Load2>-0,5</Load2>"}]
["<a>0</a>"]
["<bL>False</bL>"]
[{"$f":"A304","v":"<L>2000</L>"}]
["<angle>0</angle>"]
["</BeamLoads>"]
["<NodeLoads>"]
["<LoadCaseNumber>3</LoadCaseNumber>"]
["<NodeNumber>4</NodeNumber>"]
["<Description/>"]
[{"$f":"'HEK1'!R18","v":"<Fx>-1</Fx>"}]
["<Fy>0</Fy>"]
["<Fz>0</Fz>"]
["<Mx>0</Mx>"]
["<My>0</My>"]
["<Mz>0</Mz>"]
["<LoadCaseNumber>3</LoadCaseNumber>"]
["<NodeNumber>5</NodeNumber>"]
["<Description/>"]
[{"$f":"A323","v":"<Fx>-1</Fx>"}]
["<Fy>0</Fy>"]
["<Fz>0</Fz>"]
["<Mx>0</Mx>"]
["<My>0</My>"]
["<Mz>0</Mz>"]
["<LoadCaseNumber>3</LoadCaseNumber>"]
["<NodeNumber>6</NodeNumber>"]
["<Description/>"]
[{"$f":"A332","v":"<Fx>-1</Fx>"}]
["<Fy>0</Fy>"]
["<Fz>0</Fz>"]
["<Mx>0</Mx>"]
["<My>0</My>"]
["<Mz>0</Mz>"]
["<LoadCaseNumber>3</LoadCaseNumber>"]
["<NodeNumber>8</NodeNumber>"]
["<Description/>"]
[{"$f":"A341","v":"<Fx>-1</Fx>"}]
["<Fy>0</Fy>"]
["<Fz>0</Fz>"]
["<Mx>0</Mx>"]
["<My>0</My>"]
["<Mz>0</Mz>"]
["</NodeLoads>"]
["<Combinations>"]
["<LoadCombinationNumber>1</LoadCombinationNumber>"]
["<Description>Dead load</Description>"]
["<CombTyp>0</CombTyp>"]
["<Case>1</Case>"]
["<Psi>1</Psi>"]
["<Gamma>1,22</Gamma>"]
["<Case>2</Case>"]
["<Psi>0,4</Psi>"]
["<Gamma>1,35</Gamma>"]
["<Case>3</Case>"]
["<Psi>0,4</Psi>"]
["<Gamma>1,35</Gamma>"]
["<LoadCombinationNumber>2</LoadCombinationNumber>"]
["<Description>Q rand q</Description>"]
["<CombTyp>0</CombTyp>"]
["<Case>1</Case>"]
["<Psi>1</Psi>"]
["<Gamma>1,08</Gamma>"]
["<Case>2</Case>"]
["<Psi>1</Psi>"]
["<Gamma>1,35</Gamma>"]
["<Case>3</Case>"]
["<Psi>0,4</Psi>"]
["<Gamma>1,35</Gamma>"]
["<LoadCombinationNumber>3</LoadCombinationNumber>"]
["<Description>Live load</Description>"]
["<CombTyp>0</CombTyp>"]
["<Case>1</Case>"]
["<Psi>1</Psi>"]
["<Gamma>1,08</Gamma>"]
["<Case>2</Case>"]
["<Psi>0,4</Psi>"]
["<Gamma>1,35</Gamma>"]
["<Case>3</Case>"]
["<Psi>1</Psi>"]
["<Gamma>1,35</Gamma>"]
["<LoadCombinationNumber>4</LoadCombinationNumber>"]
["<Description>Dead load</Description>"]
["<CombTyp>3</CombTyp>"]
["<Case>1</Case>"]
["<Psi>1</Psi>"]
["<Gamma>1</Gamma>"]
["<Case>2</Case>"]
["<Psi>0,4</Psi>"]
["<Gamma>1</Gamma>"]
["<Case>3</Case>"]
["<Psi>0,4</Psi>"]
["<Gamma>1</Gamma>"]
["<LoadCombinationNumber>5</LoadCombinationNumber>"]
["<Description>Q rand q</Description>"]
["<CombTyp>3</CombTyp>"]
["<Case>1</Case>"]
["<Psi>1</Psi>"]
["<Gamma>1</Gamma>"]
["<Case>2</Case>"]
["<Psi>1</Psi>"]
["<Gamma>1</Gamma>"]
["<Case>3</Case>"]
["<Psi>0,4</Psi>"]
["<Gamma>1</Gamma>"]
["<LoadCombinationNumber>6</LoadCombinationNumber>"]
["<Description>Live load</Description>"]
["<CombTyp>3</CombTyp>"]
["<Case>1</Case>"]
["<Psi>1</Psi>"]
["<Gamma>1</Gamma>"]
["<Case>2</Case>"]
["<Psi>0,4</Psi>"]
["<Gamma>1</Gamma>"]
["<Case>3</Case>"]
["<Psi>1</Psi>"]
["<Gamma>1</Gamma>"]
["<LoadCombinationNumber>7</LoadCombinationNumber>"]
["<Description>SLS Permanent</Description>"]
["<CombTyp>4</CombTyp>"]
["<Case>1</Case>"]
["<Psi>1</Psi>"]
["<Gamma>1</Gamma>"]
["<LoadCombinationNumber>8</LoadCombinationNumber>"]
["<Description>SLS Quasi-permanent</Description>"]
["<CombTyp>2</CombTyp>"]
["<Case>1</Case>"]
["<Psi>1</Psi>"]
["<Gamma>1</Gamma>"]
["<Case>2</Case>"]
["<Psi>0,3</Psi>"]
["<Gamma>1</Gamma>"]
["<Case>3</Case>"]
["<Psi>0,3</Psi>"]
["<Gamma>1</Gamma>"]
["</Combinations>"]
["<RebarLongitudinal/>"]
["<RebarStirrup/>"]
["<Layers>"]
["<Layer_number>1</Layer_number>"]
["<Layer_description>Layer 1</Layer_description>"]
["<Layer_number>2</Layer_number>"]
["<Layer_description>Layer 2</Layer_description>"]
["</Layers>"]
["</Frame>"]

{"sheet":"KELD1_XML","index":26,"n_rows":345,"n_cols":1,"rows_kept":345,"cut":false,"hidden":true,"merged":[]}
["<Frame>"]
[{"$f":"\"<ProjectName>\" & INHOUD!C13 & \"</ProjectName>\"","v":"<ProjectName>Test project</ProjectName>"}]
[{"$f":"\"<ProjectNumber>\" & INHOUD!C12 & \"</ProjectNumber>\"","v":"<ProjectNumber>0</ProjectNumber>"}]
[{"$f":"\"<ConsequenceClass>\"& INHOUD!C14 & \"</ConsequenceClass>\"","v":"<ConsequenceClass>CC2</ConsequenceClass>"}]
["<DesignWorkingLife>50</DesignWorkingLife>"]
["<ExportDateTime>2024-05-17 19:59:31Z</ExportDateTime>"]
["<XMLExportVersion>v4.0.30319</XMLExportVersion>"]
["<Nodes>"]
["<Number>1</Number>"]
[{"$f":"KELD1!R6","v":"<X>8000</X>"}]
["<Y>0</Y>"]
["<Z>0</Z>"]
["<Number>2</Number>"]
["<X>0</X>"]
["<Y>0</Y>"]
["<Z>0</Z>"]
["<Number>3</Number>"]
["<X>0</X>"]
[{"$f":"KELD1!R7","v":"<Y>3500</Y>"}]
["<Z>0</Z>"]
["<Number>4</Number>"]
[{"$f":"A10","v":"<X>8000</X>"}]
[{"$f":"A19","v":"<Y>3500</Y>"}]
["<Z>0</Z>"]
["<Number>154</Number>"]
["<X>0</X>"]
[{"$f":"A23","v":"<Y>3500</Y>"}]
[{"$f":"KELD1!R8","v":"<Z>3500</Z>"}]
["<Number>155</Number>"]
[{"$f":"A22","v":"<X>8000</X>"}]
[{"$f":"A23","v":"<Y>3500</Y>"}]
[{"$f":"A28","v":"<Z>3500</Z>"}]
["<Number>622</Number>"]
["<X>0</X>"]
["<Y>0</Y>"]
[{"$f":"A32","v":"<Z>3500</Z>"}]
["<Number>623</Number>"]
[{"$f":"A30","v":"<X>8000</X>"}]
["<Y>0</Y>"]
[{"$f":"A32","v":"<Z>3500</Z>"}]
["</Nodes>"]
["<Supports>"]
["<Number>1</Number>"]
["<Nodenumber>3</Nodenumber>"]
["<Tx>A</Tx>"]
["<Ty>A</Ty>"]
["<Tz> </Tz>"]
["<Rx> </Rx>"]
["<Ry> </Ry>"]
["<Rz> </Rz>"]
["<Kx>0</Kx>"]
["<Ky>0</Ky>"]
["<Kz>0</Kz>"]
["<Cx>0</Cx>"]
["<Cy>0</Cy>"]
["<Cz>0</Cz>"]
["<dx>0</dx>"]
["<dy>0</dy>"]
["<dz>0</dz>"]
["<Number>2</Number>"]
["<Nodenumber>4</Nodenumber>"]
["<Tx>A</Tx>"]
["<Ty>A</Ty>"]
["<Tz> </Tz>"]
["<Rx> </Rx>"]
["<Ry> </Ry>"]
["<Rz> </Rz>"]
["<Kx>0</Kx>"]
["<Ky>0</Ky>"]
["<Kz>0</Kz>"]
["<Cx>0</Cx>"]
["<Cy>0</Cy>"]
["<Cz>0</Cz>"]
["<dx>0</dx>"]
["<dy>0</dy>"]
["<dz>0</dz>"]
["</Supports>"]
["<Grids>"]
[{"$f":"KELD1!R12","v":"<X> 0 8000</X>"}]
["<X_Lable>"]
["A B C D E F G H I J K L M N O P Q R S T U V W X Y Z"]
["</X_Lable>"]
[{"$f":"KELD1!R13","v":"<Y> 0 3500</Y>"}]
["<Y_Lable>"]
["1 2 3 4 5 6 7 8 9 10 11 12 13 14 15 16 17 18 19 20 21 22 23 24 25"]
["</Y_Lable>"]
["<Z>0</Z>"]
["<Z_Lable>+0</Z_Lable>"]
["</Grids>"]
["<Profiles/>"]
["<Plates>"]
["<Number>1</Number>"]
["<Node>1</Node>"]
["<Node>2</Node>"]
["<Node>3</Node>"]
["<Node>4</Node>"]
[{"$f":"KELD1!R10","v":"<h>500</h>"}]
["<Material_type>Concrete</Material_type>"]
[{"$f":"KELD1!R9","v":"<Material>C30/37</Material>"}]
["<Z>0</Z>"]
["<Top_Center_Bottom>Center</Top_Center_Bottom>"]
["<Number>2</Number>"]
["<Node>154</Node>"]
["<Node>3</Node>"]
["<Node>4</Node>"]
["<Node>155</Node>"]
[{"$f":"KELD1!R11","v":"<h>200</h>"}]
["<Material_type>Concrete</Material_type>"]
[{"$f":"KELD1!R9","v":"<Material>C30/37</Material>"}]
["<Z>0</Z>"]
["<Top_Center_Bottom>Center</Top_Center_Bottom>"]
["<Number>3</Number>"]
["<Node>2</Node>"]
["<Node>622</Node>"]
["<Node>623</Node>"]
["<Node>1</Node>"]
[{"$f":"A107","v":"<h>200</h>"}]
["<Material_type>Concrete</Material_type>"]
[{"$f":"KELD1!R9","v":"<Material>C30/37</Material>"}]
["<Z>0</Z>"]
["<Top_Center_Bottom>Center</Top_Center_Bottom>"]
["<Number>4</Number>"]
["<Node>3</Node>"]
["<Node>154</Node>"]
["<Node>622</Node>"]
["<Node>2</Node>"]
[{"$f":"A117","v":"<h>200</h>"}]
["<Material_type>Concrete</Material_type>"]
[{"$f":"A119","v":"<Material>C30/37</Material>"}]
["<Z>0</Z>"]
["<Top_Center_Bottom>Center</Top_Center_Bottom>"]
["<Number>5</Number>"]
["<Node>1</Node>"]
["<Node>623</Node>"]
["<Node>155</Node>"]
["<Node>4</Node>"]
[{"$f":"A127","v":"<h>200</h>"}]
["<Material_type>Concrete</Material_type>"]
[{"$f":"A129","v":"<Material>C30/37</Material>"}]
["<Z>0</Z>"]
["<Top_Center_Bottom>Center</Top_Center_Bottom>"]
["</Plates>"]
["<LoadCases>"]
["<Number>1</Number>"]
["<Description>Dead load</Description>"]
["<Type>0</Type>"]
["<psi0>1</psi0>"]
["<psi1>1</psi1>"]
["<psi2>1</psi2>"]
["<Number>2</Number>"]
["<Description>Live load</Description>"]
["<Type>5</Type>"]
["<psi0>1</psi0>"]
["<psi1>0,9</psi1>"]
["<psi2>0,8</psi2>"]
["</LoadCases>"]
["<SurfaceLoads>"]
["<LoadCaseNumber>2</LoadCaseNumber>"]
["<Number>1</Number>"]
["<Description/>"]
["<NodeX>0</NodeX>"]
["<NodeY>0</NodeY>"]
["<NodeZ>0</NodeZ>"]
[{"$f":"KELD1!R14","v":"<NodeX>8000</NodeX>"}]
["<NodeY>0</NodeY>"]
["<NodeZ>0</NodeZ>"]
[{"$f":"A164","v":"<NodeX>8000</NodeX>"}]
[{"$f":"KELD1!R15","v":"<NodeY>3500</NodeY>"}]
["<NodeZ>0</NodeZ>"]
["<NodeX>0</NodeX>"]
[{"$f":"A168","v":"<NodeY>3500</NodeY>"}]
["<NodeZ>0</NodeZ>"]
["<Coordinate_system>Local</Coordinate_system>"]
["<Direction>Z</Direction>"]
["<LoadBearingDirection>X</LoadBearingDirection>"]
[{"$f":"KELD1!R16","v":"<q1>-15</q1>"}]
["<q2>0</q2>"]
["<q3>0</q3>"]
["<LoadConstantOrLinear>constant</LoadConstantOrLinear>"]
["<iq1>-1</iq1>"]
["<iq2>-1</iq2>"]
["<iq3>-1</iq3>"]
["<LoadCaseNumber>2</LoadCaseNumber>"]
["<Number>2</Number>"]
["<Description/>"]
["<NodeX>0</NodeX>"]
["<NodeY>0</NodeY>"]
["<NodeZ>0</NodeZ>"]
["<NodeX>0</NodeX>"]
["<NodeY>0</NodeY>"]
[{"$f":"KELD1!R19","v":"<NodeZ>1500</NodeZ>"}]
[{"$f":"KELD1!R14","v":"<NodeX>8000</NodeX>"}]
["<NodeY>0</NodeY>"]
[{"$f":"KELD1!R19","v":"<NodeZ>1500</NodeZ>"}]
[{"$f":"KELD1!R14","v":"<NodeX>8000</NodeX>"}]
["<NodeY>0</NodeY>"]
["<NodeZ>0</NodeZ>"]
["<Coordinate_system>Local</Coordinate_system>"]
["<Direction>Z</Direction>"]
["<LoadBearingDirection>X</LoadBearingDirection>"]
[{"$f":"KELD1!R16","v":"<q1>-15</q1>"}]
["<q2>0</q2>"]
["<q3>0</q3>"]
["<LoadConstantOrLinear>linear</LoadConstantOrLinear>"]
["<iq1>3</iq1>"]
["<iq2>2</iq2>"]
["<iq3>1</iq3>"]
["<LoadCaseNumber>2</LoadCaseNumber>"]
["<Number>3</Number>"]
["<Description/>"]
["<NodeX>0</NodeX>"]
[{"$f":"KELD1!R15","v":"<NodeY>3500</NodeY>"}]
[{"$f":"A191","v":"<NodeZ>1500</NodeZ>"}]
["<NodeX>0</NodeX>"]
[{"$f":"A212","v":"<NodeY>3500</NodeY>"}]
["<NodeZ>0</NodeZ>"]
[{"$f":"A195","v":"<NodeX>8000</NodeX>"}]
[{"$f":"A215","v":"<NodeY>3500</NodeY>"}]
["<NodeZ>0</NodeZ>"]
[{"$f":"A217","v":"<NodeX>8000</NodeX>"}]
[{"$f":"A218","v":"<NodeY>3500</NodeY>"}]
[{"$f":"A194","v":"<NodeZ>1500</NodeZ>"}]
["<Coordinate_system>Local</Coordinate_system>"]
["<Direction>Z</Direction>"]
["<LoadBearingDirection>X</LoadBearingDirection>"]
[{"$f":"KELD1!R16","v":"<q1>-15</q1>"}]
["<q2>0</q2>"]
["<q3>0</q3>"]
["<LoadConstantOrLinear>linear</LoadConstantOrLinear>"]
["<iq1>1</iq1>"]
["<iq2>0</iq2>"]
["<iq3>3</iq3>"]
["<LoadCaseNumber>2</LoadCaseNumber>"]
["<Number>4</Number>"]
["<Description/>"]
[{"$f":"A220","v":"<NodeX>8000</NodeX>"}]
["<NodeY>0</NodeY>"]
["<NodeZ>0</NodeZ>"]
[{"$f":"A236","v":"<NodeX>8000</NodeX>"}]
["<NodeY>0</NodeY>"]
[{"$f":"A222","v":"<NodeZ>1500</NodeZ>"}]
[{"$f":"A236","v":"<NodeX>8000</NodeX>"}]
[{"$f":"A218","v":"<NodeY>3500</NodeY>"}]
[{"$f":"A241","v":"<NodeZ>1500</NodeZ>"}]
[{"$f":"A242","v":"<NodeX>8000</NodeX>"}]
[{"$f":"A243","v":"<NodeY>3500</NodeY>"}]
["<NodeZ>0</NodeZ>"]
["<Coordinate_system>Local</Coordinate_system>"]
["<Direction>Z</Direction>"]
["<LoadBearingDirection>X</LoadBearingDirection>"]
[{"$f":"A226","v":"<q1>-15</q1>"}]
["<q2>0</q2>"]
["<q3>0</q3>"]
["<LoadConstantOrLinear>linear</LoadConstantOrLinear>"]
["<iq1>3</iq1>"]
["<iq2>2</iq2>"]
["<iq3>1</iq3>"]
["<LoadCaseNumber>2</LoadCaseNumber>"]
["<Number>5</Number>"]
["<Description/>"]
["<NodeX>0</NodeX>"]
[{"$f":"A246","v":"<NodeY>3500</NodeY>"}]
["<NodeZ>0</NodeZ>"]
["<NodeX>0</NodeX>"]
[{"$f":"A262","v":"<NodeY>3500</NodeY>"}]
[{"$f":"A244","v":"<NodeZ>1500</NodeZ>"}]
["<NodeX>0</NodeX>"]
["<NodeY>0</NodeY>"]
[{"$f":"A266","v":"<NodeZ>1500</NodeZ>"}]
["<NodeX>0</NodeX>"]
["<NodeY>0</NodeY>"]
["<NodeZ>0</NodeZ>"]
["<Coordinate_system>Local</Coordinate_system>"]
["<Direction>Z</Direction>"]
["<LoadBearingDirection>X</LoadBearingDirection>"]
[{"$f":"A251","v":"<q1>-15</q1>"}]
["<q2>0</q2>"]
["<q3>0</q3>"]
["<LoadConstantOrLinear>linear</LoadConstantOrLinear>"]
["<iq1>3</iq1>"]
["<iq2>2</iq2>"]
["<iq3>1</iq3>"]
["</SurfaceLoads>"]
["<Combinations>"]
["<LoadCombinationNumber>1</LoadCombinationNumber>"]
["<Description>Dead load</Description>"]
["<CombTyp>0</CombTyp>"]
["<Case>1</Case>"]
["<Psi>1</Psi>"]
["<Gamma>1,22</Gamma>"]
["<Case>2</Case>"]
["<Psi>1</Psi>"]
["<Gamma>1,35</Gamma>"]
["<LoadCombinationNumber>2</LoadCombinationNumber>"]
["<Description>Live load</Description>"]
["<CombTyp>0</CombTyp>"]
["<Case>1</Case>"]
["<Psi>1</Psi>"]
["<Gamma>1,08</Gamma>"]
["<Case>2</Case>"]
["<Psi>1</Psi>"]
["<Gamma>1,35</Gamma>"]
["<LoadCombinationNumber>3</LoadCombinationNumber>"]
["<Description>Dead load</Description>"]
["<CombTyp>3</CombTyp>"]
["<Case>1</Case>"]
["<Psi>1</Psi>"]
["<Gamma>1</Gamma>"]
["<Case>2</Case>"]
["<Psi>1</Psi>"]
["<Gamma>1</Gamma>"]
["<LoadCombinationNumber>4</LoadCombinationNumber>"]
["<Description>Live load</Description>"]
["<CombTyp>3</CombTyp>"]
["<Case>1</Case>"]
["<Psi>1</Psi>"]
["<Gamma>1</Gamma>"]
["<Case>2</Case>"]
["<Psi>1</Psi>"]
["<Gamma>1</Gamma>"]
["<LoadCombinationNumber>5</LoadCombinationNumber>"]
["<Description>SLS Permanent</Description>"]
["<CombTyp>4</CombTyp>"]
["<Case>1</Case>"]
["<Psi>1</Psi>"]
["<Gamma>1</Gamma>"]
["<LoadCombinationNumber>6</LoadCombinationNumber>"]
["<Description>SLS Quasi-permanent</Description>"]
["<CombTyp>2</CombTyp>"]
["<Case>1</Case>"]
["<Psi>1</Psi>"]
["<Gamma>1</Gamma>"]
["<Case>2</Case>"]
["<Psi>0,8</Psi>"]
["<Gamma>1</Gamma>"]
["</Combinations>"]
["<RebarLongitudinal/>"]
["<RebarStirrup/>"]
["<Layers>"]
["<Layer_number>1</Layer_number>"]
["<Layer_description>Layer 1</Layer_description>"]
["<Layer_number>2</Layer_number>"]
["<Layer_description>Layer 2</Layer_description>"]
["</Layers>"]
["</Frame>"]

{"sheet":"DAK1_XML","index":27,"n_rows":235,"n_cols":1,"rows_kept":235,"cut":false,"hidden":true,"merged":[]}
["<Frame>"]
[{"$f":"\"<ProjectName>\" & INHOUD!C13 & \"</ProjectName>\"","v":"<ProjectName>Test project</ProjectName>"}]
[{"$f":"\"<ProjectNumber>\" & INHOUD!C12 & \"</ProjectNumber>\"","v":"<ProjectNumber>0</ProjectNumber>"}]
[{"$f":"\"<ConsequenceClass>\"& INHOUD!C14 & \"</ConsequenceClass>\"","v":"<ConsequenceClass>CC2</ConsequenceClass>"}]
["<DesignWorkingLife>50</DesignWorkingLife>"]
["<ExportDateTime></ExportDateTime>"]
["<XMLExportVersion>v4.0.30319</XMLExportVersion>"]
["<Nodes>"]
["<Number>1</Number>"]
["<X>0</X>"]
["<Z>0</Z>"]
["<Number>2</Number>"]
[{"$f":"\"<X>\" & 'DAK1'!G6 & \"</X>\"","v":"<X>7000</X>"}]
["<Z>0</Z>"]
["<Number>3</Number>"]
["<X>0</X>"]
[{"$f":"\"<Z>\" & 'DAK1'!G9 & \"</Z>\"","v":"<Z>1500</Z>"}]
["<Number>4</Number>"]
[{"$f":"\"<X>\" & 'DAK1'!G6 & \"</X>\"","v":"<X>7000</X>"}]
[{"$f":"\"<Z>\" & 'DAK1'!G9 & \"</Z>\"","v":"<Z>1500</Z>"}]
["<Number>5</Number>"]
[{"$f":"\"<X>\" &'DAK1'!Q13 & \"</X>\"","v":"<X>855</X>"}]
[{"$f":"\"<Z>\" &'DAK1'!G8 & \"</Z>\"","v":"<Z>2600</Z>"}]
["<Number>6</Number>"]
[{"$f":"\"<X>\" &'DAK1'!Q16 & \"</X>\"","v":"<X>6145</X>"}]
[{"$f":"\"<Z>\" &'DAK1'!G8 & \"</Z>\"","v":"<Z>2600</Z>"}]
["<Number>7</Number>"]
[{"$f":"\"<X>\" &'DAK1'!G6/2 & \"</X>\"","v":"<X>3500</X>"}]
[{"$f":"\"<Z>\" & 'DAK1'!G7& \"</Z>\"","v":"<Z>6000</Z>"}]
["</Nodes>"]
["<Supports>"]
["<Number>1</Number>"]
["<Nodenumber>1</Nodenumber>"]
["<Tx>A</Tx>"]
["<Tz>A</Tz>"]
["<Ry> </Ry>"]
["<Kx>0</Kx>"]
["<Kz>0</Kz>"]
["<Cy>0</Cy>"]
["<dx>1000</dx>"]
["<dz>0</dz>"]
["<Number>2</Number>"]
["<Nodenumber>2</Nodenumber>"]
["<Tx>A</Tx>"]
["<Tz>A</Tz>"]
["<Ry> </Ry>"]
["<Kx>0</Kx>"]
["<Kz>0</Kz>"]
["<Cy>0</Cy>"]
["<dx>1000</dx>"]
["<dz>0</dz>"]
["</Supports>"]
["<Grids>"]
[{"$f":"\"<X> 0 \" & 'DAK1'!G6/2 & \" \" & 'DAK1'!G6/2 & \"</X>\"","v":"<X> 0 3500 3500</X>"}]
["<X_Lable>"]
["A B C D E F G H I J K L M N O P Q R S T U V W X Y Z"]
["</X_Lable>"]
["<Y>0</Y>"]
["<Y_Lable>"]
["1 2 3 4 5 6 7 8 9 10 11 12 13 14 15 16 17 18 19 20 21 22 23 24 25"]
["</Y_Lable>"]
[{"$f":"\"<Z> 0 \" & 'DAK1'!G9 & \" \" & 'DAK1'!G8-'DAK1'!G9 & \" \" & 'DAK1'!G7-'DAK1'!G8 &\"</Z>\"","v":"<Z> 0 1500 1100 3400</Z>"}]
["<Z_Lable/>"]
["</Grids>"]
["<Profiles>"]
["<Number>1</Number>"]
[{"$f":" \"<Profile_name>\" & 'DAK1'!Q19 & \"</Profile_name>\"","v":"<Profile_name>38 x 245</Profile_name>"}]
["<Material_type>2</Material_type>"]
[{"$f":"\"<Material>\" &'DAK1'!G15 & \"</Material>\"","v":"<Material>C24</Material>"}]
["<Angle>0</Angle>"]
["<ServiceClass>0</ServiceClass>"]
["<Profile_shape>6</Profile_shape>"]
["<h>0</h>"]
[{"$f":"\"<b>\" & 'DAK1'!G13 & \"</b>\"","v":"<b>38</b>"}]
[{"$f":"\"<tf>\" & 'DAK1'!G14 & \"</tf>\"","v":"<tf>245</tf>"}]
["<tw>0</tw>"]
["<r1>0</r1>"]
["<r2>0</r2>"]
["<slope>0</slope>"]
["</Profiles>"]
["<Beamgroup>"]
["<Number>1</Number>"]
["<Startnode>1</Startnode>"]
["<Endnode>2</Endnode>"]
["<Number>2</Number>"]
["<Startnode>2</Startnode>"]
["<Endnode>3</Endnode>"]
["<Number>3</Number>"]
["<Startnode>3</Startnode>"]
["<Endnode>4</Endnode>"]
["<Number>4</Number>"]
["<Startnode>5</Startnode>"]
["<Endnode>4</Endnode>"]
["<Number>5</Number>"]
["<Startnode>6</Startnode>"]
["<Endnode>7</Endnode>"]
["</Beamgroup>"]
["<Beams>"]
["<Number>1</Number>"]
["<Beamgroupnumber>1</Beamgroupnumber>"]
["<From_node_number>1</From_node_number>"]
["<To_node_number>3</To_node_number>"]
["<Type>1</Type>"]
["<TypeLoad>2</TypeLoad>"]
["<NumbLateralRestraints>0</NumbLateralRestraints>"]
["<Angle_profile>0</Angle_profile>"]
["<Profile_number>1</Profile_number>"]
["<Number>2</Number>"]
["<Beamgroupnumber>2</Beamgroupnumber>"]
["<From_node_number>2</From_node_number>"]
["<To_node_number>4</To_node_number>"]
["<Type>1</Type>"]
["<TypeLoad>3</TypeLoad>"]
["<NumbLateralRestraints>0</NumbLateralRestraints>"]
["<Angle_profile>0</Angle_profile>"]
["<Profile_number>1</Profile_number>"]
["<Number>3</Number>"]
["<Beamgroupnumber>3</Beamgroupnumber>"]
["<From_node_number>5</From_node_number>"]
["<To_node_number>6</To_node_number>"]
["<Type>3</Type>"]
["<TypeLoad>1</TypeLoad>"]
["<NumbLateralRestraints>0</NumbLateralRestraints>"]
["<Angle_profile>0</Angle_profile>"]
["<Profile_number>1</Profile_number>"]
["<Number>4</Number>"]
["<Beamgroupnumber>4</Beamgroupnumber>"]
["<From_node_number>3</From_node_number>"]
["<To_node_number>7</To_node_number>"]
["<Type>1</Type>"]
["<TypeLoad>4</TypeLoad>"]
["<NumbLateralRestraints>4</NumbLateralRestraints>"]
["<Angle_profile>0</Angle_profile>"]
["<Profile_number>1</Profile_number>"]
["<Number>5</Number>"]
["<Beamgroupnumber>5</Beamgroupnumber>"]
["<From_node_number>7</From_node_number>"]
["<To_node_number>4</To_node_number>"]
["<Type>1</Type>"]
["<TypeLoad>4</TypeLoad>"]
["<NumbLateralRestraints>4</NumbLateralRestraints>"]
["<Angle_profile>0</Angle_profile>"]
["<Profile_number>1</Profile_number>"]
["</Beams>"]
["<LoadCases>"]
["<Number>1</Number>"]
["<Description>Permanent</Description>"]
["<Type>0</Type>"]
["<psi0>1</psi0>"]
["<psi1>1</psi1>"]
["<psi2>1</psi2>"]
["<Number>2</Number>"]
["<Description>Veranderlijk</Description>"]
["<Type>1</Type>"]
["<psi0>0,4</psi0>"]
["<psi1>0,5</psi1>"]
["<psi2>0,3</psi2>"]
["</LoadCases>"]
["<BeamLoads>"]
["<LoadCaseNumber>1</LoadCaseNumber>"]
["<BeamNumber>3</BeamNumber>"]
["<Description/>"]
["<Type>1</Type>"]
[{"$f":"\"<Load1>\" & \"-\" & 'DAK1'!Q22 & \"</Load1>\"","v":"<Load1>-0,2745</Load1>"}]
[{"$f":"\"<Load2>\" & \"-\" & 'DAK1'!Q22 & \"</Load2>\"","v":"<Load2>-0,2745</Load2>"}]
["<a>0</a>"]
["<bL>False</bL>"]
[{"$f":"\"<L>\" & 'DAK1'!Q18 & \"</L>\"","v":"<L>5290</L>"}]
["<angle>0</angle>"]
["<LoadCaseNumber>1</LoadCaseNumber>"]
["<BeamNumber>4</BeamNumber>"]
["<Description/>"]
["<Type>1</Type>"]
[{"$f":"\"<Load1>\" & \"-\" & 'DAK1'!Q21 & \"</Load1>\"","v":"<Load1>-0,4087</Load1>"}]
[{"$f":"\"<Load2>\" & \"-\" & 'DAK1'!Q21 & \"</Load2>\"","v":"<Load2>-0,4087</Load2>"}]
["<a>0</a>"]
["<bL>False</bL>"]
[{"$f":"\"<L>\" & 'DAK1'!Q9 & \"</L>\"","v":"<L>5700</L>"}]
[{"$f":"\"<angle>-\" & 'DAK1'!Q8 & \"</angle>\"","v":"<angle>-52,1250163489018</angle>"}]
["<LoadCaseNumber>1</LoadCaseNumber>"]
["<BeamNumber>5</BeamNumber>"]
["<Description/>"]
["<Type>1</Type>"]
[{"$f":"\"<Load1>\" & \"-\" & 'DAK1'!Q21 & \"</Load1>\"","v":"<Load1>-0,4087</Load1>"}]
[{"$f":"\"<Load2>\" & \"-\" & 'DAK1'!Q21 & \"</Load2>\"","v":"<Load2>-0,4087</Load2>"}]
["<a>0</a>"]
["<bL>False</bL>"]
[{"$f":"\"<L>\" & 'DAK1'!Q9 & \"</L>\"","v":"<L>5700</L>"}]
[{"$f":"\"<angle>\" & 'DAK1'!Q8 & \"</angle>\"","v":"<angle>52,1250163489018</angle>"}]
["</BeamLoads>"]
["<Combinations>"]
["<LoadCombinationNumber>1</LoadCombinationNumber>"]
["<Description>Combinatie1 (6.10a)</Description>"]
["<CombTyp>0</CombTyp>"]
["<Case>1</Case>"]
["<Psi>1</Psi>"]
["<Gamma>1,22</Gamma>"]
["<Case>2</Case>"]
["<Psi>0,4</Psi>"]
["<Gamma>1,35</Gamma>"]
["<LoadCombinationNumber>2</LoadCombinationNumber>"]
["<Description>Combinatie2 (6.10b)</Description>"]
["<CombTyp>0</CombTyp>"]
["<Case>1</Case>"]
["<Psi>1</Psi>"]
["<Gamma>1,08</Gamma>"]
["<Case>2</Case>"]
["<Psi>1</Psi>"]
["<Gamma>1,35</Gamma>"]
["<LoadCombinationNumber>3</LoadCombinationNumber>"]
["<Description>BGT Blijvend</Description>"]
["<CombTyp>4</CombTyp>"]
["<Case>1</Case>"]
["<Psi>1</Psi>"]
["<Gamma>1</Gamma>"]
["<LoadCombinationNumber>4</LoadCombinationNumber>"]
["<Description>BGT Quasi blijvend</Description>"]
["<CombTyp>2</CombTyp>"]
["<Case>1</Case>"]
["<Psi>1</Psi>"]
["<Gamma>1</Gamma>"]
["<Case>2</Case>"]
["<Psi>0,3</Psi>"]
["<Gamma>1</Gamma>"]
["<LoadCombinationNumber>5</LoadCombinationNumber>"]
["<Description>Combinatie</Description>"]
["<CombTyp>3</CombTyp>"]
["<Case>1</Case>"]
["<Psi>1</Psi>"]
["<Gamma>1</Gamma>"]
["<Case>2</Case>"]
["<Psi>1</Psi>"]
["<Gamma>1</Gamma>"]
["</Combinations>"]
["</Frame>"]

{"sheet":"DAK2_XML","index":28,"n_rows":219,"n_cols":1,"rows_kept":219,"cut":false,"hidden":true,"merged":[]}
["<Frame>"]
[{"$f":"\"<ProjectName>\" & INHOUD!C13 & \"</ProjectName>\"","v":"<ProjectName>Test project</ProjectName>"}]
[{"$f":"\"<ProjectNumber>\" & INHOUD!C12 & \"</ProjectNumber>\"","v":"<ProjectNumber>0</ProjectNumber>"}]
[{"$f":"\"<ConsequenceClass>\"& INHOUD!C14 & \"</ConsequenceClass>\"","v":"<ConsequenceClass>CC2</ConsequenceClass>"}]
["<DesignWorkingLife>50</DesignWorkingLife>"]
["<ExportDateTime>2023-12-02 13:56:06Z</ExportDateTime>"]
["<XMLExportVersion>v4.0.30319</XMLExportVersion>"]
["<Nodes>"]
["<Number>1</Number>"]
["<X>0</X>"]
["<Z>0</Z>"]
["<Number>2</Number>"]
[{"$f":"\"<X>\" & 'DAK2'!G6 & \"</X>\"","v":"<X>6000</X>"}]
["<Z>0</Z>"]
["<Number>3</Number>"]
[{"$f":"\"<X>\" &'DAK2'!P13 & \"</X>\"","v":"<X>2228</X>"}]
[{"$f":"\"<Z>\" &'DAK2'!G8 & \"</Z>\"","v":"<Z>2600</Z>"}]
["<Number>4</Number>"]
[{"$f":"\"<X>\" &'DAK2'!P16 & \"</X>\"","v":"<X>3772</X>"}]
[{"$f":"\"<Z>\" &'DAK2'!G8 & \"</Z>\"","v":"<Z>2600</Z>"}]
["<Number>5</Number>"]
[{"$f":"\"<X>\" & 'DAK2'!G6/2 & \"</X>\"","v":"<X>3000</X>"}]
[{"$f":"\"<Z>\" & 'DAK2'!G7& \"</Z>\"","v":"<Z>3500</Z>"}]
["</Nodes>"]
["<Supports>"]
["<Number>1</Number>"]
["<Nodenumber>1</Nodenumber>"]
["<Tx>A</Tx>"]
["<Tz>A</Tz>"]
["<Ry> </Ry>"]
["<Kx>0</Kx>"]
["<Kz>0</Kz>"]
["<Cy>0</Cy>"]
["<dx>1000</dx>"]
["<dz>0</dz>"]
["<Number>2</Number>"]
["<Nodenumber>2</Nodenumber>"]
["<Tx>A</Tx>"]
["<Tz>A</Tz>"]
["<Ry> </Ry>"]
["<Kx>0</Kx>"]
["<Kz>0</Kz>"]
["<Cy>0</Cy>"]
["<dx>1000</dx>"]
["<dz>0</dz>"]
["</Supports>"]
["<Grids>"]
[{"$f":"\"<X> 0 \" & 'DAK2'!G6/2 & \" \" & 'DAK2'!G6/2 & \"</X>\"","v":"<X> 0 3000 3000</X>"}]
["<X_Lable>"]
["A B C D E F G H I J K L M N O P Q R S T U V W X Y Z"]
["</X_Lable>"]
["<Y>0</Y>"]
["<Y_Lable>"]
["1 2 3 4 5 6 7 8 9 10 11 12 13 14 15 16 17 18 19 20 21 22 23 24 25"]
["</Y_Lable>"]
[{"$f":"\"<Z> 0 \" & 'DAK2'!G9 & \" \" & 'DAK2'!G8-'DAK2'!G9 & \" \" & 'DAK2'!G7-'DAK2'!G8 &\"</Z>\"","v":"<Z> 0 610 1990 900</Z>"}]
["<Z_Lable/>"]
["</Grids>"]
["<Profiles>"]
["<Number>1</Number>"]
[{"$f":" \"<Profile_name>\" & 'DAK2'!P19 & \"</Profile_name>\"","v":"<Profile_name>38 x 235</Profile_name>"}]
["<Material_type>2</Material_type>"]
[{"$f":"\"<Material>\" &'DAK2'!G16 & \"</Material>\"","v":"<Material>C24</Material>"}]
["<Angle>0</Angle>"]
["<ServiceClass>0</ServiceClass>"]
["<Profile_shape>6</Profile_shape>"]
["<h>0</h>"]
[{"$f":"\"<b>\" & 'DAK2'!G12 & \"</b>\"","v":"<b>38</b>"}]
[{"$f":"\"<tf>\" & 'DAK2'!G13 & \"</tf>\"","v":"<tf>235</tf>"}]
["<tw>0</tw>"]
["<r1>0</r1>"]
["<r2>0</r2>"]
["<slope>0</slope>"]
["<Number>2</Number>"]
[{"$f":" \"<Profile_name>\" & 'DAK2'!P20 & \"</Profile_name>\"","v":"<Profile_name>38 x 184</Profile_name>"}]
["<Material_type>2</Material_type>"]
["<Material>C24</Material>"]
["<Angle>0</Angle>"]
["<ServiceClass>0</ServiceClass>"]
["<Profile_shape>6</Profile_shape>"]
["<h>0</h>"]
[{"$f":"\"<b>\" & 'DAK2'!G14 & \"</b>\"","v":"<b>38</b>"}]
[{"$f":"\"<tf>\" & 'DAK2'!G15 & \"</tf>\"","v":"<tf>184</tf>"}]
["<tw>0</tw>"]
["<r1>0</r1>"]
["<r2>0</r2>"]
["<slope>0</slope>"]
["</Profiles>"]
["<Beamgroup>"]
["<Number>1</Number>"]
["<Startnode>1</Startnode>"]
["<Endnode>5</Endnode>"]
["<Number>2</Number>"]
["<Startnode>5</Startnode>"]
["<Endnode>2</Endnode>"]
["<Number>3</Number>"]
["<Startnode>3</Startnode>"]
["<Endnode>4</Endnode>"]
["</Beamgroup>"]
["<Beams>"]
["<Number>1</Number>"]
["<Beamgroupnumber>1</Beamgroupnumber>"]
["<From_node_number>1</From_node_number>"]
["<To_node_number>5</To_node_number>"]
["<Type>1</Type>"]
["<TypeLoad>4</TypeLoad>"]
["<NumbLateralRestraints>4</NumbLateralRestraints>"]
["<Angle_profile>0</Angle_profile>"]
["<Profile_number>1</Profile_number>"]
["<Number>2</Number>"]
["<Beamgroupnumber>2</Beamgroupnumber>"]
["<From_node_number>5</From_node_number>"]
["<To_node_number>2</To_node_number>"]
["<Type>1</Type>"]
["<TypeLoad>4</TypeLoad>"]
["<NumbLateralRestraints>4</NumbLateralRestraints>"]
["<Angle_profile>0</Angle_profile>"]
["<Profile_number>1</Profile_number>"]
["<Number>3</Number>"]
["<Beamgroupnumber>3</Beamgroupnumber>"]
["<From_node_number>3</From_node_number>"]
["<To_node_number>4</To_node_number>"]
["<Type>3</Type>"]
["<TypeLoad>0</TypeLoad>"]
["<NumbLateralRestraints>0</NumbLateralRestraints>"]
["<Angle_profile>0</Angle_profile>"]
["<Profile_number>2</Profile_number>"]
["</Beams>"]
["<LoadCases>"]
["<Number>1</Number>"]
["<Description>Permanent</Description>"]
["<Type>0</Type>"]
["<psi0>1</psi0>"]
["<psi1>1</psi1>"]
["<psi2>1</psi2>"]
["<Number>2</Number>"]
["<Description>Veranderlijk</Description>"]
["<Type>1</Type>"]
["<psi0>0,4</psi0>"]
["<psi1>0,5</psi1>"]
["<psi2>0,3</psi2>"]
["</LoadCases>"]
["<BeamLoads>"]
["<LoadCaseNumber>1</LoadCaseNumber>"]
["<BeamNumber>1</BeamNumber>"]
["<Description/>"]
["<Type>1</Type>"]
[{"$f":"\"<Load1>\" & \"-\" & 'DAK2'!P21 & \"</Load1>\"","v":"<Load1>-0,4087</Load1>"}]
[{"$f":"\"<Load2>\" & \"-\" & 'DAK2'!P21 & \"</Load2>\"","v":"<Load2>-0,4087</Load2>"}]
["<a>0</a>"]
["<bL>False</bL>"]
[{"$f":"\"<L>\" & 'DAK2'!P9 & \"</L>\"","v":"<L>4609</L>"}]
[{"$f":"\"<angle>-\" & 'DAK2'!P8 & \"</angle>\"","v":"<angle>-49,3987053549955</angle>"}]
["<LoadCaseNumber>1</LoadCaseNumber>"]
["<BeamNumber>2</BeamNumber>"]
["<Description/>"]
["<Type>1</Type>"]
[{"$f":"\"<Load1>\" & \"-\" & 'DAK2'!P21 & \"</Load1>\"","v":"<Load1>-0,4087</Load1>"}]
[{"$f":"\"<Load2>\" & \"-\" & 'DAK2'!P21 & \"</Load2>\"","v":"<Load2>-0,4087</Load2>"}]
["<a>0</a>"]
["<bL>False</bL>"]
[{"$f":"\"<L>\" & 'DAK2'!P9 & \"</L>\"","v":"<L>4609</L>"}]
[{"$f":"\"<angle>\" & 'DAK2'!P8 & \"</angle>\"","v":"<angle>49,3987053549955</angle>"}]
["<LoadCaseNumber>1</LoadCaseNumber>"]
["<BeamNumber>3</BeamNumber>"]
["<Description/>"]
["<Type>1</Type>"]
[{"$f":"\"<Load1>\" & \"-\" & 'DAK2'!P22 & \"</Load1>\"","v":"<Load1>-0,2745</Load1>"}]
[{"$f":"\"<Load2>\" & \"-\" & 'DAK2'!P22 & \"</Load2>\"","v":"<Load2>-0,2745</Load2>"}]
["<a>0</a>"]
["<bL>False</bL>"]
[{"$f":"\"<L>\" & 'DAK2'!P18 & \"</L>\"","v":"<L>1544</L>"}]
["<angle>0</angle>"]
["</BeamLoads>"]
["<Combinations>"]
["<LoadCombinationNumber>1</LoadCombinationNumber>"]
["<Description>Combinatie1 (6.10a)</Description>"]
["<CombTyp>0</CombTyp>"]
["<Case>1</Case>"]
["<Psi>1</Psi>"]
["<Gamma>1,22</Gamma>"]
["<Case>2</Case>"]
["<Psi>0,4</Psi>"]
["<Gamma>1,35</Gamma>"]
["<LoadCombinationNumber>2</LoadCombinationNumber>"]
["<Description>Combinatie2 (6.10b)</Description>"]
["<CombTyp>0</CombTyp>"]
["<Case>1</Case>"]
["<Psi>1</Psi>"]
["<Gamma>1,08</Gamma>"]
["<Case>2</Case>"]
["<Psi>1</Psi>"]
["<Gamma>1,35</Gamma>"]
["<LoadCombinationNumber>3</LoadCombinationNumber>"]
["<Description>BGT Blijvend</Description>"]
["<CombTyp>4</CombTyp>"]
["<Case>1</Case>"]
["<Psi>1</Psi>"]
["<Gamma>1</Gamma>"]
["<LoadCombinationNumber>4</LoadCombinationNumber>"]
["<Description>BGT Quasi blijvend</Description>"]
["<CombTyp>2</CombTyp>"]
["<Case>1</Case>"]
["<Psi>1</Psi>"]
["<Gamma>1</Gamma>"]
["<Case>2</Case>"]
["<Psi>0,3</Psi>"]
["<Gamma>1</Gamma>"]
["<LoadCombinationNumber>5</LoadCombinationNumber>"]
["<Description>Combinatie</Description>"]
["<CombTyp>3</CombTyp>"]
["<Case>1</Case>"]
["<Psi>1</Psi>"]
["<Gamma>1</Gamma>"]
["<Case>2</Case>"]
["<Psi>1</Psi>"]
["<Gamma>1</Gamma>"]
["</Combinations>"]
["</Frame>"]

{"sheet":"DAK3_XML","index":29,"n_rows":518,"n_cols":1,"rows_kept":518,"cut":false,"hidden":true,"merged":[]}
["<Frame>"]
[{"$f":"\"<ProjectName>\" & INHOUD!C13 & \"</ProjectName>\"","v":"<ProjectName>Test project</ProjectName>"}]
[{"$f":"\"<ProjectNumber>\" & INHOUD!C12 & \"</ProjectNumber>\"","v":"<ProjectNumber>0</ProjectNumber>"}]
[{"$f":"\"<ConsequenceClass>\"& INHOUD!C14 & \"</ConsequenceClass>\"","v":"<ConsequenceClass>CC2</ConsequenceClass>"}]
["<DesignWorkingLife>50</DesignWorkingLife>"]
["<ExportDateTime>2024-05-18 21:53:22Z</ExportDateTime>"]
["<XMLExportVersion>v4.0.30319</XMLExportVersion>"]
["<Nodes>"]
["<Number>1</Number>"]
["<X>0</X>"]
[{"$f":"'DAK3'!P8","v":"<Y>5000</Y>"}]
["<Z>0</Z>"]
["<Number>2</Number>"]
[{"$f":"'DAK3'!O7","v":"<X>5000</X>"}]
[{"$f":"A11","v":"<Y>5000</Y>"}]
["<Z>0</Z>"]
["<Number>3</Number>"]
[{"$f":"'DAK3'!O8","v":"<X>6000</X>"}]
[{"$f":"A11","v":"<Y>5000</Y>"}]
["<Z>0</Z>"]
["<Number>4</Number>"]
[{"$f":"'DAK3'!O9","v":"<X>10000</X>"}]
[{"$f":"A19","v":"<Y>5000</Y>"}]
["<Z>0</Z>"]
["<Number>5</Number>"]
[{"$f":"'DAK3'!O10","v":"<X>11000</X>"}]
[{"$f":"A23","v":"<Y>5000</Y>"}]
["<Z>0</Z>"]
["<Number>6</Number>"]
[{"$f":"'DAK3'!O11","v":"<X>15000</X>"}]
[{"$f":"A27","v":"<Y>5000</Y>"}]
["<Z>0</Z>"]
["<Number>7</Number>"]
["<X>0</X>"]
[{"$f":"'DAK3'!P7","v":"<Y>2500</Y>"}]
[{"$f":"'DAK3'!Q7","v":"<Z>2500</Z>"}]
["<Number>8</Number>"]
[{"$f":"A30","v":"<X>15000</X>"}]
[{"$f":"A35","v":"<Y>2500</Y>"}]
[{"$f":"A36","v":"<Z>2500</Z>"}]
["<Number>9</Number>"]
[{"$f":"A14","v":"<X>5000</X>"}]
[{"$f":"A39","v":"<Y>2500</Y>"}]
[{"$f":"A40","v":"<Z>2500</Z>"}]
["<Number>10</Number>"]
[{"$f":"A22","v":"<X>10000</X>"}]
[{"$f":"A43","v":"<Y>2500</Y>"}]
[{"$f":"A44","v":"<Z>2500</Z>"}]
["<Number>11</Number>"]
[{"$f":"A18","v":"<X>6000</X>"}]
[{"$f":"A47","v":"<Y>2500</Y>"}]
[{"$f":"A48","v":"<Z>2500</Z>"}]
["<Number>12</Number>"]
[{"$f":"A26","v":"<X>11000</X>"}]
[{"$f":"A51","v":"<Y>2500</Y>"}]
[{"$f":"A52","v":"<Z>2500</Z>"}]
["<Number>13</Number>"]
["<X>0</X>"]
["<Y>0</Y>"]
[{"$f":"'DAK3'!Q8","v":"<Z>5000</Z>"}]
["<Number>14</Number>"]
[{"$f":"A42","v":"<X>5000</X>"}]
["<Y>0</Y>"]
[{"$f":"A60","v":"<Z>5000</Z>"}]
["<Number>15</Number>"]
[{"$f":"A50","v":"<X>6000</X>"}]
["<Y>0</Y>"]
[{"$f":"A64","v":"<Z>5000</Z>"}]
["<Number>16</Number>"]
[{"$f":"A46","v":"<X>10000</X>"}]
["<Y>0</Y>"]
[{"$f":"A68","v":"<Z>5000</Z>"}]
["<Number>17</Number>"]
[{"$f":"A54","v":"<X>11000</X>"}]
["<Y>0</Y>"]
[{"$f":"A72","v":"<Z>5000</Z>"}]
["<Number>18</Number>"]
[{"$f":"A38","v":"<X>15000</X>"}]
["<Y>0</Y>"]
[{"$f":"A76","v":"<Z>5000</Z>"}]
["</Nodes>"]
["<Supports>"]
["<Number>1</Number>"]
["<Nodenumber>1</Nodenumber>"]
["<Tx> </Tx>"]
["<Ty>A</Ty>"]
["<Tz>A</Tz>"]
["<Rx> </Rx>"]
["<Ry> </Ry>"]
["<Rz> </Rz>"]
["<Kx>0</Kx>"]
["<Ky>0</Ky>"]
["<Kz>0</Kz>"]
["<Cx>0</Cx>"]
["<Cy>0</Cy>"]
["<Cz>0</Cz>"]
["<dx>0</dx>"]
["<dy>0</dy>"]
["<dz>0</dz>"]
["<Number>2</Number>"]
["<Nodenumber>2</Nodenumber>"]
["<Tx> </Tx>"]
["<Ty>A</Ty>"]
["<Tz>A</Tz>"]
["<Rx> </Rx>"]
["<Ry> </Ry>"]
["<Rz> </Rz>"]
["<Kx>0</Kx>"]
["<Ky>0</Ky>"]
["<Kz>0</Kz>"]
["<Cx>0</Cx>"]
["<Cy>0</Cy>"]
["<Cz>0</Cz>"]
["<dx>0</dx>"]
["<dy>0</dy>"]
["<dz>0</dz>"]
["<Number>3</Number>"]
["<Nodenumber>4</Nodenumber>"]
["<Tx> </Tx>"]
["<Ty>A</Ty>"]
["<Tz>A</Tz>"]
["<Rx> </Rx>"]
["<Ry> </Ry>"]
["<Rz> </Rz>"]
["<Kx>0</Kx>"]
["<Ky>0</Ky>"]
["<Kz>0</Kz>"]
["<Cx>0</Cx>"]
["<Cy>0</Cy>"]
["<Cz>0</Cz>"]
["<dx>0</dx>"]
["<dy>0</dy>"]
["<dz>0</dz>"]
["<Number>4</Number>"]
["<Nodenumber>6</Nodenumber>"]
["<Tx>A</Tx>"]
["<Ty>A</Ty>"]
["<Tz>A</Tz>"]
["<Rx> </Rx>"]
["<Ry> </Ry>"]
["<Rz> </Rz>"]
["<Kx>0</Kx>"]
["<Ky>0</Ky>"]
["<Kz>0</Kz>"]
["<Cx>0</Cx>"]
["<Cy>0</Cy>"]
["<Cz>0</Cz>"]
["<dx>0</dx>"]
["<dy>0</dy>"]
["<dz>0</dz>"]
["<Number>5</Number>"]
["<Nodenumber>13</Nodenumber>"]
["<Tx> </Tx>"]
["<Ty>A</Ty>"]
["<Tz>A</Tz>"]
["<Rx> </Rx>"]
["<Ry> </Ry>"]
["<Rz> </Rz>"]
["<Kx>0</Kx>"]
["<Ky>0</Ky>"]
["<Kz>0</Kz>"]
["<Cx>0</Cx>"]
["<Cy>0</Cy>"]
["<Cz>0</Cz>"]
["<dx>0</dx>"]
["<dy>0</dy>"]
["<dz>0</dz>"]
["<Number>6</Number>"]
["<Nodenumber>14</Nodenumber>"]
["<Tx> </Tx>"]
["<Ty>A</Ty>"]
["<Tz>A</Tz>"]
["<Rx> </Rx>"]
["<Ry> </Ry>"]
["<Rz> </Rz>"]
["<Kx>0</Kx>"]
["<Ky>0</Ky>"]
["<Kz>0</Kz>"]
["<Cx>0</Cx>"]
["<Cy>0</Cy>"]
["<Cz>0</Cz>"]
["<dx>0</dx>"]
["<dy>0</dy>"]
["<dz>0</dz>"]
["<Number>7</Number>"]
["<Nodenumber>16</Nodenumber>"]
["<Tx> </Tx>"]
["<Ty>A</Ty>"]
["<Tz>A</Tz>"]
["<Rx> </Rx>"]
["<Ry> </Ry>"]
["<Rz> </Rz>"]
["<Kx>0</Kx>"]
["<Ky>0</Ky>"]
["<Kz>0</Kz>"]
["<Cx>0</Cx>"]
["<Cy>0</Cy>"]
["<Cz>0</Cz>"]
["<dx>0</dx>"]
["<dy>0</dy>"]
["<dz>0</dz>"]
["<Number>8</Number>"]
["<Nodenumber>18</Nodenumber>"]
["<Tx>A</Tx>"]
["<Ty>A</Ty>"]
["<Tz>A</Tz>"]
["<Rx> </Rx>"]
["<Ry> </Ry>"]
["<Rz> </Rz>"]
["<Kx>0</Kx>"]
["<Ky>0</Ky>"]
["<Kz>0</Kz>"]
["<Cx>0</Cx>"]
["<Cy>0</Cy>"]
["<Cz>0</Cz>"]
["<dx>0</dx>"]
["<dy>0</dy>"]
["<dz>0</dz>"]
["</Supports>"]
["<Grids>"]
[{"$f":"'DAK3'!O13","v":"<X>0 5000 1000 4000 5000</X>"}]
["<X_Lable>"]
["A B C D E F G H I J K L M N O P Q R S T U V W X Y Z"]
["</X_Lable>"]
[{"$f":"'DAK3'!O14","v":"<Y>0 5000</Y>"}]
["<Y_Lable>"]
["1 2 3 4 5 6 7 8 9 10 11 12 13 14 15 16 17 18 19 20 21 22 23 24 25"]
["</Y_Lable>"]
[{"$f":"'DAK3'!O15","v":"<Z>0 5000</Z>"}]
["<Z_Lable>+0</Z_Lable>"]
["</Grids>"]
["<Profiles>"]
["<Number>1</Number>"]
[{"$f":"'DAK3'!O17","v":"<Profile_name>IPE200</Profile_name>"}]
["<Material_type>0</Material_type>"]
["<Material>S 235</Material>"]
["<Angle>0</Angle>"]
["<Profile_shape>1</Profile_shape>"]
["<h>200</h>"]
["<b>100</b>"]
["<tf>8,5</tf>"]
["<tw>5,6</tw>"]
["<r1>0</r1>"]
["<r2>12</r2>"]
["<slope>0</slope>"]
["<Number>2</Number>"]
[{"$f":"'DAK3'!O18","v":"<Profile_name>96 x 246</Profile_name>"}]
["<Material_type>2</Material_type>"]
[{"$f":"'DAK3'!O19","v":"<Material>C24</Material>"}]
["<Angle>0</Angle>"]
["<ServiceClass>0</ServiceClass>"]
["<Profile_shape>6</Profile_shape>"]
[{"$f":"'DAK3'!O20","v":"<h>246</h>"}]
[{"$f":"'DAK3'!O21","v":"<b>96</b>"}]
["<tf>246</tf>"]
["<tw>5,6</tw>"]
["<r1>0</r1>"]
["<r2>12</r2>"]
["<slope>0</slope>"]
["</Profiles>"]
["<Beamgroup>"]
["<Number>1</Number>"]
["<Startnode>11</Startnode>"]
["<Endnode>9</Endnode>"]
["</Beamgroup>"]
["<Beams>"]
["<Number>1</Number>"]
["<Beamgroupnumber>1</Beamgroupnumber>"]
["<From_node_number>1</From_node_number>"]
["<To_node_number>13</To_node_number>"]
["<BeamRestraintsBegin>aaaaaa</BeamRestraintsBegin>"]
["<BeamRestraintsEnd>aaaaaa</BeamRestraintsEnd>"]
["<NumbLateralRestraints>0</NumbLateralRestraints>"]
["<Angle>0</Angle>"]
["<Angle_profile>0</Angle_profile>"]
["<Profile_number>1</Profile_number>"]
["<Z>0</Z>"]
["<Top_Center_Bottom>Center</Top_Center_Bottom>"]
["<Number>2</Number>"]
["<Beamgroupnumber>2</Beamgroupnumber>"]
["<From_node_number>2</From_node_number>"]
["<To_node_number>14</To_node_number>"]
["<BeamRestraintsBegin>aaa </BeamRestraintsBegin>"]
["<BeamRestraintsEnd>aaa </BeamRestraintsEnd>"]
["<NumbLateralRestraints>0</NumbLateralRestraints>"]
["<Angle>0</Angle>"]
["<Angle_profile>0</Angle_profile>"]
["<Profile_number>1</Profile_number>"]
["<Z>0</Z>"]
["<Top_Center_Bottom>Center</Top_Center_Bottom>"]
["<Number>3</Number>"]
["<Beamgroupnumber>3</Beamgroupnumber>"]
["<From_node_number>8</From_node_number>"]
["<To_node_number>12</To_node_number>"]
["<BeamRestraintsBegin>aaaaaa</BeamRestraintsBegin>"]
["<BeamRestraintsEnd>aaaaaa</BeamRestraintsEnd>"]
["<NumbLateralRestraints>0</NumbLateralRestraints>"]
["<Angle>45</Angle>"]
["<Angle_profile>0</Angle_profile>"]
["<Profile_number>2</Profile_number>"]
["<Z>0</Z>"]
["<Top_Center_Bottom>Center</Top_Center_Bottom>"]
["<Number>4</Number>"]
["<Beamgroupnumber>4</Beamgroupnumber>"]
["<From_node_number>12</From_node_number>"]
["<To_node_number>11</To_node_number>"]
["<BeamRestraintsBegin>aaa </BeamRestraintsBegin>"]
["<BeamRestraintsEnd>aaa </BeamRestraintsEnd>"]
["<NumbLateralRestraints>0</NumbLateralRestraints>"]
["<Angle>45</Angle>"]
["<Angle_profile>0</Angle_profile>"]
["<Profile_number>2</Profile_number>"]
["<Z>0</Z>"]
["<Top_Center_Bottom>Center</Top_Center_Bottom>"]
["<Number>5</Number>"]
["<Beamgroupnumber>5</Beamgroupnumber>"]
["<From_node_number>11</From_node_number>"]
["<To_node_number>7</To_node_number>"]
["<BeamRestraintsBegin>aaaaaa</BeamRestraintsBegin>"]
["<BeamRestraintsEnd>aaaaaa</BeamRestraintsEnd>"]
["<NumbLateralRestraints>0</NumbLateralRestraints>"]
["<Angle>45</Angle>"]
["<Angle_profile>0</Angle_profile>"]
["<Profile_number>2</Profile_number>"]
["<Z>0</Z>"]
["<Top_Center_Bottom>Center</Top_Center_Bottom>"]
["<Number>6</Number>"]
["<Beamgroupnumber>6</Beamgroupnumber>"]
["<From_node_number>4</From_node_number>"]
["<To_node_number>16</To_node_number>"]
["<BeamRestraintsBegin>aaa </BeamRestraintsBegin>"]
["<BeamRestraintsEnd>aaa </BeamRestraintsEnd>"]
["<NumbLateralRestraints>0</NumbLateralRestraints>"]
["<Angle>0</Angle>"]
["<Angle_profile>0</Angle_profile>"]
["<Profile_number>1</Profile_number>"]
["<Z>0</Z>"]
["<Top_Center_Bottom>Center</Top_Center_Bottom>"]
["<Number>7</Number>"]
["<Beamgroupnumber>7</Beamgroupnumber>"]
["<From_node_number>6</From_node_number>"]
["<To_node_number>18</To_node_number>"]
["<BeamRestraintsBegin>aaaaaa</BeamRestraintsBegin>"]
["<BeamRestraintsEnd>aaaaaa</BeamRestraintsEnd>"]
["<NumbLateralRestraints>0</NumbLateralRestraints>"]
["<Angle>0</Angle>"]
["<Angle_profile>0</Angle_profile>"]
["<Profile_number>1</Profile_number>"]
["<Z>0</Z>"]
["<Top_Center_Bottom>Center</Top_Center_Bottom>"]
["<Number>8</Number>"]
["<Beamgroupnumber>8</Beamgroupnumber>"]
["<From_node_number>6</From_node_number>"]
["<To_node_number>5</To_node_number>"]
["<BeamRestraintsBegin>aaaaaa</BeamRestraintsBegin>"]
["<BeamRestraintsEnd>aaaaaa</BeamRestraintsEnd>"]
["<NumbLateralRestraints>0</NumbLateralRestraints>"]
["<Angle>0</Angle>"]
["<Angle_profile>45</Angle_profile>"]
["<Profile_number>2</Profile_number>"]
["<Z>0</Z>"]
["<Top_Center_Bottom>Center</Top_Center_Bottom>"]
["<Number>9</Number>"]
["<Beamgroupnumber>9</Beamgroupnumber>"]
["<From_node_number>5</From_node_number>"]
["<To_node_number>3</To_node_number>"]
["<BeamRestraintsBegin>aaa </BeamRestraintsBegin>"]
["<BeamRestraintsEnd>aaa </BeamRestraintsEnd>"]
["<NumbLateralRestraints>0</NumbLateralRestraints>"]
["<Angle>0</Angle>"]
["<Angle_profile>45</Angle_profile>"]
["<Profile_number>2</Profile_number>"]
["<Z>0</Z>"]
["<Top_Center_Bottom>Center</Top_Center_Bottom>"]
["<Number>10</Number>"]
["<Beamgroupnumber>10</Beamgroupnumber>"]
["<From_node_number>3</From_node_number>"]
["<To_node_number>1</To_node_number>"]
["<BeamRestraintsBegin>aaaaaa</BeamRestraintsBegin>"]
["<BeamRestraintsEnd>aaaaaa</BeamRestraintsEnd>"]
["<NumbLateralRestraints>0</NumbLateralRestraints>"]
["<Angle>0</Angle>"]
["<Angle_profile>45</Angle_profile>"]
["<Profile_number>2</Profile_number>"]
["<Z>0</Z>"]
["<Top_Center_Bottom>Center</Top_Center_Bottom>"]
["<Number>11</Number>"]
["<Beamgroupnumber>11</Beamgroupnumber>"]
["<From_node_number>18</From_node_number>"]
["<To_node_number>17</To_node_number>"]
["<BeamRestraintsBegin>aaaaaa</BeamRestraintsBegin>"]
["<BeamRestraintsEnd>aaaaaa</BeamRestraintsEnd>"]
["<NumbLateralRestraints>0</NumbLateralRestraints>"]
["<Angle>0</Angle>"]
["<Angle_profile>45</Angle_profile>"]
["<Profile_number>2</Profile_number>"]
["<Z>0</Z>"]
["<Top_Center_Bottom>Center</Top_Center_Bottom>"]
["<Number>12</Number>"]
["<Beamgroupnumber>12</Beamgroupnumber>"]
["<From_node_number>17</From_node_number>"]
["<To_node_number>15</To_node_number>"]
["<BeamRestraintsBegin>aaa </BeamRestraintsBegin>"]
["<BeamRestraintsEnd>aaa </BeamRestraintsEnd>"]
["<NumbLateralRestraints>0</NumbLateralRestraints>"]
["<Angle>0</Angle>"]
["<Angle_profile>45</Angle_profile>"]
["<Profile_number>2</Profile_number>"]
["<Z>0</Z>"]
["<Top_Center_Bottom>Center</Top_Center_Bottom>"]
["<Number>13</Number>"]
["<Beamgroupnumber>13</Beamgroupnumber>"]
["<From_node_number>15</From_node_number>"]
["<To_node_number>13</To_node_number>"]
["<BeamRestraintsBegin>aaaaaa</BeamRestraintsBegin>"]
["<BeamRestraintsEnd>aaaaaa</BeamRestraintsEnd>"]
["<NumbLateralRestraints>0</NumbLateralRestraints>"]
["<Angle>0</Angle>"]
["<Angle_profile>45</Angle_profile>"]
["<Profile_number>2</Profile_number>"]
["<Z>0</Z>"]
["<Top_Center_Bottom>Center</Top_Center_Bottom>"]
["</Beams>"]
["<LoadCases>"]
["<Number>1</Number>"]
["<Description>Dead load</Description>"]
["<Type>0</Type>"]
["<psi0>1</psi0>"]
["<psi1>1</psi1>"]
["<psi2>1</psi2>"]
["<Number>2</Number>"]
["<Description>Live load</Description>"]
["<Type>8</Type>"]
["<psi0>0</psi0>"]
["<psi1>0</psi1>"]
["<psi2>0</psi2>"]
["</LoadCases>"]
["<BeamLoads/>"]
["<SurfaceLoads>"]
["<LoadCaseNumber>1</LoadCaseNumber>"]
["<Number>1</Number>"]
["<Description/>"]
[{"$f":"'DAK3'!O22","v":"<NodeX>15000</NodeX>"}]
["<NodeY>0</NodeY>"]
[{"$f":"'DAK3'!O24","v":"<NodeZ>5000</NodeZ>"}]
["<NodeX>0</NodeX>"]
["<NodeY>0</NodeY>"]
[{"$f":"A445","v":"<NodeZ>5000</NodeZ>"}]
["<NodeX>0</NodeX>"]
[{"$f":"'DAK3'!O23","v":"<NodeY>5000</NodeY>"}]
["<NodeZ>0</NodeZ>"]
[{"$f":"A443","v":"<NodeX>15000</NodeX>"}]
[{"$f":"A450","v":"<NodeY>5000</NodeY>"}]
["<NodeZ>0</NodeZ>"]
["<Coordinate_system>global</Coordinate_system>"]
["<Direction>Z</Direction>"]
["<LoadBearingDirection>Y</LoadBearingDirection>"]
[{"$f":"'DAK3'!O25","v":"<q1>-0,72</q1>"}]
["<q2>-2,5</q2>"]
["<q3>-2,5</q3>"]
["<LoadConstantOrLinear>constant</LoadConstantOrLinear>"]
["<iq1>-1</iq1>"]
["<iq2>-1</iq2>"]
["<iq3>-1</iq3>"]
["</SurfaceLoads>"]
["<Combinations>"]
["<LoadCombinationNumber>1</LoadCombinationNumber>"]
["<Description>Dead load</Description>"]
["<CombTyp>0</CombTyp>"]
["<Case>1</Case>"]
["<Psi>1</Psi>"]
["<Gamma>1,22</Gamma>"]
["<LoadCombinationNumber>2</LoadCombinationNumber>"]
["<Description>Live load</Description>"]
["<CombTyp>0</CombTyp>"]
["<Case>1</Case>"]
["<Psi>1</Psi>"]
["<Gamma>1,08</Gamma>"]
["<Case>2</Case>"]
["<Psi>1</Psi>"]
["<Gamma>1,35</Gamma>"]
["<LoadCombinationNumber>3</LoadCombinationNumber>"]
["<Description>Dead load</Description>"]
["<CombTyp>3</CombTyp>"]
["<Case>1</Case>"]
["<Psi>1</Psi>"]
["<Gamma>1</Gamma>"]
["<LoadCombinationNumber>4</LoadCombinationNumber>"]
["<Description>Live load</Description>"]
["<CombTyp>3</CombTyp>"]
["<Case>1</Case>"]
["<Psi>1</Psi>"]
["<Gamma>1</Gamma>"]
["<Case>2</Case>"]
["<Psi>1</Psi>"]
["<Gamma>1</Gamma>"]
["<LoadCombinationNumber>5</LoadCombinationNumber>"]
["<Description>SLS Permanent</Description>"]
["<CombTyp>4</CombTyp>"]
["<Case>1</Case>"]
["<Psi>1</Psi>"]
["<Gamma>1</Gamma>"]
["<LoadCombinationNumber>6</LoadCombinationNumber>"]
["<Description>SLS Quasi-permanent</Description>"]
["<CombTyp>2</CombTyp>"]
["<Case>1</Case>"]
["<Psi>1</Psi>"]
["<Gamma>1</Gamma>"]
["</Combinations>"]
["<RebarLongitudinal/>"]
["<RebarStirrup/>"]
["<Layers>"]
["<Layer_number>1</Layer_number>"]
["<Layer_description>Layer 1</Layer_description>"]
["<Layer_number>2</Layer_number>"]
["<Layer_description>Layer 2</Layer_description>"]
["</Layers>"]
["</Frame>"]

{"sheet":"DAK6_XML","index":30,"n_rows":1683,"n_cols":1,"rows_kept":1683,"cut":false,"hidden":true,"merged":[]}
["<Frame>"]
[{"$f":"\"<ProjectName>\" & INHOUD!C13 & \"</ProjectName>\"","v":"<ProjectName>Test project</ProjectName>"}]
[{"$f":"\"<ProjectNumber>\" & INHOUD!C12 & \"</ProjectNumber>\"","v":"<ProjectNumber>0</ProjectNumber>"}]
[{"$f":"\"<ConsequenceClass>\"& INHOUD!C14 & \"</ConsequenceClass>\"","v":"<ConsequenceClass>CC2</ConsequenceClass>"}]
["<DesignWorkingLife>50</DesignWorkingLife>"]
["<ExportDateTime>2024-05-18 21:23:49Z</ExportDateTime>"]
["<XMLExportVersion>v4.0.30319</XMLExportVersion>"]
["<Nodes>"]
["<Number>1</Number>"]
["<X>0</X>"]
["<Y>0</Y>"]
["<Z>0</Z>"]
["<Number>2</Number>"]
["<X>0</X>"]
["<Y>8000</Y>"]
["<Z>0</Z>"]
["<Number>3</Number>"]
["<X>610</X>"]
["<Y>0</Y>"]
["<Z>0</Z>"]
["<Number>4</Number>"]
["<X>610</X>"]
["<Y>8000</Y>"]
["<Z>0</Z>"]
["<Number>5</Number>"]
["<X>1000</X>"]
["<Y>0</Y>"]
["<Z>0</Z>"]
["<Number>6</Number>"]
["<X>1130</X>"]
["<Y>8000</Y>"]
["<Z>0</Z>"]
["<Number>7</Number>"]
["<X>1220</X>"]
["<Y>0</Y>"]
["<Z>0</Z>"]
["<Number>8</Number>"]
["<X>1740</X>"]
["<Y>8000</Y>"]
["<Z>0</Z>"]
["<Number>9</Number>"]
["<X>1830</X>"]
["<Y>0</Y>"]
["<Z>0</Z>"]
["<Number>10</Number>"]
["<X>2350</X>"]
["<Y>8000</Y>"]
["<Z>0</Z>"]
["<Number>11</Number>"]
["<X>2440</X>"]
["<Y>0</Y>"]
["<Z>0</Z>"]
["<Number>12</Number>"]
["<X>2960</X>"]
["<Y>8000</Y>"]
["<Z>0</Z>"]
["<Number>13</Number>"]
["<X>3050</X>"]
["<Y>0</Y>"]
["<Z>0</Z>"]
["<Number>14</Number>"]
["<X>3570</X>"]
["<Y>8000</Y>"]
["<Z>0</Z>"]
["<Number>15</Number>"]
["<X>3660</X>"]
["<Y>0</Y>"]
["<Z>0</Z>"]
["<Number>16</Number>"]
["<X>4180</X>"]
["<Y>8000</Y>"]
["<Z>0</Z>"]
["<Number>17</Number>"]
["<X>4270</X>"]
["<Y>0</Y>"]
["<Z>0</Z>"]
["<Number>18</Number>"]
["<X>4400</X>"]
["<Y>0</Y>"]
["<Z>0</Z>"]
["<Number>19</Number>"]
["<X>4790</X>"]
["<Y>0</Y>"]
["<Z>0</Z>"]
["<Number>20</Number>"]
["<X>4790</X>"]
["<Y>8000</Y>"]
["<Z>0</Z>"]
["<Number>21</Number>"]
["<X>4880</X>"]
["<Y>0</Y>"]
["<Z>0</Z>"]
["<Number>22</Number>"]
["<X>5400</X>"]
["<Y>0</Y>"]
["<Z>0</Z>"]
["<Number>23</Number>"]
["<X>5400</X>"]
["<Y>8000</Y>"]
["<Z>0</Z>"]
["<Number>24</Number>"]
["<X>1000</X>"]
["<Y>999,999999999997</Y>"]
["<Z>999,999999999997</Z>"]
["<Number>25</Number>"]
["<X>1220</X>"]
["<Y>999,999999999997</Y>"]
["<Z>999,999999999997</Z>"]
["<Number>26</Number>"]
["<X>1830</X>"]
["<Y>999,999999999997</Y>"]
["<Z>999,999999999997</Z>"]
["<Number>27</Number>"]
["<X>2440</X>"]
["<Y>999,999999999997</Y>"]
["<Z>999,999999999997</Z>"]
["<Number>28</Number>"]
["<X>3050</X>"]
["<Y>999,999999999997</Y>"]
["<Z>999,999999999997</Z>"]
["<Number>29</Number>"]
["<X>3660</X>"]
["<Y>999,999999999997</Y>"]
["<Z>999,999999999997</Z>"]
["<Number>30</Number>"]
["<X>4270</X>"]
["<Y>999,999999999997</Y>"]
["<Z>999,999999999997</Z>"]
["<Number>31</Number>"]
["<X>4400</X>"]
["<Y>999,999999999997</Y>"]
["<Z>999,999999999997</Z>"]
["<Number>32</Number>"]
["<X>1000</X>"]
["<Y>1610</Y>"]
["<Z>1610</Z>"]
["<Number>33</Number>"]
["<X>4400</X>"]
["<Y>1610</Y>"]
["<Z>1610</Z>"]
["<Number>34</Number>"]
["<X>1000</X>"]
["<Y>2220</Y>"]
["<Z>2220</Z>"]
["<Number>35</Number>"]
["<X>4400</X>"]
["<Y>2220</Y>"]
["<Z>2220</Z>"]
["<Number>36</Number>"]
["<X>1000</X>"]
["<Y>2700</Y>"]
["<Z>2700</Z>"]
["<Number>38</Number>"]
["<X>1130</X>"]
["<Y>2700</Y>"]
["<Z>2700</Z>"]
["<Number>42</Number>"]
["<X>1740</X>"]
["<Y>2700</Y>"]
["<Z>2700</Z>"]
["<Number>46</Number>"]
["<X>2350</X>"]
["<Y>2700</Y>"]
["<Z>2700</Z>"]
["<Number>50</Number>"]
["<X>2960</X>"]
["<Y>2700</Y>"]
["<Z>2700</Z>"]
["<Number>54</Number>"]
["<X>3570</X>"]
["<Y>2700</Y>"]
["<Z>2700</Z>"]
["<Number>58</Number>"]
["<X>4180</X>"]
["<Y>2700</Y>"]
["<Z>2700</Z>"]
["<Number>60</Number>"]
["<X>4400</X>"]
["<Y>2700</Y>"]
["<Z>2700</Z>"]
["<Number>62</Number>"]
["<X>1000</X>"]
["<Y>2220</Y>"]
["<Z>2700</Z>"]
["<Number>65</Number>"]
["<X>4400</X>"]
["<Y>2220</Y>"]
["<Z>2700</Z>"]
["<Number>73</Number>"]
["<X>1000</X>"]
["<Y>1610</Y>"]
["<Z>2700</Z>"]
["<Number>76</Number>"]
["<X>4400</X>"]
["<Y>1610</Y>"]
["<Z>2700</Z>"]
["<Number>77</Number>"]
["<X>1000</X>"]
["<Y>1000</Y>"]
["<Z>2700</Z>"]
["<Number>337</Number>"]
["<X>4400</X>"]
["<Y>1000</Y>"]
["<Z>2700</Z>"]
["<Number>381</Number>"]
["<X>0</X>"]
["<Y>4000</Y>"]
["<Z>4000</Z>"]
["<Number>382</Number>"]
["<X>610</X>"]
["<Y>4000</Y>"]
["<Z>4000</Z>"]
["<Number>383</Number>"]
["<X>1000</X>"]
["<Y>4000</Y>"]
["<Z>4000</Z>"]
["<Number>384</Number>"]
["<X>1130</X>"]
["<Y>4000</Y>"]
["<Z>4000</Z>"]
["<Number>385</Number>"]
["<X>1740</X>"]
["<Y>4000</Y>"]
["<Z>4000</Z>"]
["<Number>386</Number>"]
["<X>2350</X>"]
["<Y>4000</Y>"]
["<Z>4000</Z>"]
["<Number>387</Number>"]
["<X>2960</X>"]
["<Y>4000</Y>"]
["<Z>4000</Z>"]
["<Number>388</Number>"]
["<X>3570</X>"]
["<Y>4000</Y>"]
["<Z>4000</Z>"]
["<Number>389</Number>"]
["<X>4180</X>"]
["<Y>4000</Y>"]
["<Z>4000</Z>"]
["<Number>390</Number>"]
["<X>4400</X>"]
["<Y>4000</Y>"]
["<Z>4000</Z>"]
["<Number>391</Number>"]
["<X>4790</X>"]
["<Y>4000</Y>"]
["<Z>4000</Z>"]
["<Number>392</Number>"]
["<X>5400</X>"]
["<Y>4000</Y>"]
["<Z>4000</Z>"]
["</Nodes>"]
["<Supports>"]
["<Number>1</Number>"]
["<Nodenumber>1</Nodenumber>"]
["<Tx>A</Tx>"]
["<Ty>A</Ty>"]
["<Tz>A</Tz>"]
["<Rx> </Rx>"]
["<Ry> </Ry>"]
["<Rz> </Rz>"]
["<Kx>0</Kx>"]
["<Ky>0</Ky>"]
["<Kz>0</Kz>"]
["<Cx>0</Cx>"]
["<Cy>0</Cy>"]
["<Cz>0</Cz>"]
["<dx>0</dx>"]
["<dy>0</dy>"]
["<dz>0</dz>"]
["<Number>2</Number>"]
["<Nodenumber>2</Nodenumber>"]
["<Tx>A</Tx>"]
["<Ty>A</Ty>"]
["<Tz>A</Tz>"]
["<Rx> </Rx>"]
["<Ry> </Ry>"]
["<Rz> </Rz>"]
["<Kx>0</Kx>"]
["<Ky>0</Ky>"]
["<Kz>0</Kz>"]
["<Cx>0</Cx>"]
["<Cy>0</Cy>"]
["<Cz>0</Cz>"]
["<dx>0</dx>"]
["<dy>0</dy>"]
["<dz>0</dz>"]
["<Number>3</Number>"]
["<Nodenumber>3</Nodenumber>"]
["<Tx>A</Tx>"]
["<Ty>A</Ty>"]
["<Tz>A</Tz>"]
["<Rx> </Rx>"]
["<Ry> </Ry>"]
["<Rz> </Rz>"]
["<Kx>0</Kx>"]
["<Ky>0</Ky>"]
["<Kz>0</Kz>"]
["<Cx>0</Cx>"]
["<Cy>0</Cy>"]
["<Cz>0</Cz>"]
["<dx>0</dx>"]
["<dy>0</dy>"]
["<dz>0</dz>"]
["<Number>4</Number>"]
["<Nodenumber>4</Nodenumber>"]
["<Tx>A</Tx>"]
["<Ty>A</Ty>"]
["<Tz>A</Tz>"]
["<Rx> </Rx>"]
["<Ry> </Ry>"]
["<Rz> </Rz>"]
["<Kx>0</Kx>"]
["<Ky>0</Ky>"]
["<Kz>0</Kz>"]
["<Cx>0</Cx>"]
["<Cy>0</Cy>"]
["<Cz>0</Cz>"]
["<dx>0</dx>"]
["<dy>0</dy>"]
["<dz>0</dz>"]
["<Number>5</Number>"]
["<Nodenumber>5</Nodenumber>"]
["<Tx>A</Tx>"]
["<Ty>A</Ty>"]
["<Tz>A</Tz>"]
["<Rx> </Rx>"]
["<Ry> </Ry>"]
["<Rz> </Rz>"]
["<Kx>0</Kx>"]
["<Ky>0</Ky>"]
["<Kz>0</Kz>"]
["<Cx>0</Cx>"]
["<Cy>0</Cy>"]
["<Cz>0</Cz>"]
["<dx>0</dx>"]
["<dy>0</dy>"]
["<dz>0</dz>"]
["<Number>6</Number>"]
["<Nodenumber>6</Nodenumber>"]
["<Tx>A</Tx>"]
["<Ty>A</Ty>"]
["<Tz>A</Tz>"]
["<Rx> </Rx>"]
["<Ry> </Ry>"]
["<Rz> </Rz>"]
["<Kx>0</Kx>"]
["<Ky>0</Ky>"]
["<Kz>0</Kz>"]
["<Cx>0</Cx>"]
["<Cy>0</Cy>"]
["<Cz>0</Cz>"]
["<dx>0</dx>"]
["<dy>0</dy>"]
["<dz>0</dz>"]
["<Number>7</Number>"]
["<Nodenumber>7</Nodenumber>"]
["<Tx>A</Tx>"]
["<Ty>A</Ty>"]
["<Tz>A</Tz>"]
["<Rx> </Rx>"]
["<Ry> </Ry>"]
["<Rz> </Rz>"]
["<Kx>0</Kx>"]
["<Ky>0</Ky>"]
["<Kz>0</Kz>"]
["<Cx>0</Cx>"]
["<Cy>0</Cy>"]
["<Cz>0</Cz>"]
["<dx>0</dx>"]
["<dy>0</dy>"]
["<dz>0</dz>"]
["<Number>8</Number>"]
["<Nodenumber>8</Nodenumber>"]
["<Tx>A</Tx>"]
["<Ty>A</Ty>"]
["<Tz>A</Tz>"]
["<Rx> </Rx>"]
["<Ry> </Ry>"]
["<Rz> </Rz>"]
["<Kx>0</Kx>"]
["<Ky>0</Ky>"]
["<Kz>0</Kz>"]
["<Cx>0</Cx>"]
["<Cy>0</Cy>"]
["<Cz>0</Cz>"]
["<dx>0</dx>"]
["<dy>0</dy>"]
["<dz>0</dz>"]
["<Number>9</Number>"]
["<Nodenumber>9</Nodenumber>"]
["<Tx>A</Tx>"]
["<Ty>A</Ty>"]
["<Tz>A</Tz>"]
["<Rx> </Rx>"]
["<Ry> </Ry>"]
["<Rz> </Rz>"]
["<Kx>0</Kx>"]
["<Ky>0</Ky>"]
["<Kz>0</Kz>"]
["<Cx>0</Cx>"]
["<Cy>0</Cy>"]
["<Cz>0</Cz>"]
["<dx>0</dx>"]
["<dy>0</dy>"]
["<dz>0</dz>"]
["<Number>10</Number>"]
["<Nodenumber>10</Nodenumber>"]
["<Tx>A</Tx>"]
["<Ty>A</Ty>"]
["<Tz>A</Tz>"]
["<Rx> </Rx>"]
["<Ry> </Ry>"]
["<Rz> </Rz>"]
["<Kx>0</Kx>"]
["<Ky>0</Ky>"]
["<Kz>0</Kz>"]
["<Cx>0</Cx>"]
["<Cy>0</Cy>"]
["<Cz>0</Cz>"]
["<dx>0</dx>"]
["<dy>0</dy>"]
["<dz>0</dz>"]
["<Number>11</Number>"]
["<Nodenumber>11</Nodenumber>"]
["<Tx>A</Tx>"]
["<Ty>A</Ty>"]
["<Tz>A</Tz>"]
["<Rx> </Rx>"]
["<Ry> </Ry>"]
["<Rz> </Rz>"]
["<Kx>0</Kx>"]
["<Ky>0</Ky>"]
["<Kz>0</Kz>"]
["<Cx>0</Cx>"]
["<Cy>0</Cy>"]
["<Cz>0</Cz>"]
["<dx>0</dx>"]
["<dy>0</dy>"]
["<dz>0</dz>"]
["<Number>12</Number>"]
["<Nodenumber>12</Nodenumber>"]
["<Tx>A</Tx>"]
["<Ty>A</Ty>"]
["<Tz>A</Tz>"]
["<Rx> </Rx>"]
["<Ry> </Ry>"]
["<Rz> </Rz>"]
["<Kx>0</Kx>"]
["<Ky>0</Ky>"]
["<Kz>0</Kz>"]
["<Cx>0</Cx>"]
["<Cy>0</Cy>"]
["<Cz>0</Cz>"]
["<dx>0</dx>"]
["<dy>0</dy>"]
["<dz>0</dz>"]
["<Number>13</Number>"]
["<Nodenumber>13</Nodenumber>"]
["<Tx>A</Tx>"]
["<Ty>A</Ty>"]
["<Tz>A</Tz>"]
["<Rx> </Rx>"]
["<Ry> </Ry>"]
["<Rz> </Rz>"]
["<Kx>0</Kx>"]
["<Ky>0</Ky>"]
["<Kz>0</Kz>"]
["<Cx>0</Cx>"]
["<Cy>0</Cy>"]
["<Cz>0</Cz>"]
["<dx>0</dx>"]
["<dy>0</dy>"]
["<dz>0</dz>"]
["<Number>14</Number>"]
["<Nodenumber>14</Nodenumber>"]
["<Tx>A</Tx>"]
["<Ty>A</Ty>"]
["<Tz>A</Tz>"]
["<Rx> </Rx>"]
["<Ry> </Ry>"]
["<Rz> </Rz>"]
["<Kx>0</Kx>"]
["<Ky>0</Ky>"]
["<Kz>0</Kz>"]
["<Cx>0</Cx>"]
["<Cy>0</Cy>"]
["<Cz>0</Cz>"]
["<dx>0</dx>"]
["<dy>0</dy>"]
["<dz>0</dz>"]
["<Number>15</Number>"]
["<Nodenumber>15</Nodenumber>"]
["<Tx>A</Tx>"]
["<Ty>A</Ty>"]
["<Tz>A</Tz>"]
["<Rx> </Rx>"]
["<Ry> </Ry>"]
["<Rz> </Rz>"]
["<Kx>0</Kx>"]
["<Ky>0</Ky>"]
["<Kz>0</Kz>"]
["<Cx>0</Cx>"]
["<Cy>0</Cy>"]
["<Cz>0</Cz>"]
["<dx>0</dx>"]
["<dy>0</dy>"]
["<dz>0</dz>"]
["<Number>16</Number>"]
["<Nodenumber>16</Nodenumber>"]
["<Tx>A</Tx>"]
["<Ty>A</Ty>"]
["<Tz>A</Tz>"]
["<Rx> </Rx>"]
["<Ry> </Ry>"]
["<Rz> </Rz>"]
["<Kx>0</Kx>"]
["<Ky>0</Ky>"]
["<Kz>0</Kz>"]
["<Cx>0</Cx>"]
["<Cy>0</Cy>"]
["<Cz>0</Cz>"]
["<dx>0</dx>"]
["<dy>0</dy>"]
["<dz>0</dz>"]
["<Number>17</Number>"]
["<Nodenumber>17</Nodenumber>"]
["<Tx>A</Tx>"]
["<Ty>A</Ty>"]
["<Tz>A</Tz>"]
["<Rx> </Rx>"]
["<Ry> </Ry>"]
["<Rz> </Rz>"]
["<Kx>0</Kx>"]
["<Ky>0</Ky>"]
["<Kz>0</Kz>"]
["<Cx>0</Cx>"]
["<Cy>0</Cy>"]
["<Cz>0</Cz>"]
["<dx>0</dx>"]
["<dy>0</dy>"]
["<dz>0</dz>"]
["<Number>18</Number>"]
["<Nodenumber>18</Nodenumber>"]
["<Tx>A</Tx>"]
["<Ty>A</Ty>"]
["<Tz>A</Tz>"]
["<Rx> </Rx>"]
["<Ry> </Ry>"]
["<Rz> </Rz>"]
["<Kx>0</Kx>"]
["<Ky>0</Ky>"]
["<Kz>0</Kz>"]
["<Cx>0</Cx>"]
["<Cy>0</Cy>"]
["<Cz>0</Cz>"]
["<dx>0</dx>"]
["<dy>0</dy>"]
["<dz>0</dz>"]
["<Number>19</Number>"]
["<Nodenumber>19</Nodenumber>"]
["<Tx>A</Tx>"]
["<Ty>A</Ty>"]
["<Tz>A</Tz>"]
["<Rx> </Rx>"]
["<Ry> </Ry>"]
["<Rz> </Rz>"]
["<Kx>0</Kx>"]
["<Ky>0</Ky>"]
["<Kz>0</Kz>"]
["<Cx>0</Cx>"]
["<Cy>0</Cy>"]
["<Cz>0</Cz>"]
["<dx>0</dx>"]
["<dy>0</dy>"]
["<dz>0</dz>"]
["<Number>20</Number>"]
["<Nodenumber>20</Nodenumber>"]
["<Tx>A</Tx>"]
["<Ty>A</Ty>"]
["<Tz>A</Tz>"]
["<Rx> </Rx>"]
["<Ry> </Ry>"]
["<Rz> </Rz>"]
["<Kx>0</Kx>"]
["<Ky>0</Ky>"]
["<Kz>0</Kz>"]
["<Cx>0</Cx>"]
["<Cy>0</Cy>"]
["<Cz>0</Cz>"]
["<dx>0</dx>"]
["<dy>0</dy>"]
["<dz>0</dz>"]
["<Number>21</Number>"]
["<Nodenumber>21</Nodenumber>"]
["<Tx>A</Tx>"]
["<Ty>A</Ty>"]
["<Tz>A</Tz>"]
["<Rx> </Rx>"]
["<Ry> </Ry>"]
["<Rz> </Rz>"]
["<Kx>0</Kx>"]
["<Ky>0</Ky>"]
["<Kz>0</Kz>"]
["<Cx>0</Cx>"]
["<Cy>0</Cy>"]
["<Cz>0</Cz>"]
["<dx>0</dx>"]
["<dy>0</dy>"]
["<dz>0</dz>"]
["<Number>22</Number>"]
["<Nodenumber>22</Nodenumber>"]
["<Tx>A</Tx>"]
["<Ty>A</Ty>"]
["<Tz>A</Tz>"]
["<Rx> </Rx>"]
["<Ry> </Ry>"]
["<Rz> </Rz>"]
["<Kx>0</Kx>"]
["<Ky>0</Ky>"]
["<Kz>0</Kz>"]
["<Cx>0</Cx>"]
["<Cy>0</Cy>"]
["<Cz>0</Cz>"]
["<dx>0</dx>"]
["<dy>0</dy>"]
["<dz>0</dz>"]
["<Number>23</Number>"]
["<Nodenumber>23</Nodenumber>"]
["<Tx>A</Tx>"]
["<Ty>A</Ty>"]
["<Tz>A</Tz>"]
["<Rx> </Rx>"]
["<Ry> </Ry>"]
["<Rz> </Rz>"]
["<Kx>0</Kx>"]
["<Ky>0</Ky>"]
["<Kz>0</Kz>"]
["<Cx>0</Cx>"]
["<Cy>0</Cy>"]
["<Cz>0</Cz>"]
["<dx>0</dx>"]
["<dy>0</dy>"]
["<dz>0</dz>"]
["<Number>24</Number>"]
["<Nodenumber>381</Nodenumber>"]
["<Tx>A</Tx>"]
["<Ty> </Ty>"]
["<Tz> </Tz>"]
["<Rx> </Rx>"]
["<Ry> </Ry>"]
["<Rz> </Rz>"]
["<Kx>0</Kx>"]
["<Ky>0</Ky>"]
["<Kz>0</Kz>"]
["<Cx>0</Cx>"]
["<Cy>0</Cy>"]
["<Cz>0</Cz>"]
["<dx>0</dx>"]
["<dy>0</dy>"]
["<dz>0</dz>"]
["</Supports>"]
["<Grids>"]
["<X>0 1000 3400 1000</X>"]
["<X_Lable>"]
["A B C D E F G H I J K L M N O P Q R S T U V W X Y Z"]
["</X_Lable>"]
["<Y>0 4000 4000</Y>"]
["<Y_Lable>"]
["1 2 3 4 5 6 7 8 9 10 11 12 13 14 15 16 17 18 19 20 21 22 23 24 25"]
["</Y_Lable>"]
["<Z>0 4000</Z>"]
["<Z_Lable>+0</Z_Lable>"]
["</Grids>"]
["<Profiles>"]
["<Number>1</Number>"]
["<Profile_name>38x235</Profile_name>"]
["<Material_type>2</Material_type>"]
["<Material>C24</Material>"]
["<Angle>0</Angle>"]
["<ServiceClass>0</ServiceClass>"]
["<Profile_shape>6</Profile_shape>"]
["<h>235</h>"]
["<b>38</b>"]
["<tf>235</tf>"]
["<tw>10</tw>"]
["<r1>0</r1>"]
["<r2>20</r2>"]
["<slope>0</slope>"]
["<Number>2</Number>"]
["<Profile_name>76x235</Profile_name>"]
["<Material_type>2</Material_type>"]
["<Material>C24</Material>"]
["<Angle>0</Angle>"]
["<ServiceClass>0</ServiceClass>"]
["<Profile_shape>6</Profile_shape>"]
["<h>235</h>"]
["<b>76</b>"]
["<tf>235</tf>"]
["<tw>10</tw>"]
["<r1>0</r1>"]
["<r2>20</r2>"]
["<slope>0</slope>"]
["<Number>3</Number>"]
["<Profile_name>38x140</Profile_name>"]
["<Material_type>2</Material_type>"]
["<Material>C24</Material>"]
["<Angle>0</Angle>"]
["<ServiceClass>0</ServiceClass>"]
["<Profile_shape>6</Profile_shape>"]
["<h>140</h>"]
["<b>38</b>"]
["<tf>140</tf>"]
["<tw>10</tw>"]
["<r1>0</r1>"]
["<r2>20</r2>"]
["<slope>0</slope>"]
["<Number>4</Number>"]
["<Profile_name>190 x 235</Profile_name>"]
["<Material_type>2</Material_type>"]
["<Material>C24</Material>"]
["<Angle>0</Angle>"]
["<ServiceClass>0</ServiceClass>"]
["<Profile_shape>6</Profile_shape>"]
["<h>235</h>"]
["<b>190</b>"]
["<tf>235</tf>"]
["<tw>10</tw>"]
["<r1>0</r1>"]
["<r2>20</r2>"]
["<slope>0</slope>"]
["</Profiles>"]
["<Beamgroup>"]
["<Number>1</Number>"]
["<Startnode>22</Startnode>"]
["<Endnode>392</Endnode>"]
["<Number>2</Number>"]
["<Startnode>392</Startnode>"]
["<Endnode>23</Endnode>"]
["<Number>3</Number>"]
["<Startnode>18</Startnode>"]
["<Endnode>390</Endnode>"]
["<Number>4</Number>"]
["<Startnode>19</Startnode>"]
["<Endnode>391</Endnode>"]
["<Number>5</Number>"]
["<Startnode>391</Startnode>"]
["<Endnode>20</Endnode>"]
["<Number>6</Number>"]
["<Startnode>5</Startnode>"]
["<Endnode>383</Endnode>"]
["<Number>7</Number>"]
["<Startnode>1</Startnode>"]
["<Endnode>381</Endnode>"]
["<Number>8</Number>"]
["<Startnode>381</Startnode>"]
["<Endnode>2</Endnode>"]
["<Number>9</Number>"]
["<Startnode>3</Startnode>"]
["<Endnode>382</Endnode>"]
["<Number>10</Number>"]
["<Startnode>382</Startnode>"]
["<Endnode>4</Endnode>"]
["<Number>11</Number>"]
["<Startnode>24</Startnode>"]
["<Endnode>31</Endnode>"]
["<Number>12</Number>"]
["<Startnode>7</Startnode>"]
["<Endnode>25</Endnode>"]
["<Number>13</Number>"]
["<Startnode>9</Startnode>"]
["<Endnode>26</Endnode>"]
["<Number>14</Number>"]
["<Startnode>11</Startnode>"]
["<Endnode>27</Endnode>"]
["<Number>15</Number>"]
["<Startnode>15</Startnode>"]
["<Endnode>29</Endnode>"]
["<Number>16</Number>"]
["<Startnode>13</Startnode>"]
["<Endnode>28</Endnode>"]
["<Number>17</Number>"]
["<Startnode>17</Startnode>"]
["<Endnode>30</Endnode>"]
["<Number>18</Number>"]
["<Startnode>389</Startnode>"]
["<Endnode>16</Endnode>"]
["<Number>19</Number>"]
["<Startnode>388</Startnode>"]
["<Endnode>14</Endnode>"]
["<Number>20</Number>"]
["<Startnode>387</Startnode>"]
["<Endnode>12</Endnode>"]
["<Number>21</Number>"]
["<Startnode>386</Startnode>"]
["<Endnode>10</Endnode>"]
["<Number>22</Number>"]
["<Startnode>385</Startnode>"]
["<Endnode>8</Endnode>"]
["<Number>23</Number>"]
["<Startnode>384</Startnode>"]
["<Endnode>6</Endnode>"]
["<Number>24</Number>"]
["<Startnode>392</Startnode>"]
["<Endnode>381</Endnode>"]
["<Number>25</Number>"]
["<Startnode>36</Startnode>"]
["<Endnode>60</Endnode>"]
["<Number>26</Number>"]
["<Startnode>38</Startnode>"]
["<Endnode>384</Endnode>"]
["<Number>27</Number>"]
["<Startnode>42</Startnode>"]
["<Endnode>385</Endnode>"]
["<Number>28</Number>"]
["<Startnode>46</Startnode>"]
["<Endnode>386</Endnode>"]
["<Number>29</Number>"]
["<Startnode>50</Startnode>"]
["<Endnode>387</Endnode>"]
["<Number>30</Number>"]
["<Startnode>54</Startnode>"]
["<Endnode>388</Endnode>"]
["<Number>31</Number>"]
["<Startnode>58</Startnode>"]
["<Endnode>389</Endnode>"]
["<Number>32</Number>"]
["<Startnode>1</Startnode>"]
["<Endnode>22</Endnode>"]
["<Number>33</Number>"]
["<Startnode>23</Startnode>"]
["<Endnode>2</Endnode>"]
["<Number>34</Number>"]
["<Startnode>31</Startnode>"]
["<Endnode>337</Endnode>"]
["<Number>35</Number>"]
["<Startnode>337</Startnode>"]
["<Endnode>60</Endnode>"]
["<Number>36</Number>"]
["<Startnode>33</Startnode>"]
["<Endnode>76</Endnode>"]
["<Number>37</Number>"]
["<Startnode>35</Startnode>"]
["<Endnode>65</Endnode>"]
["<Number>38</Number>"]
["<Startnode>24</Startnode>"]
["<Endnode>77</Endnode>"]
["<Number>39</Number>"]
["<Startnode>77</Startnode>"]
["<Endnode>36</Endnode>"]
["<Number>40</Number>"]
["<Startnode>32</Startnode>"]
["<Endnode>73</Endnode>"]
["<Number>41</Number>"]
["<Startnode>34</Startnode>"]
["<Endnode>62</Endnode>"]
["</Beamgroup>"]
["<Beams>"]
["<Number>1</Number>"]
["<Beamgroupnumber>1</Beamgroupnumber>"]
["<From_node_number>22</From_node_number>"]
["<To_node_number>392</To_node_number>"]
["<BeamRestraintsBegin>aaaaaa</BeamRestraintsBegin>"]
["<BeamRestraintsEnd>aaaaaa</BeamRestraintsEnd>"]
["<NumbLateralRestraints>4</NumbLateralRestraints>"]
["<Angle>0</Angle>"]
["<Angle_profile>0</Angle_profile>"]
["<Profile_number>1</Profile_number>"]
["<Z>0</Z>"]
["<Top_Center_Bottom>Center</Top_Center_Bottom>"]
["<Number>2</Number>"]
["<Beamgroupnumber>2</Beamgroupnumber>"]
["<From_node_number>392</From_node_number>"]
["<To_node_number>23</To_node_number>"]
["<BeamRestraintsBegin>aaa </BeamRestraintsBegin>"]
["<BeamRestraintsEnd>aaaaaa</BeamRestraintsEnd>"]
["<NumbLateralRestraints>4</NumbLateralRestraints>"]
["<Angle>0</Angle>"]
["<Angle_profile>0</Angle_profile>"]
["<Profile_number>1</Profile_number>"]
["<Z>0</Z>"]
["<Top_Center_Bottom>Center</Top_Center_Bottom>"]
["<Number>3</Number>"]
["<Beamgroupnumber>3</Beamgroupnumber>"]
["<From_node_number>18</From_node_number>"]
["<To_node_number>390</To_node_number>"]
["<BeamRestraintsBegin>aaaaaa</BeamRestraintsBegin>"]
["<BeamRestraintsEnd>aaaaaa</BeamRestraintsEnd>"]
["<NumbLateralRestraints>4</NumbLateralRestraints>"]
["<Angle>0</Angle>"]
["<Angle_profile>0</Angle_profile>"]
["<Profile_number>2</Profile_number>"]
["<Z>0</Z>"]
["<Top_Center_Bottom>Center</Top_Center_Bottom>"]
["<Number>4</Number>"]
["<Beamgroupnumber>4</Beamgroupnumber>"]
["<From_node_number>19</From_node_number>"]
["<To_node_number>391</To_node_number>"]
["<BeamRestraintsBegin>aaaaaa</BeamRestraintsBegin>"]
["<BeamRestraintsEnd>aaaaaa</BeamRestraintsEnd>"]
["<NumbLateralRestraints>4</NumbLateralRestraints>"]
["<Angle>0</Angle>"]
["<Angle_profile>0</Angle_profile>"]
["<Profile_number>1</Profile_number>"]
["<Z>0</Z>"]
["<Top_Center_Bottom>Center</Top_Center_Bottom>"]
["<Number>5</Number>"]
["<Beamgroupnumber>5</Beamgroupnumber>"]
["<From_node_number>391</From_node_number>"]
["<To_node_number>20</To_node_number>"]
["<BeamRestraintsBegin>aaa </BeamRestraintsBegin>"]
["<BeamRestraintsEnd>aaaaaa</BeamRestraintsEnd>"]
["<NumbLateralRestraints>4</NumbLateralRestraints>"]
["<Angle>0</Angle>"]
["<Angle_profile>0</Angle_profile>"]
["<Profile_number>1</Profile_number>"]
["<Z>0</Z>"]
["<Top_Center_Bottom>Center</Top_Center_Bottom>"]
["<Number>6</Number>"]
["<Beamgroupnumber>6</Beamgroupnumber>"]
["<From_node_number>5</From_node_number>"]
["<To_node_number>383</To_node_number>"]
["<BeamRestraintsBegin>aaaaaa</BeamRestraintsBegin>"]
["<BeamRestraintsEnd>aaaaaa</BeamRestraintsEnd>"]
["<NumbLateralRestraints>4</NumbLateralRestraints>"]
["<Angle>0</Angle>"]
["<Angle_profile>0</Angle_profile>"]
["<Profile_number>2</Profile_number>"]
["<Z>0</Z>"]
["<Top_Center_Bottom>Center</Top_Center_Bottom>"]
["<Number>7</Number>"]
["<Beamgroupnumber>7</Beamgroupnumber>"]
["<From_node_number>1</From_node_number>"]
["<To_node_number>381</To_node_number>"]
["<BeamRestraintsBegin>aaaaaa</BeamRestraintsBegin>"]
["<BeamRestraintsEnd>aaaaaa</BeamRestraintsEnd>"]
["<NumbLateralRestraints>4</NumbLateralRestraints>"]
["<Angle>0</Angle>"]
["<Angle_profile>0</Angle_profile>"]
["<Profile_number>1</Profile_number>"]
["<Z>0</Z>"]
["<Top_Center_Bottom>Center</Top_Center_Bottom>"]
["<Number>8</Number>"]
["<Beamgroupnumber>8</Beamgroupnumber>"]
["<From_node_number>381</From_node_number>"]
["<To_node_number>2</To_node_number>"]
["<BeamRestraintsBegin>aaa </BeamRestraintsBegin>"]
["<BeamRestraintsEnd>aaaaaa</BeamRestraintsEnd>"]
["<NumbLateralRestraints>4</NumbLateralRestraints>"]
["<Angle>0</Angle>"]
["<Angle_profile>0</Angle_profile>"]
["<Profile_number>1</Profile_number>"]
["<Z>0</Z>"]
["<Top_Center_Bottom>Center</Top_Center_Bottom>"]
["<Number>9</Number>"]
["<Beamgroupnumber>9</Beamgroupnumber>"]
["<From_node_number>3</From_node_number>"]
["<To_node_number>382</To_node_number>"]
["<BeamRestraintsBegin>aaaaaa</BeamRestraintsBegin>"]
["<BeamRestraintsEnd>aaaaaa</BeamRestraintsEnd>"]
["<NumbLateralRestraints>4</NumbLateralRestraints>"]
["<Angle>0</Angle>"]
["<Angle_profile>0</Angle_profile>"]
["<Profile_number>1</Profile_number>"]
["<Z>0</Z>"]
["<Top_Center_Bottom>Center</Top_Center_Bottom>"]
["<Number>10</Number>"]
["<Beamgroupnumber>10</Beamgroupnumber>"]
["<From_node_number>382</From_node_number>"]
["<To_node_number>4</To_node_number>"]
["<BeamRestraintsBegin>aaa </BeamRestraintsBegin>"]
["<BeamRestraintsEnd>aaaaaa</BeamRestraintsEnd>"]
["<NumbLateralRestraints>4</NumbLateralRestraints>"]
["<Angle>0</Angle>"]
["<Angle_profile>0</Angle_profile>"]
["<Profile_number>1</Profile_number>"]
["<Z>0</Z>"]
["<Top_Center_Bottom>Center</Top_Center_Bottom>"]
["<Number>11</Number>"]
["<Beamgroupnumber>11</Beamgroupnumber>"]
["<From_node_number>24</From_node_number>"]
["<To_node_number>31</To_node_number>"]
["<BeamRestraintsBegin>aaa </BeamRestraintsBegin>"]
["<BeamRestraintsEnd>aaaaaa</BeamRestraintsEnd>"]
["<NumbLateralRestraints>0</NumbLateralRestraints>"]
["<Angle>0</Angle>"]
["<Angle_profile>45</Angle_profile>"]
["<Profile_number>1</Profile_number>"]
["<Z>0</Z>"]
["<Top_Center_Bottom>Center</Top_Center_Bottom>"]
["<Number>12</Number>"]
["<Beamgroupnumber>12</Beamgroupnumber>"]
["<From_node_number>7</From_node_number>"]
["<To_node_number>25</To_node_number>"]
["<BeamRestraintsBegin>aaaaaa</BeamRestraintsBegin>"]
["<BeamRestraintsEnd>aaa </BeamRestraintsEnd>"]
["<NumbLateralRestraints>0</NumbLateralRestraints>"]
["<Angle>0</Angle>"]
["<Angle_profile>0</Angle_profile>"]
["<Profile_number>1</Profile_number>"]
["<Z>0</Z>"]
["<Top_Center_Bottom>Center</Top_Center_Bottom>"]
["<Number>13</Number>"]
["<Beamgroupnumber>13</Beamgroupnumber>"]
["<From_node_number>9</From_node_number>"]
["<To_node_number>26</To_node_number>"]
["<BeamRestraintsBegin>aaaaaa</BeamRestraintsBegin>"]
["<BeamRestraintsEnd>aaa </BeamRestraintsEnd>"]
["<NumbLateralRestraints>0</NumbLateralRestraints>"]
["<Angle>0</Angle>"]
["<Angle_profile>0</Angle_profile>"]
["<Profile_number>1</Profile_number>"]
["<Z>0</Z>"]
["<Top_Center_Bottom>Center</Top_Center_Bottom>"]
["<Number>14</Number>"]
["<Beamgroupnumber>14</Beamgroupnumber>"]
["<From_node_number>11</From_node_number>"]
["<To_node_number>27</To_node_number>"]
["<BeamRestraintsBegin>aaaaaa</BeamRestraintsBegin>"]
["<BeamRestraintsEnd>aaa </BeamRestraintsEnd>"]
["<NumbLateralRestraints>0</NumbLateralRestraints>"]
["<Angle>0</Angle>"]
["<Angle_profile>0</Angle_profile>"]
["<Profile_number>1</Profile_number>"]
["<Z>0</Z>"]
["<Top_Center_Bottom>Center</Top_Center_Bottom>"]
["<Number>15</Number>"]
["<Beamgroupnumber>15</Beamgroupnumber>"]
["<From_node_number>15</From_node_number>"]
["<To_node_number>29</To_node_number>"]
["<BeamRestraintsBegin>aaaaaa</BeamRestraintsBegin>"]
["<BeamRestraintsEnd>aaa </BeamRestraintsEnd>"]
["<NumbLateralRestraints>0</NumbLateralRestraints>"]
["<Angle>0</Angle>"]
["<Angle_profile>0</Angle_profile>"]
["<Profile_number>1</Profile_number>"]
["<Z>0</Z>"]
["<Top_Center_Bottom>Center</Top_Center_Bottom>"]
["<Number>16</Number>"]
["<Beamgroupnumber>16</Beamgroupnumber>"]
["<From_node_number>13</From_node_number>"]
["<To_node_number>28</To_node_number>"]
["<BeamRestraintsBegin>aaaaaa</BeamRestraintsBegin>"]
["<BeamRestraintsEnd>aaa </BeamRestraintsEnd>"]
["<NumbLateralRestraints>0</NumbLateralRestraints>"]
["<Angle>0</Angle>"]
["<Angle_profile>0</Angle_profile>"]
["<Profile_number>1</Profile_number>"]
["<Z>0</Z>"]
["<Top_Center_Bottom>Center</Top_Center_Bottom>"]
["<Number>17</Number>"]
["<Beamgroupnumber>17</Beamgroupnumber>"]
["<From_node_number>17</From_node_number>"]
["<To_node_number>30</To_node_number>"]
["<BeamRestraintsBegin>aaaaaa</BeamRestraintsBegin>"]
["<BeamRestraintsEnd>aaa </BeamRestraintsEnd>"]
["<NumbLateralRestraints>0</NumbLateralRestraints>"]
["<Angle>0</Angle>"]
["<Angle_profile>0</Angle_profile>"]
["<Profile_number>1</Profile_number>"]
["<Z>0</Z>"]
["<Top_Center_Bottom>Center</Top_Center_Bottom>"]
["<Number>18</Number>"]
["<Beamgroupnumber>18</Beamgroupnumber>"]
["<From_node_number>389</From_node_number>"]
["<To_node_number>16</To_node_number>"]
["<BeamRestraintsBegin>aaa </BeamRestraintsBegin>"]
["<BeamRestraintsEnd>aaaaaa</BeamRestraintsEnd>"]
["<NumbLateralRestraints>4</NumbLateralRestraints>"]
["<Angle>0</Angle>"]
["<Angle_profile>0</Angle_profile>"]
["<Profile_number>1</Profile_number>"]
["<Z>0</Z>"]
["<Top_Center_Bottom>Center</Top_Center_Bottom>"]
["<Number>19</Number>"]
["<Beamgroupnumber>19</Beamgroupnumber>"]
["<From_node_number>388</From_node_number>"]
["<To_node_number>14</To_node_number>"]
["<BeamRestraintsBegin>aaa </BeamRestraintsBegin>"]
["<BeamRestraintsEnd>aaaaaa</BeamRestraintsEnd>"]
["<NumbLateralRestraints>4</NumbLateralRestraints>"]
["<Angle>0</Angle>"]
["<Angle_profile>0</Angle_profile>"]
["<Profile_number>1</Profile_number>"]
["<Z>0</Z>"]
["<Top_Center_Bottom>Center</Top_Center_Bottom>"]
["<Number>20</Number>"]
["<Beamgroupnumber>20</Beamgroupnumber>"]
["<From_node_number>387</From_node_number>"]
["<To_node_number>12</To_node_number>"]
["<BeamRestraintsBegin>aaa </BeamRestraintsBegin>"]
["<BeamRestraintsEnd>aaaaaa</BeamRestraintsEnd>"]
["<NumbLateralRestraints>4</NumbLateralRestraints>"]
["<Angle>0</Angle>"]
["<Angle_profile>0</Angle_profile>"]
["<Profile_number>1</Profile_number>"]
["<Z>0</Z>"]
["<Top_Center_Bottom>Center</Top_Center_Bottom>"]
["<Number>21</Number>"]
["<Beamgroupnumber>21</Beamgroupnumber>"]
["<From_node_number>386</From_node_number>"]
["<To_node_number>10</To_node_number>"]
["<BeamRestraintsBegin>aaa </BeamRestraintsBegin>"]
["<BeamRestraintsEnd>aaaaaa</BeamRestraintsEnd>"]
["<NumbLateralRestraints>4</NumbLateralRestraints>"]
["<Angle>0</Angle>"]
["<Angle_profile>0</Angle_profile>"]
["<Profile_number>1</Profile_number>"]
["<Z>0</Z>"]
["<Top_Center_Bottom>Center</Top_Center_Bottom>"]
["<Number>22</Number>"]
["<Beamgroupnumber>22</Beamgroupnumber>"]
["<From_node_number>385</From_node_number>"]
["<To_node_number>8</To_node_number>"]
["<BeamRestraintsBegin>aaa </BeamRestraintsBegin>"]
["<BeamRestraintsEnd>aaaaaa</BeamRestraintsEnd>"]
["<NumbLateralRestraints>4</NumbLateralRestraints>"]
["<Angle>0</Angle>"]
["<Angle_profile>0</Angle_profile>"]
["<Profile_number>1</Profile_number>"]
["<Z>0</Z>"]
["<Top_Center_Bottom>Center</Top_Center_Bottom>"]
["<Number>23</Number>"]
["<Beamgroupnumber>23</Beamgroupnumber>"]
["<From_node_number>384</From_node_number>"]
["<To_node_number>6</To_node_number>"]
["<BeamRestraintsBegin>aaa </BeamRestraintsBegin>"]
["<BeamRestraintsEnd>aaaaaa</BeamRestraintsEnd>"]
["<NumbLateralRestraints>4</NumbLateralRestraints>"]
["<Angle>0</Angle>"]
["<Angle_profile>0</Angle_profile>"]
["<Profile_number>1</Profile_number>"]
["<Z>0</Z>"]
["<Top_Center_Bottom>Center</Top_Center_Bottom>"]
["<Number>24</Number>"]
["<Beamgroupnumber>24</Beamgroupnumber>"]
["<From_node_number>392</From_node_number>"]
["<To_node_number>381</To_node_number>"]
["<BeamRestraintsBegin>aaa </BeamRestraintsBegin>"]
["<BeamRestraintsEnd>aaaaaa</BeamRestraintsEnd>"]
["<NumbLateralRestraints>0</NumbLateralRestraints>"]
["<Angle>0</Angle>"]
["<Angle_profile>0</Angle_profile>"]
["<Profile_number>1</Profile_number>"]
["<Z>0</Z>"]
["<Top_Center_Bottom>Center</Top_Center_Bottom>"]
["<Number>25</Number>"]
["<Beamgroupnumber>25</Beamgroupnumber>"]
["<From_node_number>36</From_node_number>"]
["<To_node_number>60</To_node_number>"]
["<BeamRestraintsBegin>aaa </BeamRestraintsBegin>"]
["<BeamRestraintsEnd>aaa </BeamRestraintsEnd>"]
["<NumbLateralRestraints>0</NumbLateralRestraints>"]
["<Angle>0</Angle>"]
["<Angle_profile>45</Angle_profile>"]
["<Profile_number>4</Profile_number>"]
["<Z>0</Z>"]
["<Top_Center_Bottom>Center</Top_Center_Bottom>"]
["<Number>26</Number>"]
["<Beamgroupnumber>26</Beamgroupnumber>"]
["<From_node_number>38</From_node_number>"]
["<To_node_number>384</To_node_number>"]
["<BeamRestraintsBegin>aaa </BeamRestraintsBegin>"]
["<BeamRestraintsEnd>aaaaaa</BeamRestraintsEnd>"]
["<NumbLateralRestraints>4</NumbLateralRestraints>"]
["<Angle>0</Angle>"]
["<Angle_profile>0</Angle_profile>"]
["<Profile_number>1</Profile_number>"]
["<Z>0</Z>"]
["<Top_Center_Bottom>Center</Top_Center_Bottom>"]
["<Number>27</Number>"]
["<Beamgroupnumber>27</Beamgroupnumber>"]
["<From_node_number>42</From_node_number>"]
["<To_node_number>385</To_node_number>"]
["<BeamRestraintsBegin>aaa </BeamRestraintsBegin>"]
["<BeamRestraintsEnd>aaaaaa</BeamRestraintsEnd>"]
["<NumbLateralRestraints>4</NumbLateralRestraints>"]
["<Angle>0</Angle>"]
["<Angle_profile>0</Angle_profile>"]
["<Profile_number>1</Profile_number>"]
["<Z>0</Z>"]
["<Top_Center_Bottom>Center</Top_Center_Bottom>"]
["<Number>28</Number>"]
["<Beamgroupnumber>28</Beamgroupnumber>"]
["<From_node_number>46</From_node_number>"]
["<To_node_number>386</To_node_number>"]
["<BeamRestraintsBegin>aaa </BeamRestraintsBegin>"]
["<BeamRestraintsEnd>aaaaaa</BeamRestraintsEnd>"]
["<NumbLateralRestraints>4</NumbLateralRestraints>"]
["<Angle>0</Angle>"]
["<Angle_profile>0</Angle_profile>"]
["<Profile_number>1</Profile_number>"]
["<Z>0</Z>"]
["<Top_Center_Bottom>Center</Top_Center_Bottom>"]
["<Number>29</Number>"]
["<Beamgroupnumber>29</Beamgroupnumber>"]
["<From_node_number>50</From_node_number>"]
["<To_node_number>387</To_node_number>"]
["<BeamRestraintsBegin>aaa </BeamRestraintsBegin>"]
["<BeamRestraintsEnd>aaaaaa</BeamRestraintsEnd>"]
["<NumbLateralRestraints>4</NumbLateralRestraints>"]
["<Angle>0</Angle>"]
["<Angle_profile>0</Angle_profile>"]
["<Profile_number>1</Profile_number>"]
["<Z>0</Z>"]
["<Top_Center_Bottom>Center</Top_Center_Bottom>"]
["<Number>30</Number>"]
["<Beamgroupnumber>30</Beamgroupnumber>"]
["<From_node_number>54</From_node_number>"]
["<To_node_number>388</To_node_number>"]
["<BeamRestraintsBegin>aaa </BeamRestraintsBegin>"]
["<BeamRestraintsEnd>aaaaaa</BeamRestraintsEnd>"]
["<NumbLateralRestraints>4</NumbLateralRestraints>"]
["<Angle>0</Angle>"]
["<Angle_profile>0</Angle_profile>"]
["<Profile_number>1</Profile_number>"]
["<Z>0</Z>"]
["<Top_Center_Bottom>Center</Top_Center_Bottom>"]
["<Number>31</Number>"]
["<Beamgroupnumber>31</Beamgroupnumber>"]
["<From_node_number>58</From_node_number>"]
["<To_node_number>389</To_node_number>"]
["<BeamRestraintsBegin>aaa </BeamRestraintsBegin>"]
["<BeamRestraintsEnd>aaaaaa</BeamRestraintsEnd>"]
["<NumbLateralRestraints>4</NumbLateralRestraints>"]
["<Angle>0</Angle>"]
["<Angle_profile>0</Angle_profile>"]
["<Profile_number>1</Profile_number>"]
["<Z>0</Z>"]
["<Top_Center_Bottom>Center</Top_Center_Bottom>"]
["<Number>32</Number>"]
["<Beamgroupnumber>32</Beamgroupnumber>"]
["<From_node_number>1</From_node_number>"]
["<To_node_number>22</To_node_number>"]
["<BeamRestraintsBegin>aaa </BeamRestraintsBegin>"]
["<BeamRestraintsEnd>aaaaaa</BeamRestraintsEnd>"]
["<NumbLateralRestraints>0</NumbLateralRestraints>"]
["<Angle>0</Angle>"]
["<Angle_profile>0</Angle_profile>"]
["<Profile_number>1</Profile_number>"]
["<Z>0</Z>"]
["<Top_Center_Bottom>Center</Top_Center_Bottom>"]
["<Number>33</Number>"]
["<Beamgroupnumber>33</Beamgroupnumber>"]
["<From_node_number>23</From_node_number>"]
["<To_node_number>2</To_node_number>"]
["<BeamRestraintsBegin>aaa </BeamRestraintsBegin>"]
["<BeamRestraintsEnd>aaaaaa</BeamRestraintsEnd>"]
["<NumbLateralRestraints>0</NumbLateralRestraints>"]
["<Angle>0</Angle>"]
["<Angle_profile>0</Angle_profile>"]
["<Profile_number>1</Profile_number>"]
["<Z>0</Z>"]
["<Top_Center_Bottom>Center</Top_Center_Bottom>"]
["<Number>34</Number>"]
["<Beamgroupnumber>34</Beamgroupnumber>"]
["<From_node_number>31</From_node_number>"]
["<To_node_number>337</To_node_number>"]
["<BeamRestraintsBegin>aaa </BeamRestraintsBegin>"]
["<BeamRestraintsEnd>aaaaaa</BeamRestraintsEnd>"]
["<NumbLateralRestraints>0</NumbLateralRestraints>"]
["<Angle>0</Angle>"]
["<Angle_profile>90</Angle_profile>"]
["<Profile_number>3</Profile_number>"]
["<Z>0</Z>"]
["<Top_Center_Bottom>Center</Top_Center_Bottom>"]
["<Number>35</Number>"]
["<Beamgroupnumber>35</Beamgroupnumber>"]
["<From_node_number>337</From_node_number>"]
["<To_node_number>60</To_node_number>"]
["<BeamRestraintsBegin>aaa </BeamRestraintsBegin>"]
["<BeamRestraintsEnd>aaaaaa</BeamRestraintsEnd>"]
["<NumbLateralRestraints>0</NumbLateralRestraints>"]
["<Angle>0</Angle>"]
["<Angle_profile>90</Angle_profile>"]
["<Profile_number>3</Profile_number>"]
["<Z>0</Z>"]
["<Top_Center_Bottom>Center</Top_Center_Bottom>"]
["<Number>36</Number>"]
["<Beamgroupnumber>36</Beamgroupnumber>"]
["<From_node_number>33</From_node_number>"]
["<To_node_number>76</To_node_number>"]
["<BeamRestraintsBegin>aaa </BeamRestraintsBegin>"]
["<BeamRestraintsEnd>aaa </BeamRestraintsEnd>"]
["<NumbLateralRestraints>0</NumbLateralRestraints>"]
["<Angle>0</Angle>"]
["<Angle_profile>90</Angle_profile>"]
["<Profile_number>3</Profile_number>"]
["<Z>0</Z>"]
["<Top_Center_Bottom>Center</Top_Center_Bottom>"]
["<Number>37</Number>"]
["<Beamgroupnumber>37</Beamgroupnumber>"]
["<From_node_number>35</From_node_number>"]
["<To_node_number>65</To_node_number>"]
["<BeamRestraintsBegin>aaa </BeamRestraintsBegin>"]
["<BeamRestraintsEnd>aaa </BeamRestraintsEnd>"]
["<NumbLateralRestraints>0</NumbLateralRestraints>"]
["<Angle>0</Angle>"]
["<Angle_profile>90</Angle_profile>"]
["<Profile_number>3</Profile_number>"]
["<Z>0</Z>"]
["<Top_Center_Bottom>Center</Top_Center_Bottom>"]
["<Number>38</Number>"]
["<Beamgroupnumber>38</Beamgroupnumber>"]
["<From_node_number>24</From_node_number>"]
["<To_node_number>77</To_node_number>"]
["<BeamRestraintsBegin>aaa </BeamRestraintsBegin>"]
["<BeamRestraintsEnd>aaaaaa</BeamRestraintsEnd>"]
["<NumbLateralRestraints>0</NumbLateralRestraints>"]
["<Angle>0</Angle>"]
["<Angle_profile>90</Angle_profile>"]
["<Profile_number>3</Profile_number>"]
["<Z>0</Z>"]
["<Top_Center_Bottom>Center</Top_Center_Bottom>"]
["<Number>39</Number>"]
["<Beamgroupnumber>39</Beamgroupnumber>"]
["<From_node_number>77</From_node_number>"]
["<To_node_number>36</To_node_number>"]
["<BeamRestraintsBegin>aaa </BeamRestraintsBegin>"]
["<BeamRestraintsEnd>aaaaaa</BeamRestraintsEnd>"]
["<NumbLateralRestraints>0</NumbLateralRestraints>"]
["<Angle>0</Angle>"]
["<Angle_profile>90</Angle_profile>"]
["<Profile_number>3</Profile_number>"]
["<Z>0</Z>"]
["<Top_Center_Bottom>Center</Top_Center_Bottom>"]
["<Number>40</Number>"]
["<Beamgroupnumber>40</Beamgroupnumber>"]
["<From_node_number>32</From_node_number>"]
["<To_node_number>73</To_node_number>"]
["<BeamRestraintsBegin>aaa </BeamRestraintsBegin>"]
["<BeamRestraintsEnd>aaa </BeamRestraintsEnd>"]
["<NumbLateralRestraints>0</NumbLateralRestraints>"]
["<Angle>0</Angle>"]
["<Angle_profile>90</Angle_profile>"]
["<Profile_number>3</Profile_number>"]
["<Z>0</Z>"]
["<Top_Center_Bottom>Center</Top_Center_Bottom>"]
["<Number>41</Number>"]
["<Beamgroupnumber>41</Beamgroupnumber>"]
["<From_node_number>34</From_node_number>"]
["<To_node_number>62</To_node_number>"]
["<BeamRestraintsBegin>aaa </BeamRestraintsBegin>"]
["<BeamRestraintsEnd>aaa </BeamRestraintsEnd>"]
["<NumbLateralRestraints>0</NumbLateralRestraints>"]
["<Angle>0</Angle>"]
["<Angle_profile>90</Angle_profile>"]
["<Profile_number>3</Profile_number>"]
["<Z>0</Z>"]
["<Top_Center_Bottom>Center</Top_Center_Bottom>"]
["</Beams>"]
["<Plates>"]
["<Number>1</Number>"]
["<Node>77</Node>"]
["<Node>73</Node>"]
["<Node>62</Node>"]
["<Node>36</Node>"]
["<Node>38</Node>"]
["<Node>42</Node>"]
["<Node>46</Node>"]
["<Node>50</Node>"]
["<Node>54</Node>"]
["<Node>58</Node>"]
["<Node>60</Node>"]
["<Node>65</Node>"]
["<Node>76</Node>"]
["<Node>337</Node>"]
["<h>56</h>"]
["<Material_type>Timber</Material_type>"]
["<Material>C24</Material>"]
["<Z>0</Z>"]
["<Top_Center_Bottom>Center</Top_Center_Bottom>"]
["</Plates>"]
["<Panels>"]
["<Number>1</Number>"]
["<Description/>"]
["<LoadBearingDirection>Y</LoadBearingDirection>"]
["<SurfaceType>saddle_roof_positive_pitch</SurfaceType>"]
["<NodeX>5400</NodeX>"]
["<NodeY>8000</NodeY>"]
["<NodeZ>0</NodeZ>"]
["<NodeX>5400</NodeX>"]
["<NodeY>4000</NodeY>"]
["<NodeZ>4000</NodeZ>"]
["<NodeX>0</NodeX>"]
["<NodeY>4000</NodeY>"]
["<NodeZ>4000</NodeZ>"]
["<NodeX>0</NodeX>"]
["<NodeY>8000</NodeY>"]
["<NodeZ>0</NodeZ>"]
["<Number>2</Number>"]
["<Description/>"]
["<LoadBearingDirection>Y</LoadBearingDirection>"]
["<SurfaceType>saddle_roof_positive_pitch</SurfaceType>"]
["<NodeX>0</NodeX>"]
["<NodeY>0</NodeY>"]
["<NodeZ>0</NodeZ>"]
["<NodeX>0</NodeX>"]
["<NodeY>4000</NodeY>"]
["<NodeZ>4000</NodeZ>"]
["<NodeX>5400</NodeX>"]
["<NodeY>4000</NodeY>"]
["<NodeZ>4000</NodeZ>"]
["<NodeX>5400</NodeX>"]
["<NodeY>0</NodeY>"]
["<NodeZ>0</NodeZ>"]
["</Panels>"]
["<LoadCases>"]
["<Number>1</Number>"]
["<Description>Dead load</Description>"]
["<Type>0</Type>"]
["<psi0>1</psi0>"]
["<psi1>1</psi1>"]
["<psi2>1</psi2>"]
["<Number>2</Number>"]
["<Description>Live load</Description>"]
["<Type>5</Type>"]
["<psi0>1</psi0>"]
["<psi1>0,9</psi1>"]
["<psi2>0,8</psi2>"]
["</LoadCases>"]
["<BeamLoads/>"]
["<SurfaceLoads>"]
["<LoadCaseNumber>1</LoadCaseNumber>"]
["<Number>1</Number>"]
["<Description/>"]
["<NodeX>0</NodeX>"]
["<NodeY>0</NodeY>"]
["<NodeZ>0</NodeZ>"]
["<NodeX>0</NodeX>"]
["<NodeY>4000</NodeY>"]
["<NodeZ>4000</NodeZ>"]
["<NodeX>1000</NodeX>"]
["<NodeY>4000</NodeY>"]
["<NodeZ>4000</NodeZ>"]
["<NodeX>1000</NodeX>"]
["<NodeY>0</NodeY>"]
["<NodeZ>0</NodeZ>"]
["<Coordinate_system>global</Coordinate_system>"]
["<Direction>Z</Direction>"]
["<LoadBearingDirection>X</LoadBearingDirection>"]
["<q1>-0,7</q1>"]
["<q2>-2,5</q2>"]
["<q3>-2,5</q3>"]
["<LoadConstantOrLinear>constant</LoadConstantOrLinear>"]
["<iq1>-1</iq1>"]
["<iq2>-1</iq2>"]
["<iq3>-1</iq3>"]
["<LoadCaseNumber>1</LoadCaseNumber>"]
["<Number>1</Number>"]
["<Description/>"]
["<NodeX>4400</NodeX>"]
["<NodeY>0</NodeY>"]
["<NodeZ>0</NodeZ>"]
["<NodeX>4400</NodeX>"]
["<NodeY>4000</NodeY>"]
["<NodeZ>4000</NodeZ>"]
["<NodeX>5400</NodeX>"]
["<NodeY>4000</NodeY>"]
["<NodeZ>4000</NodeZ>"]
["<NodeX>5400</NodeX>"]
["<NodeY>0</NodeY>"]
["<NodeZ>0</NodeZ>"]
["<Coordinate_system>global</Coordinate_system>"]
["<Direction>Z</Direction>"]
["<LoadBearingDirection>X</LoadBearingDirection>"]
["<q1>-0,7</q1>"]
["<q2>-2,5</q2>"]
["<q3>-2,5</q3>"]
["<LoadConstantOrLinear>constant</LoadConstantOrLinear>"]
["<iq1>-1</iq1>"]
["<iq2>-1</iq2>"]
["<iq3>-1</iq3>"]
["<LoadCaseNumber>1</LoadCaseNumber>"]
["<Number>2</Number>"]
["<Description/>"]
["<NodeX>1000</NodeX>"]
["<NodeY>4000</NodeY>"]
["<NodeZ>4000</NodeZ>"]
["<NodeX>4400</NodeX>"]
["<NodeY>4000</NodeY>"]
["<NodeZ>4000</NodeZ>"]
["<NodeX>4400</NodeX>"]
["<NodeY>2700</NodeY>"]
["<NodeZ>2700</NodeZ>"]
["<NodeX>1000</NodeX>"]
["<NodeY>2700</NodeY>"]
["<NodeZ>2700</NodeZ>"]
["<Coordinate_system>global</Coordinate_system>"]
["<Direction>Z</Direction>"]
["<LoadBearingDirection>X</LoadBearingDirection>"]
["<q1>-0,7</q1>"]
["<q2>-2,5</q2>"]
["<q3>-2,5</q3>"]
["<LoadConstantOrLinear>constant</LoadConstantOrLinear>"]
["<iq1>-1</iq1>"]
["<iq2>-1</iq2>"]
["<iq3>-1</iq3>"]
["<LoadCaseNumber>1</LoadCaseNumber>"]
["<Number>3</Number>"]
["<Description/>"]
["<NodeX>1000</NodeX>"]
["<NodeY>1000</NodeY>"]
["<NodeZ>2700</NodeZ>"]
["<NodeX>1000</NodeX>"]
["<NodeY>2700</NodeY>"]
["<NodeZ>2700</NodeZ>"]
["<NodeX>4400</NodeX>"]
["<NodeY>2700</NodeY>"]
["<NodeZ>2700</NodeZ>"]
["<NodeX>4400</NodeX>"]
["<NodeY>1000</NodeY>"]
["<NodeZ>2700</NodeZ>"]
["<Coordinate_system>Local</Coordinate_system>"]
["<Direction>Z</Direction>"]
["<LoadBearingDirection>X</LoadBearingDirection>"]
["<q1>-0,5</q1>"]
["<q2>-2,5</q2>"]
["<q3>-2,5</q3>"]
["<LoadConstantOrLinear>constant</LoadConstantOrLinear>"]
["<iq1>-1</iq1>"]
["<iq2>-1</iq2>"]
["<iq3>-1</iq3>"]
["<LoadCaseNumber>1</LoadCaseNumber>"]
["<Number>4</Number>"]
["<Description/>"]
["<NodeX>1000</NodeX>"]
["<NodeY>0</NodeY>"]
["<NodeZ>0</NodeZ>"]
["<NodeX>1000</NodeX>"]
["<NodeY>999,999999999997</NodeY>"]
["<NodeZ>999,999999999997</NodeZ>"]
["<NodeX>4400</NodeX>"]
["<NodeY>999,999999999997</NodeY>"]
["<NodeZ>999,999999999997</NodeZ>"]
["<NodeX>4400</NodeX>"]
["<NodeY>0</NodeY>"]
["<NodeZ>0</NodeZ>"]
["<Coordinate_system>global</Coordinate_system>"]
["<Direction>Z</Direction>"]
["<LoadBearingDirection>X</LoadBearingDirection>"]
["<q1>-0,7</q1>"]
["<q2>-2,5</q2>"]
["<q3>-2,5</q3>"]
["<LoadConstantOrLinear>constant</LoadConstantOrLinear>"]
["<iq1>-1</iq1>"]
["<iq2>-1</iq2>"]
["<iq3>-1</iq3>"]
["<LoadCaseNumber>1</LoadCaseNumber>"]
["<Number>5</Number>"]
["<Description/>"]
["<NodeX>5400</NodeX>"]
["<NodeY>8000</NodeY>"]
["<NodeZ>0</NodeZ>"]
["<NodeX>5400</NodeX>"]
["<NodeY>4000</NodeY>"]
["<NodeZ>4000</NodeZ>"]
["<NodeX>0</NodeX>"]
["<NodeY>4000</NodeY>"]
["<NodeZ>4000</NodeZ>"]
["<NodeX>0</NodeX>"]
["<NodeY>8000</NodeY>"]
["<NodeZ>0</NodeZ>"]
["<Coordinate_system>global</Coordinate_system>"]
["<Direction>Z</Direction>"]
["<LoadBearingDirection>X</LoadBearingDirection>"]
["<q1>-0,7</q1>"]
["<q2>-2,5</q2>"]
["<q3>-2,5</q3>"]
["<LoadConstantOrLinear>constant</LoadConstantOrLinear>"]
["<iq1>-1</iq1>"]
["<iq2>-1</iq2>"]
["<iq3>-1</iq3>"]
["</SurfaceLoads>"]
["<Combinations>"]
["<LoadCombinationNumber>1</LoadCombinationNumber>"]
["<Description>Dead load</Description>"]
["<CombTyp>0</CombTyp>"]
["<Case>1</Case>"]
["<Psi>1</Psi>"]
["<Gamma>1,35</Gamma>"]
["<Case>2</Case>"]
["<Psi>1</Psi>"]
["<Gamma>1,5</Gamma>"]
["<LoadCombinationNumber>2</LoadCombinationNumber>"]
["<Description>Live load</Description>"]
["<CombTyp>0</CombTyp>"]
["<Case>1</Case>"]
["<Psi>1</Psi>"]
["<Gamma>1,2</Gamma>"]
["<Case>2</Case>"]
["<Psi>1</Psi>"]
["<Gamma>1,5</Gamma>"]
["<LoadCombinationNumber>3</LoadCombinationNumber>"]
["<Description>Dead load</Description>"]
["<CombTyp>3</CombTyp>"]
["<Case>1</Case>"]
["<Psi>1</Psi>"]
["<Gamma>1</Gamma>"]
["<Case>2</Case>"]
["<Psi>1</Psi>"]
["<Gamma>1</Gamma>"]
["<LoadCombinationNumber>4</LoadCombinationNumber>"]
["<Description>Live load</Description>"]
["<CombTyp>3</CombTyp>"]
["<Case>1</Case>"]
["<Psi>1</Psi>"]
["<Gamma>1</Gamma>"]
["<Case>2</Case>"]
["<Psi>1</Psi>"]
["<Gamma>1</Gamma>"]
["<LoadCombinationNumber>5</LoadCombinationNumber>"]
["<Description>SLS Permanent</Description>"]
["<CombTyp>4</CombTyp>"]
["<Case>1</Case>"]
["<Psi>1</Psi>"]
["<Gamma>1</Gamma>"]
["<LoadCombinationNumber>6</LoadCombinationNumber>"]
["<Description>SLS Quasi-permanent</Description>"]
["<CombTyp>2</CombTyp>"]
["<Case>1</Case>"]
["<Psi>1</Psi>"]
["<Gamma>1</Gamma>"]
["<Case>2</Case>"]
["<Psi>0,8</Psi>"]
["<Gamma>1</Gamma>"]
["</Combinations>"]
["<RebarLongitudinal/>"]
["<RebarStirrup/>"]
["<Layers>"]
["<Layer_number>1</Layer_number>"]
["<Layer_description>Layer 1</Layer_description>"]
["<Layer_number>2</Layer_number>"]
["<Layer_description>Layer 2</Layer_description>"]
["<Layer_number>3</Layer_number>"]
["<Layer_description>Layer 3</Layer_description>"]
["<Layer_number>4</Layer_number>"]
["<Layer_description>Layer 4</Layer_description>"]
["<Layer_number>5</Layer_number>"]
["<Layer_description>Layer 5</Layer_description>"]
["<Layer_number>6</Layer_number>"]
["<Layer_description>Layer 6</Layer_description>"]
["<Layer_number>7</Layer_number>"]
["<Layer_description>Layer 7</Layer_description>"]
["<Layer_number>8</Layer_number>"]
["<Layer_description>Layer 8</Layer_description>"]
["<Layer_number>9</Layer_number>"]
["<Layer_description>Layer 9</Layer_description>"]
["<Layer_number>10</Layer_number>"]
["<Layer_description>Layer 10</Layer_description>"]
["<Layer_number>11</Layer_number>"]
["<Layer_description>Layer 11</Layer_description>"]
["<Layer_number>12</Layer_number>"]
["<Layer_description>Layer 12</Layer_description>"]
["<Layer_number>13</Layer_number>"]
["<Layer_description>Layer 13</Layer_description>"]
["<Layer_number>14</Layer_number>"]
["<Layer_description>Layer 14</Layer_description>"]
["<Layer_number>15</Layer_number>"]
["<Layer_description>Layer 15</Layer_description>"]
["<Layer_number>16</Layer_number>"]
["<Layer_description>Layer 16</Layer_description>"]
["<Layer_number>17</Layer_number>"]
["<Layer_description>Layer 17</Layer_description>"]
["<Layer_number>18</Layer_number>"]
["<Layer_description>Layer 18</Layer_description>"]
["<Layer_number>19</Layer_number>"]
["<Layer_description>Layer 19</Layer_description>"]
["<Layer_number>20</Layer_number>"]
["<Layer_description>Layer 20</Layer_description>"]
["<Layer_number>21</Layer_number>"]
["<Layer_description>Layer 21</Layer_description>"]
["<Layer_number>22</Layer_number>"]
["<Layer_description>Layer 22</Layer_description>"]
["<Layer_number>23</Layer_number>"]
["<Layer_description>Layer 23</Layer_description>"]
["<Layer_number>24</Layer_number>"]
["<Layer_description>Layer 24</Layer_description>"]
["<Layer_number>25</Layer_number>"]
["<Layer_description>Layer 25</Layer_description>"]
["</Layers>"]
["</Frame>"]

{"sheet":"VAK1_XML","index":31,"n_rows":348,"n_cols":1,"rows_kept":348,"cut":false,"hidden":true,"merged":[]}
["<Frame>"]
[{"$f":"\"<ProjectName>\" & INHOUD!C13 & \"</ProjectName>\"","v":"<ProjectName>Test project</ProjectName>"}]
[{"$f":"\"<ProjectNumber>\" & INHOUD!C12 & \"</ProjectNumber>\"","v":"<ProjectNumber>0</ProjectNumber>"}]
[{"$f":"\"<ConsequenceClass>\"& INHOUD!C14 & \"</ConsequenceClass>\"","v":"<ConsequenceClass>CC2</ConsequenceClass>"}]
["<DesignWorkingLife>50</DesignWorkingLife>"]
["<ExportDateTime>2024-05-20 21:34:41Z</ExportDateTime>"]
["<XMLExportVersion>v4.0.30319</XMLExportVersion>"]
["<Nodes>"]
["<Number>1</Number>"]
[{"$f":"'VAK1'!Y3","v":"<X>380</X>"}]
[{"$f":"'VAK1'!Z3","v":"<Z>0</Z>"}]
["<Number>2</Number>"]
[{"$f":"'VAK1'!Y4","v":"<X>6840</X>"}]
[{"$f":"'VAK1'!Z4","v":"<Z>0</Z>"}]
["<Number>3</Number>"]
[{"$f":"'VAK1'!Y5","v":"<X>0</X>"}]
[{"$f":"'VAK1'!Z5","v":"<Z>700</Z>"}]
["<Number>4</Number>"]
[{"$f":"'VAK1'!Y6","v":"<X>593,52</X>"}]
[{"$f":"'VAK1'!Z6","v":"<Z>700</Z>"}]
["<Number>5</Number>"]
[{"$f":"'VAK1'!Y7","v":"<X>6626,48</X>"}]
[{"$f":"'VAK1'!Z7","v":"<Z>700</Z>"}]
["<Number>6</Number>"]
[{"$f":"'VAK1'!Y8","v":"<X>7220</X>"}]
[{"$f":"'VAK1'!Z8","v":"<Z>700</Z>"}]
["<Number>7</Number>"]
[{"$f":"'VAK1'!Y9","v":"<X>863,47</X>"}]
[{"$f":"'VAK1'!Z9","v":"<Z>1585</Z>"}]
["<Number>8</Number>"]
[{"$f":"'VAK1'!Y10","v":"<X>6356,53</X>"}]
[{"$f":"'VAK1'!Z10","v":"<Z>1585</Z>"}]
["<Number>9</Number>"]
[{"$f":"'VAK1'!Y11","v":"<X>1717,19</X>"}]
[{"$f":"'VAK1'!Z11","v":"<Z>2460</Z>"}]
["<Number>10</Number>"]
[{"$f":"'VAK1'!Y12","v":"<X>3610</X>"}]
[{"$f":"'VAK1'!Z12","v":"<Z>2460</Z>"}]
["<Number>11</Number>"]
[{"$f":"'VAK1'!Y13","v":"<X>5502,81</X>"}]
[{"$f":"'VAK1'!Z13","v":"<Z>2460</Z>"}]
["<Number>12</Number>"]
[{"$f":"'VAK1'!Y14","v":"<X>3610</X>"}]
[{"$f":"'VAK1'!Z14","v":"<Z>4400</Z>"}]
["</Nodes>"]
["<Supports>"]
["<Number>1</Number>"]
["<Nodenumber>1</Nodenumber>"]
["<Tx>A</Tx>"]
["<Tz>A</Tz>"]
["<Ry> </Ry>"]
["<Kx>0</Kx>"]
["<Kz>0</Kz>"]
["<Cy>0</Cy>"]
["<dx>1000</dx>"]
["<dz>0</dz>"]
["<Number>2</Number>"]
["<Nodenumber>2</Nodenumber>"]
["<Tx>A</Tx>"]
["<Tz>A</Tz>"]
["<Ry> </Ry>"]
["<Kx>0</Kx>"]
["<Kz>0</Kz>"]
["<Cy>0</Cy>"]
["<dx>1000</dx>"]
["<dz>0</dz>"]
["<Number>3</Number>"]
["<Nodenumber>3</Nodenumber>"]
["<Tx> </Tx>"]
["<Tz>A</Tz>"]
["<Ry> </Ry>"]
["<Kx>0</Kx>"]
["<Kz>0</Kz>"]
["<Cy>0</Cy>"]
["<dx>1000</dx>"]
["<dz>0</dz>"]
["<Number>4</Number>"]
["<Nodenumber>6</Nodenumber>"]
["<Tx> </Tx>"]
["<Tz>A</Tz>"]
["<Ry> </Ry>"]
["<Kx>0</Kx>"]
["<Kz>0</Kz>"]
["<Cy>0</Cy>"]
["<dx>1000</dx>"]
["<dz>0</dz>"]
["</Supports>"]
["<Grids>"]
[{"$f":"'VAK1'!T32","v":"<X>0 3610 3610</X>"}]
["<X_Lable>"]
["A B C D E F G H I J K L M N O P Q R S T U V W X Y Z"]
["</X_Lable>"]
[{"$f":"'VAK1'!T33","v":"<Z>0 700 1760 1940</Z>"}]
["<Z_Lable/>"]
["</Grids>"]
["<Profiles>"]
["<Number>1</Number>"]
[{"$f":"'VAK1'!V16","v":"<Profile_name>80 x 230</Profile_name>"}]
["<Material_type>2</Material_type>"]
[{"$f":"'VAK1'!T30","v":"<Material>C24</Material>"}]
["<Angle>0</Angle>"]
["<ServiceClass>0</ServiceClass>"]
["<Profile_shape>6</Profile_shape>"]
[{"$f":"'VAK1'!T16","v":"<h>230</h>"}]
[{"$f":"'VAK1'!T17","v":"<b>80</b>"}]
["<tf>230</tf>"]
["<tw>10</tw>"]
["<r1>0</r1>"]
["<r2>20</r2>"]
["<slope>0</slope>"]
["<Number>2</Number>"]
[{"$f":"'VAK1'!V19","v":"<Profile_name>80 x 200</Profile_name>"}]
["<Material_type>2</Material_type>"]
[{"$f":"'VAK1'!T30","v":"<Material>C24</Material>"}]
["<Angle>0</Angle>"]
["<ServiceClass>0</ServiceClass>"]
["<Profile_shape>6</Profile_shape>"]
[{"$f":"'VAK1'!T19","v":"<h>200</h>"}]
[{"$f":"'VAK1'!T20","v":"<b>80</b>"}]
["<tf>200</tf>"]
["<tw>10</tw>"]
["<r1>0</r1>"]
["<r2>20</r2>"]
["<slope>0</slope>"]
["<Number>3</Number>"]
[{"$f":"'VAK1'!V22","v":"<Profile_name>100 x 200</Profile_name>"}]
["<Material_type>2</Material_type>"]
[{"$f":"'VAK1'!T30","v":"<Material>C24</Material>"}]
["<Angle>0</Angle>"]
["<ServiceClass>0</ServiceClass>"]
["<Profile_shape>6</Profile_shape>"]
[{"$f":"'VAK1'!T22","v":"<h>200</h>"}]
[{"$f":"'VAK1'!T23","v":"<b>100</b>"}]
["<tf>200</tf>"]
["<tw>10</tw>"]
["<r1>0</r1>"]
["<r2>20</r2>"]
["<slope>0</slope>"]
["<Number>4</Number>"]
[{"$f":"'VAK1'!V25","v":"<Profile_name>100 x 200</Profile_name>"}]
["<Material_type>2</Material_type>"]
[{"$f":"'VAK1'!T30","v":"<Material>C24</Material>"}]
["<Angle>0</Angle>"]
["<ServiceClass>0</ServiceClass>"]
["<Profile_shape>6</Profile_shape>"]
[{"$f":"'VAK1'!T25","v":"<h>200</h>"}]
[{"$f":"'VAK1'!T26","v":"<b>100</b>"}]
["<tf>200</tf>"]
["<tw>10</tw>"]
["<r1>0</r1>"]
["<r2>20</r2>"]
["<slope>0</slope>"]
["<Number>5</Number>"]
[{"$f":"'VAK1'!V28","v":"<Profile_name>80 x 200</Profile_name>"}]
["<Material_type>2</Material_type>"]
[{"$f":"'VAK1'!T30","v":"<Material>C24</Material>"}]
["<Angle>0</Angle>"]
["<ServiceClass>0</ServiceClass>"]
["<Profile_shape>6</Profile_shape>"]
[{"$f":"'VAK1'!T28","v":"<h>200</h>"}]
[{"$f":"'VAK1'!T29","v":"<b>80</b>"}]
["<tf>200</tf>"]
["<tw>10</tw>"]
["<r1>0</r1>"]
["<r2>20</r2>"]
["<slope>0</slope>"]
["</Profiles>"]
["<Beamgroup>"]
["<Number>1</Number>"]
["<Startnode>3</Startnode>"]
["<Endnode>4</Endnode>"]
["<Number>2</Number>"]
["<Startnode>6</Startnode>"]
["<Endnode>5</Endnode>"]
["<Number>3</Number>"]
["<Startnode>1</Startnode>"]
["<Endnode>7</Endnode>"]
["<Number>4</Number>"]
["<Startnode>2</Startnode>"]
["<Endnode>8</Endnode>"]
["<Number>5</Number>"]
["<Startnode>3</Startnode>"]
["<Endnode>12</Endnode>"]
["<Number>6</Number>"]
["<Startnode>9</Startnode>"]
["<Endnode>11</Endnode>"]
["<Number>7</Number>"]
["<Startnode>12</Startnode>"]
["<Endnode>6</Endnode>"]
["<Number>8</Number>"]
["<Startnode>10</Startnode>"]
["<Endnode>12</Endnode>"]
["</Beamgroup>"]
["<Beams>"]
["<Number>1</Number>"]
["<Beamgroupnumber>1</Beamgroupnumber>"]
["<From_node_number>3</From_node_number>"]
["<To_node_number>4</To_node_number>"]
["<Type>3</Type>"]
["<TypeLoad>0</TypeLoad>"]
["<NumbLateralRestraints>0</NumbLateralRestraints>"]
["<Angle_profile>0</Angle_profile>"]
["<Profile_number>4</Profile_number>"]
["<Number>2</Number>"]
["<Beamgroupnumber>2</Beamgroupnumber>"]
["<From_node_number>6</From_node_number>"]
["<To_node_number>5</To_node_number>"]
["<Type>3</Type>"]
["<TypeLoad>0</TypeLoad>"]
["<NumbLateralRestraints>0</NumbLateralRestraints>"]
["<Angle_profile>0</Angle_profile>"]
["<Profile_number>4</Profile_number>"]
["<Number>3</Number>"]
["<Beamgroupnumber>3</Beamgroupnumber>"]
["<From_node_number>1</From_node_number>"]
["<To_node_number>7</To_node_number>"]
["<Type>2</Type>"]
["<TypeLoad>0</TypeLoad>"]
["<NumbLateralRestraints>0</NumbLateralRestraints>"]
["<Angle_profile>0</Angle_profile>"]
["<Profile_number>2</Profile_number>"]
["<Number>4</Number>"]
["<Beamgroupnumber>4</Beamgroupnumber>"]
["<From_node_number>2</From_node_number>"]
["<To_node_number>8</To_node_number>"]
["<Type>2</Type>"]
["<TypeLoad>0</TypeLoad>"]
["<NumbLateralRestraints>0</NumbLateralRestraints>"]
["<Angle_profile>0</Angle_profile>"]
["<Profile_number>2</Profile_number>"]
["<Number>5</Number>"]
["<Beamgroupnumber>5</Beamgroupnumber>"]
["<From_node_number>3</From_node_number>"]
["<To_node_number>12</To_node_number>"]
["<Type>2</Type>"]
["<TypeLoad>4</TypeLoad>"]
["<NumbLateralRestraints>3</NumbLateralRestraints>"]
["<Angle_profile>0</Angle_profile>"]
["<Profile_number>1</Profile_number>"]
["<Number>6</Number>"]
["<Beamgroupnumber>6</Beamgroupnumber>"]
["<From_node_number>9</From_node_number>"]
["<To_node_number>11</To_node_number>"]
["<Type>3</Type>"]
["<TypeLoad>0</TypeLoad>"]
["<NumbLateralRestraints>0</NumbLateralRestraints>"]
["<Angle_profile>0</Angle_profile>"]
["<Profile_number>3</Profile_number>"]
["<Number>7</Number>"]
["<Beamgroupnumber>7</Beamgroupnumber>"]
["<From_node_number>12</From_node_number>"]
["<To_node_number>6</To_node_number>"]
["<Type>1</Type>"]
["<TypeLoad>4</TypeLoad>"]
["<NumbLateralRestraints>3</NumbLateralRestraints>"]
["<Angle_profile>0</Angle_profile>"]
["<Profile_number>1</Profile_number>"]
["<Number>8</Number>"]
["<Beamgroupnumber>8</Beamgroupnumber>"]
["<From_node_number>10</From_node_number>"]
["<To_node_number>12</To_node_number>"]
["<Type>3</Type>"]
["<TypeLoad>0</TypeLoad>"]
["<NumbLateralRestraints>0</NumbLateralRestraints>"]
["<Angle_profile>0</Angle_profile>"]
["<Profile_number>5</Profile_number>"]
["</Beams>"]
["<LoadCases>"]
["<Number>1</Number>"]
["<Description>Permanent</Description>"]
["<Type>0</Type>"]
["<psi0>1</psi0>"]
["<psi1>1</psi1>"]
["<psi2>1</psi2>"]
["<Number>2</Number>"]
["<Description>Veranderlijk</Description>"]
["<Type>8</Type>"]
["<psi0>0</psi0>"]
["<psi1>0</psi1>"]
["<psi2>0</psi2>"]
["</LoadCases>"]
["<BeamLoads>"]
["<LoadCaseNumber>1</LoadCaseNumber>"]
["<BeamNumber>5</BeamNumber>"]
["<Description/>"]
["<Type>1</Type>"]
[{"$f":"'VAK1'!T36","v":"<Load1>-2,72</Load1>"}]
[{"$f":"'VAK1'!T37","v":"<Load2>-2,72</Load2>"}]
["<a>0</a>"]
["<bL>False</bL>"]
[{"$f":"A301","v":"<L>5169,34231793562</L>"}]
[{"$f":"'VAK1'!T39","v":"<angle>-46</angle>"}]
["<LoadCaseNumber>1</LoadCaseNumber>"]
["<BeamNumber>7</BeamNumber>"]
["<Description/>"]
["<Type>1</Type>"]
[{"$f":"'VAK1'!T36","v":"<Load1>-2,72</Load1>"}]
[{"$f":"'VAK1'!T37","v":"<Load2>-2,72</Load2>"}]
["<a>0</a>"]
["<bL>False</bL>"]
[{"$f":"'VAK1'!T38","v":"<L>5169,34231793562</L>"}]
[{"$f":"'VAK1'!T40","v":"<angle>46</angle>"}]
["</BeamLoads>"]
["<Combinations>"]
["<LoadCombinationNumber>1</LoadCombinationNumber>"]
["<Description>Permanent</Description>"]
["<CombTyp>0</CombTyp>"]
["<Case>1</Case>"]
["<Psi>1</Psi>"]
["<Gamma>1,22</Gamma>"]
["<LoadCombinationNumber>2</LoadCombinationNumber>"]
["<Description>Veranderlijk</Description>"]
["<CombTyp>0</CombTyp>"]
["<Case>1</Case>"]
["<Psi>1</Psi>"]
["<Gamma>1,08</Gamma>"]
["<Case>2</Case>"]
["<Psi>1</Psi>"]
["<Gamma>1,35</Gamma>"]
["<LoadCombinationNumber>3</LoadCombinationNumber>"]
["<Description>Permanent</Description>"]
["<CombTyp>3</CombTyp>"]
["<Case>1</Case>"]
["<Psi>1</Psi>"]
["<Gamma>1</Gamma>"]
["<LoadCombinationNumber>4</LoadCombinationNumber>"]
["<Description>Veranderlijk</Description>"]
["<CombTyp>3</CombTyp>"]
["<Case>1</Case>"]
["<Psi>1</Psi>"]
["<Gamma>1</Gamma>"]
["<Case>2</Case>"]
["<Psi>1</Psi>"]
["<Gamma>1</Gamma>"]
["<LoadCombinationNumber>5</LoadCombinationNumber>"]
["<Description>BGT Blijvend</Description>"]
["<CombTyp>4</CombTyp>"]
["<Case>1</Case>"]
["<Psi>1</Psi>"]
["<Gamma>1</Gamma>"]
["<LoadCombinationNumber>6</LoadCombinationNumber>"]
["<Description>BGT Quasi blijvend</Description>"]
["<CombTyp>2</CombTyp>"]
["<Case>1</Case>"]
["<Psi>1</Psi>"]
["<Gamma>1</Gamma>"]
["</Combinations>"]
["</Frame>"]

{"sheet":"S1_XML","index":32,"n_rows":314,"n_cols":1,"rows_kept":314,"cut":false,"hidden":true,"merged":[]}
["<Frame>"]
[{"$f":"\"<ProjectName>\" & INHOUD!C13 & \"</ProjectName>\"","v":"<ProjectName>Test project</ProjectName>"}]
[{"$f":"\"<ProjectNumber>\" & INHOUD!C12 & \"</ProjectNumber>\"","v":"<ProjectNumber>0</ProjectNumber>"}]
[{"$f":"\"<ConsequenceClass>\"& INHOUD!C14 & \"</ConsequenceClass>\"","v":"<ConsequenceClass>CC2</ConsequenceClass>"}]
["<DesignWorkingLife>50</DesignWorkingLife>"]
["<ExportDateTime>2024-05-22 00:23:23Z</ExportDateTime>"]
["<XMLExportVersion>v4.0.30319</XMLExportVersion>"]
["<Nodes>"]
["<Number>1</Number>"]
["<X>0</X>"]
["<Z>0</Z>"]
["<Number>2</Number>"]
[{"$f":"'S1'!S12","v":"<X>6000</X>"}]
["<Z>0</Z>"]
["<Number>3</Number>"]
["<X>0</X>"]
[{"$f":"'S1'!S8","v":"<Z>2700</Z>"}]
["<Number>4</Number>"]
[{"$f":"'S1'!S10","v":"<X>2000</X>"}]
[{"$f":"A17","v":"<Z>2700</Z>"}]
["<Number>5</Number>"]
[{"$f":"A13","v":"<X>6000</X>"}]
[{"$f":"A20","v":"<Z>2700</Z>"}]
["<Number>6</Number>"]
[{"$f":"A19","v":"<X>2000</X>"}]
[{"$f":"'S1'!S9","v":"<Z>3700</Z>"}]
["<Number>7</Number>"]
[{"$f":"'S1'!S11","v":"<X>5000</X>"}]
[{"$f":"A26","v":"<Z>3700</Z>"}]
["</Nodes>"]
["<Supports>"]
["<Number>1</Number>"]
["<Nodenumber>1</Nodenumber>"]
["<Tx>A</Tx>"]
["<Tz>A</Tz>"]
["<Ry> </Ry>"]
["<Kx>0</Kx>"]
["<Kz>0</Kz>"]
["<Cy>0</Cy>"]
["<dx>1000</dx>"]
["<dz>0</dz>"]
["<Number>2</Number>"]
["<Nodenumber>2</Nodenumber>"]
["<Tx>A</Tx>"]
["<Tz>A</Tz>"]
["<Ry> </Ry>"]
["<Kx>0</Kx>"]
["<Kz>0</Kz>"]
["<Cy>0</Cy>"]
["<dx>1000</dx>"]
["<dz>0</dz>"]
["<Number>3</Number>"]
["<Nodenumber>7</Nodenumber>"]
["<Tx>A</Tx>"]
["<Tz>A</Tz>"]
["<Ry> </Ry>"]
["<Kx>0</Kx>"]
["<Kz>0</Kz>"]
["<Cy>0</Cy>"]
["<dx>1000</dx>"]
["<dz>0</dz>"]
["</Supports>"]
["<Grids>"]
[{"$f":"'S1'!Q15","v":"<X>0 2000 4000</X>"}]
["<X_Lable>"]
["A B C D E F G H I J K L M N O P Q R S T U V W X Y Z"]
["</X_Lable>"]
[{"$f":"'S1'!Q17","v":"<Z>0 2700 1000</Z>"}]
["<Z_Lable/>"]
["</Grids>"]
["<Profiles>"]
["<Number>1</Number>"]
[{"$f":"'S1'!Q19","v":"<Profile_name>HEA160</Profile_name>"}]
["<Material_type>0</Material_type>"]
["<Material>S 235</Material>"]
["<Angle>0</Angle>"]
["<Profile_shape>1</Profile_shape>"]
["<h>152</h>"]
["<b>160</b>"]
["<tf>9</tf>"]
["<tw>6</tw>"]
["<r1>0</r1>"]
["<r2>15</r2>"]
["<slope>0</slope>"]
["<Number>2</Number>"]
[{"$f":"'S1'!Q20","v":"<Profile_name>HEA260</Profile_name>"}]
["<Material_type>0</Material_type>"]
["<Material>S 235</Material>"]
["<Angle>0</Angle>"]
["<Profile_shape>1</Profile_shape>"]
["<h>250</h>"]
["<b>260</b>"]
["<tf>12,5</tf>"]
["<tw>7,5</tw>"]
["<r1>0</r1>"]
["<r2>24</r2>"]
["<slope>0</slope>"]
["<Number>3</Number>"]
[{"$f":"'S1'!Q21","v":"<Profile_name>IPE220</Profile_name>"}]
["<Material_type>0</Material_type>"]
["<Material>S 235</Material>"]
["<Angle>0</Angle>"]
["<Profile_shape>1</Profile_shape>"]
["<h>220</h>"]
["<b>110</b>"]
["<tf>9,2</tf>"]
["<tw>5,9</tw>"]
["<r1>0</r1>"]
["<r2>12</r2>"]
["<slope>0</slope>"]
["</Profiles>"]
["<Beamgroup>"]
["<Number>1</Number>"]
["<Startnode>1</Startnode>"]
["<Endnode>3</Endnode>"]
["<Number>2</Number>"]
["<Startnode>2</Startnode>"]
["<Endnode>5</Endnode>"]
["<Number>3</Number>"]
["<Startnode>3</Startnode>"]
["<Endnode>5</Endnode>"]
["<Number>4</Number>"]
["<Startnode>4</Startnode>"]
["<Endnode>6</Endnode>"]
["<Number>5</Number>"]
["<Startnode>6</Startnode>"]
["<Endnode>7</Endnode>"]
["</Beamgroup>"]
["<Beams>"]
["<Number>1</Number>"]
["<Beamgroupnumber>1</Beamgroupnumber>"]
["<From_node_number>1</From_node_number>"]
["<To_node_number>3</To_node_number>"]
["<Type>1</Type>"]
["<TypeLoad>0</TypeLoad>"]
["<NumbLateralRestraints>0</NumbLateralRestraints>"]
["<Angle_profile>0</Angle_profile>"]
["<Profile_number>1</Profile_number>"]
["<Number>2</Number>"]
["<Beamgroupnumber>2</Beamgroupnumber>"]
["<From_node_number>2</From_node_number>"]
["<To_node_number>5</To_node_number>"]
["<Type>1</Type>"]
["<TypeLoad>0</TypeLoad>"]
["<NumbLateralRestraints>0</NumbLateralRestraints>"]
["<Angle_profile>0</Angle_profile>"]
["<Profile_number>1</Profile_number>"]
["<Number>3</Number>"]
["<Beamgroupnumber>3</Beamgroupnumber>"]
["<From_node_number>3</From_node_number>"]
["<To_node_number>5</To_node_number>"]
["<Type>1</Type>"]
["<TypeLoad>0</TypeLoad>"]
["<NumbLateralRestraints>0</NumbLateralRestraints>"]
["<Angle_profile>0</Angle_profile>"]
["<Profile_number>2</Profile_number>"]
["<Number>4</Number>"]
["<Beamgroupnumber>4</Beamgroupnumber>"]
["<From_node_number>4</From_node_number>"]
["<To_node_number>6</To_node_number>"]
["<Type>3</Type>"]
["<TypeLoad>0</TypeLoad>"]
["<NumbLateralRestraints>0</NumbLateralRestraints>"]
["<Angle_profile>0</Angle_profile>"]
["<Profile_number>1</Profile_number>"]
["<Number>5</Number>"]
["<Beamgroupnumber>5</Beamgroupnumber>"]
["<From_node_number>6</From_node_number>"]
["<To_node_number>7</To_node_number>"]
["<Type>1</Type>"]
["<TypeLoad>0</TypeLoad>"]
["<NumbLateralRestraints>2</NumbLateralRestraints>"]
["<Angle_profile>0</Angle_profile>"]
["<Profile_number>3</Profile_number>"]
["</Beams>"]
["<LoadCases>"]
["<Number>1</Number>"]
["<Description>Permanent</Description>"]
["<Type>0</Type>"]
["<psi0>1</psi0>"]
["<psi1>1</psi1>"]
["<psi2>1</psi2>"]
["<Number>2</Number>"]
["<Description>Veranderlijk</Description>"]
["<Type>1</Type>"]
["<psi0>0,4</psi0>"]
["<psi1>0,5</psi1>"]
["<psi2>0,3</psi2>"]
["<Number>3</Number>"]
["<Description>Wind</Description>"]
["<Type>10</Type>"]
["<psi0>0</psi0>"]
["<psi1>0,2</psi1>"]
["<psi2>0</psi2>"]
["</LoadCases>"]
["<BeamLoads>"]
["<LoadCaseNumber>1</LoadCaseNumber>"]
["<BeamNumber>3</BeamNumber>"]
["<Description/>"]
["<Type>1</Type>"]
[{"$f":"'S1'!Q23","v":"<Load1>-10</Load1>"}]
[{"$f":"'S1'!Q24","v":"<Load2>-10</Load2>"}]
["<a>0</a>"]
["<bL>False</bL>"]
[{"$f":"'S1'!Q25","v":"<L>6000</L>"}]
["<angle>0</angle>"]
["<LoadCaseNumber>1</LoadCaseNumber>"]
["<BeamNumber>5</BeamNumber>"]
["<Description/>"]
["<Type>1</Type>"]
[{"$f":"'S1'!Q26","v":"<Load1>-5</Load1>"}]
[{"$f":"'S1'!Q27","v":"<Load2>-5</Load2>"}]
["<a>0</a>"]
["<bL>False</bL>"]
[{"$f":"'S1'!Q28","v":"<L>3000</L>"}]
["<angle>0</angle>"]
["<LoadCaseNumber>2</LoadCaseNumber>"]
["<BeamNumber>3</BeamNumber>"]
["<Description/>"]
["<Type>1</Type>"]
[{"$f":"'S1'!Q29","v":"<Load1>-5</Load1>"}]
[{"$f":"'S1'!Q30","v":"<Load2>-5</Load2>"}]
["<a>0</a>"]
["<bL>False</bL>"]
[{"$f":"'S1'!Q31","v":"<L>6000</L>"}]
["<angle>0</angle>"]
["<LoadCaseNumber>2</LoadCaseNumber>"]
["<BeamNumber>5</BeamNumber>"]
["<Description/>"]
["<Type>1</Type>"]
[{"$f":"'S1'!Q32","v":"<Load1>-3</Load1>"}]
[{"$f":"'S1'!Q33","v":"<Load2>-3</Load2>"}]
["<a>0</a>"]
["<bL>False</bL>"]
[{"$f":"'S1'!Q34","v":"<L>3000</L>"}]
["<angle>0</angle>"]
["</BeamLoads>"]
["<NodeLoads>"]
["<LoadCaseNumber>3</LoadCaseNumber>"]
["<NodeNumber>3</NodeNumber>"]
["<Description/>"]
[{"$f":"'S1'!Q35","v":"<Fx>10</Fx>"}]
["<Fz>0</Fz>"]
["<My>0</My>"]
["</NodeLoads>"]
["<Combinations>"]
["<LoadCombinationNumber>1</LoadCombinationNumber>"]
["<Description>Permanent</Description>"]
["<CombTyp>0</CombTyp>"]
["<Case>1</Case>"]
["<Psi>1</Psi>"]
["<Gamma>1,22</Gamma>"]
["<Case>2</Case>"]
["<Psi>0,4</Psi>"]
["<Gamma>1,35</Gamma>"]
["<LoadCombinationNumber>2</LoadCombinationNumber>"]
["<Description>Veranderlijk</Description>"]
["<CombTyp>0</CombTyp>"]
["<Case>1</Case>"]
["<Psi>1</Psi>"]
["<Gamma>1,08</Gamma>"]
["<Case>2</Case>"]
["<Psi>1</Psi>"]
["<Gamma>1,35</Gamma>"]
["<LoadCombinationNumber>3</LoadCombinationNumber>"]
["<Description>Wind</Description>"]
["<CombTyp>0</CombTyp>"]
["<Case>1</Case>"]
["<Psi>1</Psi>"]
["<Gamma>1,08</Gamma>"]
["<Case>2</Case>"]
["<Psi>0,4</Psi>"]
["<Gamma>1,35</Gamma>"]
["<Case>3</Case>"]
["<Psi>1</Psi>"]
["<Gamma>1,35</Gamma>"]
["<LoadCombinationNumber>4</LoadCombinationNumber>"]
["<Description>Permanent</Description>"]
["<CombTyp>3</CombTyp>"]
["<Case>1</Case>"]
["<Psi>1</Psi>"]
["<Gamma>1</Gamma>"]
["<Case>2</Case>"]
["<Psi>0,4</Psi>"]
["<Gamma>1</Gamma>"]
["<LoadCombinationNumber>5</LoadCombinationNumber>"]
["<Description>Veranderlijk</Description>"]
["<CombTyp>3</CombTyp>"]
["<Case>1</Case>"]
["<Psi>1</Psi>"]
["<Gamma>1</Gamma>"]
["<Case>2</Case>"]
["<Psi>1</Psi>"]
["<Gamma>1</Gamma>"]
["<LoadCombinationNumber>6</LoadCombinationNumber>"]
["<Description>Wind</Description>"]
["<CombTyp>3</CombTyp>"]
["<Case>1</Case>"]
["<Psi>1</Psi>"]
["<Gamma>1</Gamma>"]
["<Case>2</Case>"]
["<Psi>0,4</Psi>"]
["<Gamma>1</Gamma>"]
["<Case>3</Case>"]
["<Psi>1</Psi>"]
["<Gamma>1</Gamma>"]
["<LoadCombinationNumber>7</LoadCombinationNumber>"]
["<Description>BGT Blijvend</Description>"]
["<CombTyp>4</CombTyp>"]
["<Case>1</Case>"]
["<Psi>1</Psi>"]
["<Gamma>1</Gamma>"]
["</Combinations>"]
["</Frame>"]